Workbook

Sheet Rezumat
A1: Bacalaureat 2024-2026 — Evoluție, Județul Arad
A2: Analiză comparativă pe unități de învățământ (licee), trei sesiuni consecutive
A3: Sursă: workbook-urile "BAC2024_Arad_analiza.xlsx", "BAC2025_Arad_analiza.xlsx", "BAC2026_Arad_analiza.xlsx" · Fișier prelucrat: 12.09.2026
A5: Indicator (nivel județ) | B5: 2024 | C5: 2025 | D5: 2026 | E5: Δ 2024→2026
A6: Total candidați | B6: 2801 | C6: 2124 | D6: 2765 | E6: =D6-B6 -> -36
A7: Promovați | B7: 1986 | C7: 1438 | D7: 1753 | E7: =D7-B7 -> -233
A8: Nepromovați | B8: 696 | C8: 597 | D8: 850 | E8: =D8-B8 -> 154
A9: Eliminați | B9: 0 | C9: 3 | D9: 2 | E9: =D9-B9 -> 2
A10: Absenți | B10: 119 | C10: 86 | D10: 160 | E10: =D10-B10 -> 41
A11: Rata de promovare (din prezentați) | B11: 74.049217 | C11: 70.559372 | D11: 67.293666 | E11: =D11-B11 -> -6.755551
A12: Rata de promovare (din total candidați) | B12: 70.903249 | C12: 67.702448 | D12: 63.399638 | E12: =D12-B12 -> -7.5036105
A13: Media generală (promovați) | B13: 8.0220141 | C13: 7.9253199 | D13: 7.9323674 | E13: =D13-B13 -> -0.089646728
A14: Media Limba Română | B14: 7.0625501 | C14: 6.8029496 | D14: 6.689505 | E14: =D14-B14 -> -0.37304507
A15: Unități analizate | B15: 42 | C15: 41 | D15: 38 | E15: =D15-B15 -> -4
A16: Rata promovare — URBAN | B16: 78.00554 | C16: 75.445816 | D16: 73.130194 | E16: =D16-B16 -> -4.8753463
A17: Rata promovare — RURAL | B17: 65.906499 | C17: 58.275862 | D17: 54.125 | E17: =D17-B17 -> -11.781499
A19: Notă: rata de promovare și mediile sunt reluate din workbook-urile anuale deja auditate; vezi fila "Metodologie".

Sheet Date_unitati
A1: Nr | B1: Unitate | C1: Localitate | D1: Mediu | E1: Rata_2024 | F1: Rata_2025 | G1: Rata_2026 | H1: Medie_2024 | I1: Medie_2025 | J1: Medie_2026 | K1: Romana_2024 | L1: Romana_2025 | M1: Romana_2026 | N1: NrPrezentati_2024 | O1: NrPrezentati_2025 | P1: NrPrezentati_2026
A2: 1 | B2: COLEGIUL "MIHAI VITEAZUL" INEU | C2: INEU | D2: RURAL | E2: 74.233129 | F2: 73.94958 | G2: 62.804878 | H2: 8.1732231 | I2: 7.8596591 | J2: 7.8958252 | K2: 7.2763636 | L2: 6.8590909 | M2: 6.3298817 | N2: 163 | O2: 119 | P2: 164
A3: 2 | B3: COLEGIUL DE ARTE "SABIN DRĂGOI" ARAD | C3: ARAD | D3: URBAN | E3: 80.672269 | F3: 82.692308 | G3: 77.235772 | H3: 7.6613542 | I3: 7.3261628 | J3: 7.4985263 | K3: 7.1516807 | L3: 6.5785714 | M3: 6.7211382 | N3: 119 | O3: 104 | P3: 123
A4: 3 | B4: COLEGIUL ECONOMIC ARAD | C4: ARAD | D4: URBAN | E4: 89.261745 | F4: 80.672269 | G4: 78.395062 | H4: 7.9397744 | I4: 7.3758333 | J4: 7.5093701 | K4: 7.1196667 | L4: 6.2553719 | M4: 6.4512195 | N4: 149 | O4: 119 | P4: 162
A5: 4 | B5: COLEGIUL NAŢIONAL "ELENA GHIBA BIRTA" ARAD | C5: ARAD | D5: URBAN | E5: 95.757576 | F5: 87.903226 | G5: 86.549708 | H5: 8.2441139 | I5: 7.9115596 | J5: 8.0380405 | K5: 8.0912121 | L5: 7.5152 | M5: 7.8363372 | N5: 165 | O5: 124 | P5: 171
A6: 5 | B6: COLEGIUL NAŢIONAL "MOISE NICOARĂ" ARAD | C6: ARAD | D6: URBAN | E6: 99.421965 | F6: 100 | G6: 98.765432 | H6: 9.0299419 | I6: 8.818 | J6: 8.944125 | K6: 8.7820809 | L6: 8.5845455 | M6: 8.6779141 | N6: 173 | O6: 165 | P6: 162
A7: 6 | B7: COLEGIUL NAŢIONAL "PREPARANDIA-DIMITRIE ŢICHINDEAL" ARAD | C7: ARAD | D7: URBAN | E7: 99.173554 | F7: 100 | G7: 98.449612 | H7: 9.0888333 | I7: 8.9123134 | J7: 9.0682677 | K7: 8.7319672 | L7: 8.694403 | M7: 8.6007752 | N7: 121 | O7: 134 | P7: 129
A8: 7 | B8: COLEGIUL NAŢIONAL "VASILE GOLDIŞ" ARAD | C8: ARAD | D8: URBAN | E8: 96.855346 | F8: 97.540984 | G8: 95.070423 | H8: 8.3914935 | I8: 8.2507563 | J8: 8.3920741 | K8: 8.1877358 | L8: 8.1313008 | M8: 8.0823944 | N8: 159 | O8: 122 | P8: 142
A9: 8 | B9: COLEGIUL PARTICULAR "VASILE GOLDIŞ" ARAD | C9: ARAD | D9: URBAN | E9: 76.923077 | F9: 50 | G9: 56.818182 | H9: 7.2065 | I9: 6.8975 | J9: 7.0524 | K9: 6.1390909 | L9: 5.6470588 | M9: 5.8606383 | N9: 52 | O9: 16 | P9: 44
A10: 9 | B10: COLEGIUL"CSIKY GERGELY" ARAD | C10: ARAD | D10: RURAL | E10: 70.588235 | F10: 81.395349 | G10: 86 | H10: 7.6558333 | I10: 7.8914286 | J10: 7.8169767 | K10: 6.1114286 | L10: 6.8965116 | M10: 7.222 | N10: 34 | O10: 43 | P10: 50
A11: 10 | B11: LICEUL "ATANASIE MARIENESCU" LIPOVA | C11: LIPOVA | D11: URBAN | E11: 42.307692 | F11: 42.1875 | G11: 45.3125 | H11: 7.6536364 | I11: 7.6807407 | J11: 7.552069 | K11: 6.17625 | L11: 6.0746269 | M11: 5.4463768 | N11: 78 | O11: 64 | P11: 64
A12: 11 | B12: LICEUL "IOAN BUTEANU" GURAHONŢ | C12: GURAHONŢ | D12: RURAL | E12: 76.923077 | F12: 70.731707 | G12: 58.181818 | H12: 7.8045 | I12: 7.9117241 | J12: 7.8109375 | K12: 6.6915094 | L12: 6.25 | M12: 6.1392857 | N12: 52 | O12: 41 | P12: 55
A13: 12 | B13: LICEUL "SEVER BOCU" LIPOVA | C13: LIPOVA | D13: URBAN | E13: 75 | F13: 64 | G13: 41.176471 | H13: 7.6941667 | I13: 7.695 | J13: 7.7592857 | K13: 6.559375 | L13: 6.3365385 | M13: 5.7083333 | N13: 32 | O13: 25 | P13: 34
... A15: 14 | B15: LICEUL NAŢIONAL DE INFORMATICĂ ARAD | C15: ARAD | D15: URBAN | E15: 89.88764 | F15: 68.852459 | G15: 73.626374 | H15: 7.968125 | I15: 7.7359524 | J15: 7.8307463 | K15: 7.7630435 | L15: 6.9145161 | M15: 7.3619565 | N15: 89 | O15: 61 | P15: 91
A16: 15 | B16: LICEUL SPECIAL "SFÂNTA MARIA" ARAD | C16: ARAD | D16: URBAN | E16: 100 | H16: 8.34 | K16: 8.2 | N16: 2 | O16: 0 | P16: 0
A17: 16 | B17: LICEUL TEHNOLOGIC "AUREL VLAICU" ARAD | C17: ARAD | D17: RURAL | E17: 38.235294 | F17: 38.461538 | H17: 6.6284615 | I17: 6.996 | K17: 5.5333333 | L17: 5.7433333 | N17: 34 | O17: 13 | P17: 0
A18: 17 | B18: LICEUL TEHNOLOGIC "EMIL CRĂCIUN LĂZUREANU" BELIU | C18: BELIU | D18: RURAL | E18: 51.724138 | F18: 29.411765 | G18: 33.333333 | H18: 7.2146667 | I18: 8.066 | J18: 7.9375 | K18: 5.7068966 | L18: 5.7176471 | M18: 4.9071429 | N18: 29 | O18: 17 | P18: 12
A19: 18 | B19: LICEUL TEHNOLOGIC "FRANCISC NEUMAN" ARAD | C19: ARAD | D19: URBAN | E19: 21.83908 | F19: 26.666667 | G19: 18.571429 | H19: 6.8989474 | I19: 6.505625 | J19: 6.8507692 | K19: 5.4073684 | L19: 5.1095588 | M19: 5.1664474 | N19: 87 | O19: 60 | P19: 70
A20: 19 | B20: LICEUL TEHNOLOGIC "ION CREANGĂ" CURTICI | C20: CURTICI | D20: URBAN | E20: 75 | F20: 61.904762 | G20: 80 | H20: 7.7288889 | I20: 7.5053846 | J20: 7.223125 | K20: 6.7416667 | L20: 6.3833333 | M20: 6.8571429 | N20: 24 | O20: 21 | P20: 20
A21: 20 | B21: LICEUL TEHNOLOGIC "MOGA VOIEVOD" HĂLMAGIU | C21: HĂLMAGIU | D21: RURAL | E21: 37.5 | F21: 23.076923 | G21: 30 | H21: 7.3266667 | I21: 7.32 | J21: 6.7866667 | K21: 5.7117647 | L21: 5.11 | M21: 5.3 | N21: 16 | O21: 13 | P21: 10
A22: 21 | B22: LICEUL TEHNOLOGIC "REGINA MARIA" ARAD | C22: ARAD | D22: URBAN | E22: 0 | F22: 0 | G22: 32.307692 | J22: 6.8419048 | K22: 5.48 | L22: 5.3272727 | M22: 5.1949275 | N22: 5 | O22: 11 | P22: 65
A23: 22 | B23: LICEUL TEHNOLOGIC "SAVA BRANCOVICI" INEU | C23: INEU | D23: RURAL | E23: 36 | F23: 42.105263 | G23: 12.903226 | H23: 6.5722222 | I23: 6.72375 | J23: 6.925 | K23: 5.0074074 | L23: 5.4818182 | M23: 4.4219512 | N23: 25 | O23: 19 | P23: 31
A24: 23 | B24: LICEUL TEHNOLOGIC "STEFAN HELL" SÂNTANA | C24: SÂNTANA | D24: URBAN | E24: 46.969697 | F24: 57.894737 | G24: 55.932203 | H24: 7.7177419 | I24: 7.5177273 | J24: 7.4884848 | K24: 5.894697 | L24: 6.1921053 | M24: 6.1258333 | N24: 66 | O24: 38 | P24: 59
A25: 24 | B25: LICEUL TEHNOLOGIC "VASILE JUNCU" MINIŞ | C25: MINIŞ | D25: RURAL | E25: 0 | F25: 10 | G25: 20 | I25: 6.6 | J25: 6.71 | K25: 6.1166667 | L25: 4.45 | M25: 5.505 | N25: 1 | O25: 10 | P25: 10
A26: 25 | B26: LICEUL TEHNOLOGIC CHIŞINEU CRIŞ | C26: CHIŞINEU-CRIŞ | D26: RURAL | E26: 43.859649 | F26: 27.272727 | G26: 12.962963 | H26: 7.0308 | I26: 6.8533333 | J26: 6.8257143 | K26: 5.8841667 | L26: 5.5035714 | M26: 5.0385246 | N26: 57 | O26: 22 | P26: 54
A27: 26 | B27: LICEUL TEHNOLOGIC DE CONSTRUCŢII ŞI PROTECŢIA MEDIULUI ARAD | C27: ARAD | D27: URBAN | E27: 45.238095 | F27: 33.333333 | H27: 6.7873684 | I27: 6.743 | K27: 6.3848837 | L27: 5.590625 | N27: 42 | O27: 30 | P27: 0
A28: 27 | B28: LICEUL TEHNOLOGIC DE ELECTRONICĂ ŞI AUTOMATIZĂRI "CAIUS IACOB" ARAD | C28: ARAD | D28: RURAL | E28: 38.333333 | F28: 28.571429 | H28: 7.0834783 | I28: 6.7 | K28: 5.5515625 | L28: 5.325 | N28: 60 | O28: 28 | P28: 0
A29: 28 | B29: LICEUL TEHNOLOGIC DE INDUSTRIE ALIMENTARĂ ARAD | C29: ARAD | D29: URBAN | E29: 70 | F29: 42.5 | G29: 57 | H29: 7.175873 | I29: 6.8879412 | J29: 6.9854386 | K29: 6.4434343 | L29: 6.0011765 | M29: 6.1831731 | N29: 90 | O29: 80 | P29: 100
A30: 29 | B30: LICEUL TEHNOLOGIC DE TRANSPORTURI AUTO "HENRI COANDĂ" ARAD | C30: ARAD | D30: URBAN | E30: 26.315789 | F30: 27.272727 | H30: 7.172 | I30: 6.4333333 | K30: 5.5152174 | L30: 4.7147059 | N30: 19 | O30: 11 | P30: 0
A31: 30 | B31: LICEUL TEHNOLOGIC DE ȘTIINȚE APLICATE ARAD | C31: ARAD | D31: URBAN | E31: 0 | F31: 0 | G31: 25.773196 | J31: 6.81 | K31: 5.1772727 | L31: 5.5366667 | M31: 5.2371429 | N31: 10 | O31: 14 | P31: 97
A32: 31 | B32: LICEUL TEHNOLOGIC UCECOM "SPIRU HARET" ARAD | C32: ARAD | D32: RURAL | G32: 0 | M32: 3.075 | N32: 0 | O32: 0 | P32: 2
A33: 32 | B33: LICEUL TEHNOLOGIC VINGA | C33: VINGA | D33: RURAL | E33: 33.333333 | F33: 68.421053 | G33: 36.842105 | H33: 6.5975 | I33: 7.5130769 | J33: 7.7914286 | K33: 5.4875 | L33: 6.1447368 | M33: 5.8157895 | N33: 12 | O33: 19 | P33: 19
A34: 33 | B34: LICEUL TEHNOLOGIC ”REGELE MIHAI I” SĂVÂRŞIN | C34: SĂVÂRŞIN | D34: RURAL | E34: 73.913043 | F34: 30 | G34: 40.909091 | H34: 7.5558824 | I34: 7.6333333 | J34: 7.1144444 | K34: 7.1065217 | L34: 6.1326087 | M34: 6.3431818 | N34: 23 | O34: 20 | P34: 22
A35: 34 | B35: LICEUL TEOLOGIC BAPTIST "ALEXA POPOVICI" ARAD | C35: ARAD | D35: URBAN | E35: 98.305085 | F35: 100 | G35: 100 | H35: 8.712931 | I35: 8.4278431 | J35: 8.6938462 | K35: 8.45 | L35: 8.1176471 | M35: 8.6990385 | N35: 59 | O35: 51 | P35: 52
A36: 35 | B36: LICEUL TEOLOGIC PENTICOSTAL ARAD | C36: ARAD | D36: URBAN | E36: 78.846154 | F36: 80.645161 | G36: 73.333333 | H36: 7.4436585 | I36: 7.5488 | J36: 7.3587879 | K36: 7.0961538 | L36: 6.9967742 | M36: 6.6354167 | N36: 52 | O36: 31 | P36: 45
A37: 36 | B37: LICEUL TEORETIC "ADAM MULLER GUTTENBRUNN" ARAD | C37: ARAD | D37: URBAN | E37: 83.809524 | F37: 90.909091 | G37: 79.381443 | H37: 7.7810227 | I37: 8.002 | J37: 7.848961 | K37: 7.4117925 | L37: 7.5266667 | M37: 7.1597938 | N37: 105 | O37: 44 | P37: 97
A38: 37 | B38: LICEUL TEORETIC "GHEORGHE LAZĂR" PECICA | C38: PECICA | D38: URBAN | E38: 41.463415 | F38: 35.714286 | G38: 47.727273 | H38: 7.5505882 | I38: 6.85 | J38: 6.9933333 | K38: 5.7093023 | L38: 5.1774194 | M38: 5.5923913 | N38: 41 | O38: 28 | P38: 44
A39: 38 | B39: LICEUL TEORETIC "JOZEF GREGOR TAJOVSKY" NĂDLAC | C39: NĂDLAC | D39: URBAN | E39: 72.881356 | F39: 61.363636 | G39: 52.380952 | H39: 7.8281395 | I39: 7.9392593 | J39: 7.5518182 | K39: 6.8758333 | L39: 6.4761364 | M39: 5.8977612 | N39: 59 | O39: 44 | P39: 63
A40: 39 | B40: LICEUL TEORETIC "MIHAI VELICIU" CHIŞINEU CRIŞ | C40: CHIŞINEU-CRIŞ | D40: RURAL | E40: 93.617021 | F40: 64.615385 | G40: 81.904762 | H40: 8.17875 | I40: 7.7783333 | J40: 7.9268605 | K40: 7.7851064 | L40: 6.6215385 | M40: 7.1538095 | N40: 94 | O40: 65 | P40: 105
A41: 40 | B41: LICEUL TEORETIC CERMEI | C41: CERMEI | D41: RURAL | E41: 40 | F41: 26.666667 | G41: 0 | H41: 7.0133333 | I41: 6.7775 | K41: 5.5205882 | L41: 5.828125 | M41: 6.2 | N41: 15 | O41: 15 | P41: 2
...

Sheet Evoluție promovabilitate
A1: Evoluția ratei de promovare (din candidații prezentați) pe fiecare unitate, 2024→2026, sortată descrescător după rata din 2026. "-" = unitatea nu a avut candidați la Bacalaureat în acel an (nu a existat sau nu a fost identificată în fișierul respectiv).
A3: Loc | B3: Unitate | C3: Localitate | D3: Mediu | E3: 2024 | F3: 2025 | G3: 2026 | H3: Δ 24→25 | I3: Δ 25→26 | J3: Δ total 24→26
A4: 1 | B4: LICEUL TEOLOGIC BAPTIST "ALEXA POPOVICI" ARAD | C4: ARAD | D4: URBAN | E4: =IFERROR(IF(ISBLANK(INDEX(Date_unitati!$E:$E,MATCH($B4,Date_unitati!$B:$B,0))),"-",INDEX(Date_unitati!$E:$E,MATCH($B4,Date_unitati!$B:$B,0))),"-") -> 98.305085 | F4: =IFERROR(IF(ISBLANK(INDEX(Date_unitati!$F:$F,MATCH($B4,Date_unitati!$B:$B,0))),"-",INDEX(Date_unitati!$F:$F,MATCH($B4,Date_unitati!$B:$B,0))),"-") -> 100 | G4: =IFERROR(IF(ISBLANK(INDEX(Date_unitati!$G:$G,MATCH($B4,Date_unitati!$B:$B,0))),"-",INDEX(Date_unitati!$G:$G,MATCH($B4,Date_unitati!$B:$B,0))),"-") -> 100 | H4: =IFERROR(ROUND(F4-E4,2),"-") -> 1.69 | I4: =IFERROR(ROUND(G4-F4,2),"-") -> 0 | J4: =IFERROR(ROUND(G4-E4,2),"-") -> 1.69
A5: 2 | B5: COLEGIUL NAŢIONAL "MOISE NICOARĂ" ARAD | C5: ARAD | D5: URBAN | E5: =IFERROR(IF(ISBLANK(INDEX(Date_unitati!$E:$E,MATCH($B5,Date_unitati!$B:$B,0))),"-",INDEX(Date_unitati!$E:$E,MATCH($B5,Date_unitati!$B:$B,0))),"-") -> 99.421965 | F5: =IFERROR(IF(ISBLANK(INDEX(Date_unitati!$F:$F,MATCH($B5,Date_unitati!$B:$B,0))),"-",INDEX(Date_unitati!$F:$F,MATCH($B5,Date_unitati!$B:$B,0))),"-") -> 100 | G5: =IFERROR(IF(ISBLANK(INDEX(Date_unitati!$G:$G,MATCH($B5,Date_unitati!$B:$B,0))),"-",INDEX(Date_unitati!$G:$G,MATCH($B5,Date_unitati!$B:$B,0))),"-") -> 98.765432 | H5: =IFERROR(ROUND(F5-E5,2),"-") -> 0.58 | I5: =IFERROR(ROUND(G5-F5,2),"-") -> -1.23 | J5: =IFERROR(ROUND(G5-E5,2),"-") -> -0.66
A6: 3 | B6: COLEGIUL NAŢIONAL "PREPARANDIA-DIMITRIE ŢICHINDEAL" ARAD | C6: ARAD | D6: URBAN | E6: =IFERROR(IF(ISBLANK(INDEX(Date_unitati!$E:$E,MATCH($B6,Date_unitati!$B:$B,0))),"-",INDEX(Date_unitati!$E:$E,MATCH($B6,Date_unitati!$B:$B,0))),"-") -> 99.173554 | F6: =IFERROR(IF(ISBLANK(INDEX(Date_unitati!$F:$F,MATCH($B6,Date_unitati!$B:$B,0))),"-",INDEX(Date_unitati!$F:$F,MATCH($B6,Date_unitati!$B:$B,0))),"-") -> 100 | G6: =IFERROR(IF(ISBLANK(INDEX(Date_unitati!$G:$G,MATCH($B6,Date_unitati!$B:$B,0))),"-",INDEX(Date_unitati!$G:$G,MATCH($B6,Date_unitati!$B:$B,0))),"-") -> 98.449612 | H6: =IFERROR(ROUND(F6-E6,2),"-") -> 0.83 | I6: =IFERROR(ROUND(G6-F6,2),"-") -> -1.55 | J6: =IFERROR(ROUND(G6-E6,2),"-") -> -0.72
A7: 4 | B7: COLEGIUL NAŢIONAL "VASILE GOLDIŞ" ARAD | C7: ARAD | D7: URBAN | E7: =IFERROR(IF(ISBLANK(INDEX(Date_unitati!$E:$E,MATCH($B7,Date_unitati!$B:$B,0))),"-",INDEX(Date_unitati!$E:$E,MATCH($B7,Date_unitati!$B:$B,0))),"-") -> 96.855346 | F7: =IFERROR(IF(ISBLANK(INDEX(Date_unitati!$F:$F,MATCH($B7,Date_unitati!$B:$B,0))),"-",INDEX(Date_unitati!$F:$F,MATCH($B7,Date_unitati!$B:$B,0))),"-") -> 97.540984 | G7: =IFERROR(IF(ISBLANK(INDEX(Date_unitati!$G:$G,MATCH($B7,Date_unitati!$B:$B,0))),"-",INDEX(Date_unitati!$G:$G,MATCH($B7,Date_unitati!$B:$B,0))),"-") -> 95.070423 | H7: =IFERROR(ROUND(F7-E7,2),"-") -> 0.69 | I7: =IFERROR(ROUND(G7-F7,2),"-") -> -2.47 | J7: =IFERROR(ROUND(G7-E7,2),"-") -> -1.78
A8: 5 | B8: COLEGIUL NAŢIONAL "ELENA GHIBA BIRTA" ARAD | C8: ARAD | D8: URBAN | E8: =IFERROR(IF(ISBLANK(INDEX(Date_unitati!$E:$E,MATCH($B8,Date_unitati!$B:$B,0))),"-",INDEX(Date_unitati!$E:$E,MATCH($B8,Date_unitati!$B:$B,0))),"-") -> 95.757576 | F8: =IFERROR(IF(ISBLANK(INDEX(Date_unitati!$F:$F,MATCH($B8,Date_unitati!$B:$B,0))),"-",INDEX(Date_unitati!$F:$F,MATCH($B8,Date_unitati!$B:$B,0))),"-") -> 87.903226 | G8: =IFERROR(IF(ISBLANK(INDEX(Date_unitati!$G:$G,MATCH($B8,Date_unitati!$B:$B,0))),"-",INDEX(Date_unitati!$G:$G,MATCH($B8,Date_unitati!$B:$B,0))),"-") -> 86.549708 | H8: =IFERROR(ROUND(F8-E8,2),"-") -> -7.85 | I8: =IFERROR(ROUND(G8-F8,2),"-") -> -1.35 | J8: =IFERROR(ROUND(G8-E8,2),"-") -> -9.21
A9: 6 | B9: COLEGIUL"CSIKY GERGELY" ARAD | C9: ARAD | D9: RURAL | E9: =IFERROR(IF(ISBLANK(INDEX(Date_unitati!$E:$E,MATCH($B9,Date_unitati!$B:$B,0))),"-",INDEX(Date_unitati!$E:$E,MATCH($B9,Date_unitati!$B:$B,0))),"-") -> 70.588235 | F9: =IFERROR(IF(ISBLANK(INDEX(Date_unitati!$F:$F,MATCH($B9,Date_unitati!$B:$B,0))),"-",INDEX(Date_unitati!$F:$F,MATCH($B9,Date_unitati!$B:$B,0))),"-") -> 81.395349 | G9: =IFERROR(IF(ISBLANK(INDEX(Date_unitati!$G:$G,MATCH($B9,Date_unitati!$B:$B,0))),"-",INDEX(Date_unitati!$G:$G,MATCH($B9,Date_unitati!$B:$B,0))),"-") -> 86 | H9: =IFERROR(ROUND(F9-E9,2),"-") -> 10.81 | I9: =IFERROR(ROUND(G9-F9,2),"-") -> 4.6 | J9: =IFERROR(ROUND(G9-E9,2),"-") -> 15.41
A10: 7 | B10: LICEUL TEORETIC "MIHAI VELICIU" CHIŞINEU CRIŞ | C10: CHIŞINEU-CRIŞ | D10: RURAL | E10: =IFERROR(IF(ISBLANK(INDEX(Date_unitati!$E:$E,MATCH($B10,Date_unitati!$B:$B,0))),"-",INDEX(Date_unitati!$E:$E,MATCH($B10,Date_unitati!$B:$B,0))),"-") -> 93.617021 | F10: =IFERROR(IF(ISBLANK(INDEX(Date_unitati!$F:$F,MATCH($B10,Date_unitati!$B:$B,0))),"-",INDEX(Date_unitati!$F:$F,MATCH($B10,Date_unitati!$B:$B,0))),"-") -> 64.615385 | G10: =IFERROR(IF(ISBLANK(INDEX(Date_unitati!$G:$G,MATCH($B10,Date_unitati!$B:$B,0))),"-",INDEX(Date_unitati!$G:$G,MATCH($B10,Date_unitati!$B:$B,0))),"-") -> 81.904762 | H10: =IFERROR(ROUND(F10-E10,2),"-") -> -29 | I10: =IFERROR(ROUND(G10-F10,2),"-") -> 17.29 | J10: =IFERROR(ROUND(G10-E10,2),"-") -> -11.71
A11: 8 | B11: LICEUL TEHNOLOGIC "ION CREANGĂ" CURTICI | C11: CURTICI | D11: URBAN | E11: =IFERROR(IF(ISBLANK(INDEX(Date_unitati!$E:$E,MATCH($B11,Date_unitati!$B:$B,0))),"-",INDEX(Date_unitati!$E:$E,MATCH($B11,Date_unitati!$B:$B,0))),"-") -> 75 | F11: =IFERROR(IF(ISBLANK(INDEX(Date_unitati!$F:$F,MATCH($B11,Date_unitati!$B:$B,0))),"-",INDEX(Date_unitati!$F:$F,MATCH($B11,Date_unitati!$B:$B,0))),"-") -> 61.904762 | G11: =IFERROR(IF(ISBLANK(INDEX(Date_unitati!$G:$G,MATCH($B11,Date_unitati!$B:$B,0))),"-",INDEX(Date_unitati!$G:$G,MATCH($B11,Date_unitati!$B:$B,0))),"-") -> 80 | H11: =IFERROR(ROUND(F11-E11,2),"-") -> -13.1 | I11: =IFERROR(ROUND(G11-F11,2),"-") -> 18.1 | J11: =IFERROR(ROUND(G11-E11,2),"-") -> 5
A12: 9 | B12: LICEUL TEORETIC "ADAM MULLER GUTTENBRUNN" ARAD | C12: ARAD | D12: URBAN | E12: =IFERROR(IF(ISBLANK(INDEX(Date_unitati!$E:$E,MATCH($B12,Date_unitati!$B:$B,0))),"-",INDEX(Date_unitati!$E:$E,MATCH($B12,Date_unitati!$B:$B,0))),"-") -> 83.809524 | F12: =IFERROR(IF(ISBLANK(INDEX(Date_unitati!$F:$F,MATCH($B12,Date_unitati!$B:$B,0))),"-",INDEX(Date_unitati!$F:$F,MATCH($B12,Date_unitati!$B:$B,0))),"-") -> 90.909091 | G12: =IFERROR(IF(ISBLANK(INDEX(Date_unitati!$G:$G,MATCH($B12,Date_unitati!$B:$B,0))),"-",INDEX(Date_unitati!$G:$G,MATCH($B12,Date_unitati!$B:$B,0))),"-") -> 79.381443 | H12: =IFERROR(ROUND(F12-E12,2),"-") -> 7.1 | I12: =IFERROR(ROUND(G12-F12,2),"-") -> -11.53 | J12: =IFERROR(ROUND(G12-E12,2),"-") -> -4.43
A13: 10 | B13: COLEGIUL ECONOMIC ARAD | C13: ARAD | D13: URBAN | E13: =IFERROR(IF(ISBLANK(INDEX(Date_unitati!$E:$E,MATCH($B13,Date_unitati!$B:$B,0))),"-",INDEX(Date_unitati!$E:$E,MATCH($B13,Date_unitati!$B:$B,0))),"-") -> 89.261745 | F13: =IFERROR(IF(ISBLANK(INDEX(Date_unitati!$F:$F,MATCH($B13,Date_unitati!$B:$B,0))),"-",INDEX(Date_unitati!$F:$F,MATCH($B13,Date_unitati!$B:$B,0))),"-") -> 80.672269 | G13: =IFERROR(IF(ISBLANK(INDEX(Date_unitati!$G:$G,MATCH($B13,Date_unitati!$B:$B,0))),"-",INDEX(Date_unitati!$G:$G,MATCH($B13,Date_unitati!$B:$B,0))),"-") -> 78.395062 | H13: =IFERROR(ROUND(F13-E13,2),"-") -> -8.59 | I13: =IFERROR(ROUND(G13-F13,2),"-") -> -2.28 | J13: =IFERROR(ROUND(G13-E13,2),"-") -> -10.87
A14: 11 | B14: COLEGIUL DE ARTE "SABIN DRĂGOI" ARAD | C14: ARAD | D14: URBAN | E14: =IFERROR(IF(ISBLANK(INDEX(Date_unitati!$E:$E,MATCH($B14,Date_unitati!$B:$B,0))),"-",INDEX(Date_unitati!$E:$E,MATCH($B14,Date_unitati!$B:$B,0))),"-") -> 80.672269 | F14: =IFERROR(IF(ISBLANK(INDEX(Date_unitati!$F:$F,MATCH($B14,Date_unitati!$B:$B,0))),"-",INDEX(Date_unitati!$F:$F,MATCH($B14,Date_unitati!$B:$B,0))),"-") -> 82.692308 | G14: =IFERROR(IF(ISBLANK(INDEX(Date_unitati!$G:$G,MATCH($B14,Date_unitati!$B:$B,0))),"-",INDEX(Date_unitati!$G:$G,MATCH($B14,Date_unitati!$B:$B,0))),"-") -> 77.235772 | H14: =IFERROR(ROUND(F14-E14,2),"-") -> 2.02 | I14: =IFERROR(ROUND(G14-F14,2),"-") -> -5.46 | J14: =IFERROR(ROUND(G14-E14,2),"-") -> -3.44
A15: 12 | B15: LICEUL NAŢIONAL DE INFORMATICĂ ARAD | C15: ARAD | D15: URBAN | E15: =IFERROR(IF(ISBLANK(INDEX(Date_unitati!$E:$E,MATCH($B15,Date_unitati!$B:$B,0))),"-",INDEX(Date_unitati!$E:$E,MATCH($B15,Date_unitati!$B:$B,0))),"-") -> 89.88764 | F15: =IFERROR(IF(ISBLANK(INDEX(Date_unitati!$F:$F,MATCH($B15,Date_unitati!$B:$B,0))),"-",INDEX(Date_unitati!$F:$F,MATCH($B15,Date_unitati!$B:$B,0))),"-") -> 68.852459 | G15: =IFERROR(IF(ISBLANK(INDEX(Date_unitati!$G:$G,MATCH($B15,Date_unitati!$B:$B,0))),"-",INDEX(Date_unitati!$G:$G,MATCH($B15,Date_unitati!$B:$B,0))),"-") -> 73.626374 | H15: =IFERROR(ROUND(F15-E15,2),"-") -> -21.04 | I15: =IFERROR(ROUND(G15-F15,2),"-") -> 4.77 | J15: =IFERROR(ROUND(G15-E15,2),"-") -> -16.26
... A46: 43 | B46: LICEUL TEHNOLOGIC DE TRANSPORTURI AUTO "HENRI COANDĂ" ARAD | C46: ARAD | D46: URBAN | E46: =IFERROR(IF(ISBLANK(INDEX(Date_unitati!$E:$E,MATCH($B46,Date_unitati!$B:$B,0))),"-",INDEX(Date_unitati!$E:$E,MATCH($B46,Date_unitati!$B:$B,0))),"-") -> 26.315789 | F46: =IFERROR(IF(ISBLANK(INDEX(Date_unitati!$F:$F,MATCH($B46,Date_unitati!$B:$B,0))),"-",INDEX(Date_unitati!$F:$F,MATCH($B46,Date_unitati!$B:$B,0))),"-") -> 27.272727 | G46: =IFERROR(IF(ISBLANK(INDEX(Date_unitati!$G:$G,MATCH($B46,Date_unitati!$B:$B,0))),"-",INDEX(Date_unitati!$G:$G,MATCH($B46,Date_unitati!$B:$B,0))),"-") -> - | H46: =IFERROR(ROUND(F46-E46,2),"-") -> 0.96 | I46: =IFERROR(ROUND(G46-F46,2),"-") -> - | J46: =IFERROR(ROUND(G46-E46,2),"-") -> -

Sheet Evoluție medie generală
A1: Evoluția mediei generale a promovaților pe fiecare unitate, 2024→2026, sortată descrescător după media din 2026.
A3: Loc | B3: Unitate | C3: Localitate | D3: Mediu | E3: 2024 | F3: 2025 | G3: 2026 | H3: Δ 24→25 | I3: Δ 25→26 | J3: Δ total 24→26
A4: 1 | B4: COLEGIUL NAŢIONAL "PREPARANDIA-DIMITRIE ŢICHINDEAL" ARAD | C4: ARAD | D4: URBAN | E4: =IFERROR(IF(ISBLANK(INDEX(Date_unitati!$H:$H,MATCH($B4,Date_unitati!$B:$B,0))),"-",INDEX(Date_unitati!$H:$H,MATCH($B4,Date_unitati!$B:$B,0))),"-") -> 9.0888333 | F4: =IFERROR(IF(ISBLANK(INDEX(Date_unitati!$I:$I,MATCH($B4,Date_unitati!$B:$B,0))),"-",INDEX(Date_unitati!$I:$I,MATCH($B4,Date_unitati!$B:$B,0))),"-") -> 8.9123134 | G4: =IFERROR(IF(ISBLANK(INDEX(Date_unitati!$J:$J,MATCH($B4,Date_unitati!$B:$B,0))),"-",INDEX(Date_unitati!$J:$J,MATCH($B4,Date_unitati!$B:$B,0))),"-") -> 9.0682677 | H4: =IFERROR(ROUND(F4-E4,2),"-") -> -0.18 | I4: =IFERROR(ROUND(G4-F4,2),"-") -> 0.16 | J4: =IFERROR(ROUND(G4-E4,2),"-") -> -0.02
A5: 2 | B5: COLEGIUL NAŢIONAL "MOISE NICOARĂ" ARAD | C5: ARAD | D5: URBAN | E5: =IFERROR(IF(ISBLANK(INDEX(Date_unitati!$H:$H,MATCH($B5,Date_unitati!$B:$B,0))),"-",INDEX(Date_unitati!$H:$H,MATCH($B5,Date_unitati!$B:$B,0))),"-") -> 9.0299419 | F5: =IFERROR(IF(ISBLANK(INDEX(Date_unitati!$I:$I,MATCH($B5,Date_unitati!$B:$B,0))),"-",INDEX(Date_unitati!$I:$I,MATCH($B5,Date_unitati!$B:$B,0))),"-") -> 8.818 | G5: =IFERROR(IF(ISBLANK(INDEX(Date_unitati!$J:$J,MATCH($B5,Date_unitati!$B:$B,0))),"-",INDEX(Date_unitati!$J:$J,MATCH($B5,Date_unitati!$B:$B,0))),"-") -> 8.944125 | H5: =IFERROR(ROUND(F5-E5,2),"-") -> -0.21 | I5: =IFERROR(ROUND(G5-F5,2),"-") -> 0.13 | J5: =IFERROR(ROUND(G5-E5,2),"-") -> -0.09
A6: 3 | B6: LICEUL TEOLOGIC BAPTIST "ALEXA POPOVICI" ARAD | C6: ARAD | D6: URBAN | E6: =IFERROR(IF(ISBLANK(INDEX(Date_unitati!$H:$H,MATCH($B6,Date_unitati!$B:$B,0))),"-",INDEX(Date_unitati!$H:$H,MATCH($B6,Date_unitati!$B:$B,0))),"-") -> 8.712931 | F6: =IFERROR(IF(ISBLANK(INDEX(Date_unitati!$I:$I,MATCH($B6,Date_unitati!$B:$B,0))),"-",INDEX(Date_unitati!$I:$I,MATCH($B6,Date_unitati!$B:$B,0))),"-") -> 8.4278431 | G6: =IFERROR(IF(ISBLANK(INDEX(Date_unitati!$J:$J,MATCH($B6,Date_unitati!$B:$B,0))),"-",INDEX(Date_unitati!$J:$J,MATCH($B6,Date_unitati!$B:$B,0))),"-") -> 8.6938462 | H6: =IFERROR(ROUND(F6-E6,2),"-") -> -0.29 | I6: =IFERROR(ROUND(G6-F6,2),"-") -> 0.27 | J6: =IFERROR(ROUND(G6-E6,2),"-") -> -0.02
A7: 4 | B7: COLEGIUL NAŢIONAL "VASILE GOLDIŞ" ARAD | C7: ARAD | D7: URBAN | E7: =IFERROR(IF(ISBLANK(INDEX(Date_unitati!$H:$H,MATCH($B7,Date_unitati!$B:$B,0))),"-",INDEX(Date_unitati!$H:$H,MATCH($B7,Date_unitati!$B:$B,0))),"-") -> 8.3914935 | F7: =IFERROR(IF(ISBLANK(INDEX(Date_unitati!$I:$I,MATCH($B7,Date_unitati!$B:$B,0))),"-",INDEX(Date_unitati!$I:$I,MATCH($B7,Date_unitati!$B:$B,0))),"-") -> 8.2507563 | G7: =IFERROR(IF(ISBLANK(INDEX(Date_unitati!$J:$J,MATCH($B7,Date_unitati!$B:$B,0))),"-",INDEX(Date_unitati!$J:$J,MATCH($B7,Date_unitati!$B:$B,0))),"-") -> 8.3920741 | H7: =IFERROR(ROUND(F7-E7,2),"-") -> -0.14 | I7: =IFERROR(ROUND(G7-F7,2),"-") -> 0.14 | J7: =IFERROR(ROUND(G7-E7,2),"-") -> 0
A8: 5 | B8: COLEGIUL NAŢIONAL "ELENA GHIBA BIRTA" ARAD | C8: ARAD | D8: URBAN | E8: =IFERROR(IF(ISBLANK(INDEX(Date_unitati!$H:$H,MATCH($B8,Date_unitati!$B:$B,0))),"-",INDEX(Date_unitati!$H:$H,MATCH($B8,Date_unitati!$B:$B,0))),"-") -> 8.2441139 | F8: =IFERROR(IF(ISBLANK(INDEX(Date_unitati!$I:$I,MATCH($B8,Date_unitati!$B:$B,0))),"-",INDEX(Date_unitati!$I:$I,MATCH($B8,Date_unitati!$B:$B,0))),"-") -> 7.9115596 | G8: =IFERROR(IF(ISBLANK(INDEX(Date_unitati!$J:$J,MATCH($B8,Date_unitati!$B:$B,0))),"-",INDEX(Date_unitati!$J:$J,MATCH($B8,Date_unitati!$B:$B,0))),"-") -> 8.0380405 | H8: =IFERROR(ROUND(F8-E8,2),"-") -> -0.33 | I8: =IFERROR(ROUND(G8-F8,2),"-") -> 0.13 | J8: =IFERROR(ROUND(G8-E8,2),"-") -> -0.21
A9: 6 | B9: LICEUL TEHNOLOGIC "EMIL CRĂCIUN LĂZUREANU" BELIU | C9: BELIU | D9: RURAL | E9: =IFERROR(IF(ISBLANK(INDEX(Date_unitati!$H:$H,MATCH($B9,Date_unitati!$B:$B,0))),"-",INDEX(Date_unitati!$H:$H,MATCH($B9,Date_unitati!$B:$B,0))),"-") -> 7.2146667 | F9: =IFERROR(IF(ISBLANK(INDEX(Date_unitati!$I:$I,MATCH($B9,Date_unitati!$B:$B,0))),"-",INDEX(Date_unitati!$I:$I,MATCH($B9,Date_unitati!$B:$B,0))),"-") -> 8.066 | G9: =IFERROR(IF(ISBLANK(INDEX(Date_unitati!$J:$J,MATCH($B9,Date_unitati!$B:$B,0))),"-",INDEX(Date_unitati!$J:$J,MATCH($B9,Date_unitati!$B:$B,0))),"-") -> 7.9375 | H9: =IFERROR(ROUND(F9-E9,2),"-") -> 0.85 | I9: =IFERROR(ROUND(G9-F9,2),"-") -> -0.13 | J9: =IFERROR(ROUND(G9-E9,2),"-") -> 0.72
A10: 7 | B10: LICEUL TEORETIC "MIHAI VELICIU" CHIŞINEU CRIŞ | C10: CHIŞINEU-CRIŞ | D10: RURAL | E10: =IFERROR(IF(ISBLANK(INDEX(Date_unitati!$H:$H,MATCH($B10,Date_unitati!$B:$B,0))),"-",INDEX(Date_unitati!$H:$H,MATCH($B10,Date_unitati!$B:$B,0))),"-") -> 8.17875 | F10: =IFERROR(IF(ISBLANK(INDEX(Date_unitati!$I:$I,MATCH($B10,Date_unitati!$B:$B,0))),"-",INDEX(Date_unitati!$I:$I,MATCH($B10,Date_unitati!$B:$B,0))),"-") -> 7.7783333 | G10: =IFERROR(IF(ISBLANK(INDEX(Date_unitati!$J:$J,MATCH($B10,Date_unitati!$B:$B,0))),"-",INDEX(Date_unitati!$J:$J,MATCH($B10,Date_unitati!$B:$B,0))),"-") -> 7.9268605 | H10: =IFERROR(ROUND(F10-E10,2),"-") -> -0.4 | I10: =IFERROR(ROUND(G10-F10,2),"-") -> 0.15 | J10: =IFERROR(ROUND(G10-E10,2),"-") -> -0.25
A11: 8 | B11: LICEUL TEORETIC SEBIŞ | C11: SEBIŞ | D11: RURAL | E11: =IFERROR(IF(ISBLANK(INDEX(Date_unitati!$H:$H,MATCH($B11,Date_unitati!$B:$B,0))),"-",INDEX(Date_unitati!$H:$H,MATCH($B11,Date_unitati!$B:$B,0))),"-") -> 7.8185882 | F11: =IFERROR(IF(ISBLANK(INDEX(Date_unitati!$I:$I,MATCH($B11,Date_unitati!$B:$B,0))),"-",INDEX(Date_unitati!$I:$I,MATCH($B11,Date_unitati!$B:$B,0))),"-") -> 7.7930769 | G11: =IFERROR(IF(ISBLANK(INDEX(Date_unitati!$J:$J,MATCH($B11,Date_unitati!$B:$B,0))),"-",INDEX(Date_unitati!$J:$J,MATCH($B11,Date_unitati!$B:$B,0))),"-") -> 7.9163934 | H11: =IFERROR(ROUND(F11-E11,2),"-") -> -0.03 | I11: =IFERROR(ROUND(G11-F11,2),"-") -> 0.12 | J11: =IFERROR(ROUND(G11-E11,2),"-") -> 0.1
A12: 9 | B12: COLEGIUL "MIHAI VITEAZUL" INEU | C12: INEU | D12: RURAL | E12: =IFERROR(IF(ISBLANK(INDEX(Date_unitati!$H:$H,MATCH($B12,Date_unitati!$B:$B,0))),"-",INDEX(Date_unitati!$H:$H,MATCH($B12,Date_unitati!$B:$B,0))),"-") -> 8.1732231 | F12: =IFERROR(IF(ISBLANK(INDEX(Date_unitati!$I:$I,MATCH($B12,Date_unitati!$B:$B,0))),"-",INDEX(Date_unitati!$I:$I,MATCH($B12,Date_unitati!$B:$B,0))),"-") -> 7.8596591 | G12: =IFERROR(IF(ISBLANK(INDEX(Date_unitati!$J:$J,MATCH($B12,Date_unitati!$B:$B,0))),"-",INDEX(Date_unitati!$J:$J,MATCH($B12,Date_unitati!$B:$B,0))),"-") -> 7.8958252 | H12: =IFERROR(ROUND(F12-E12,2),"-") -> -0.31 | I12: =IFERROR(ROUND(G12-F12,2),"-") -> 0.04 | J12: =IFERROR(ROUND(G12-E12,2),"-") -> -0.28
A13: 10 | B13: LICEUL TEORETIC "ADAM MULLER GUTTENBRUNN" ARAD | C13: ARAD | D13: URBAN | E13: =IFERROR(IF(ISBLANK(INDEX(Date_unitati!$H:$H,MATCH($B13,Date_unitati!$B:$B,0))),"-",INDEX(Date_unitati!$H:$H,MATCH($B13,Date_unitati!$B:$B,0))),"-") -> 7.7810227 | F13: =IFERROR(IF(ISBLANK(INDEX(Date_unitati!$I:$I,MATCH($B13,Date_unitati!$B:$B,0))),"-",INDEX(Date_unitati!$I:$I,MATCH($B13,Date_unitati!$B:$B,0))),"-") -> 8.002 | G13: =IFERROR(IF(ISBLANK(INDEX(Date_unitati!$J:$J,MATCH($B13,Date_unitati!$B:$B,0))),"-",INDEX(Date_unitati!$J:$J,MATCH($B13,Date_unitati!$B:$B,0))),"-") -> 7.848961 | H13: =IFERROR(ROUND(F13-E13,2),"-") -> 0.22 | I13: =IFERROR(ROUND(G13-F13,2),"-") -> -0.15 | J13: =IFERROR(ROUND(G13-E13,2),"-") -> 0.07
A14: 11 | B14: LICEUL NAŢIONAL DE INFORMATICĂ ARAD | C14: ARAD | D14: URBAN | E14: =IFERROR(IF(ISBLANK(INDEX(Date_unitati!$H:$H,MATCH($B14,Date_unitati!$B:$B,0))),"-",INDEX(Date_unitati!$H:$H,MATCH($B14,Date_unitati!$B:$B,0))),"-") -> 7.968125 | F14: =IFERROR(IF(ISBLANK(INDEX(Date_unitati!$I:$I,MATCH($B14,Date_unitati!$B:$B,0))),"-",INDEX(Date_unitati!$I:$I,MATCH($B14,Date_unitati!$B:$B,0))),"-") -> 7.7359524 | G14: =IFERROR(IF(ISBLANK(INDEX(Date_unitati!$J:$J,MATCH($B14,Date_unitati!$B:$B,0))),"-",INDEX(Date_unitati!$J:$J,MATCH($B14,Date_unitati!$B:$B,0))),"-") -> 7.8307463 | H14: =IFERROR(ROUND(F14-E14,2),"-") -> -0.23 | I14: =IFERROR(ROUND(G14-F14,2),"-") -> 0.09 | J14: =IFERROR(ROUND(G14-E14,2),"-") -> -0.14
A15: 12 | B15: COLEGIUL"CSIKY GERGELY" ARAD | C15: ARAD | D15: RURAL | E15: =IFERROR(IF(ISBLANK(INDEX(Date_unitati!$H:$H,MATCH($B15,Date_unitati!$B:$B,0))),"-",INDEX(Date_unitati!$H:$H,MATCH($B15,Date_unitati!$B:$B,0))),"-") -> 7.6558333 | F15: =IFERROR(IF(ISBLANK(INDEX(Date_unitati!$I:$I,MATCH($B15,Date_unitati!$B:$B,0))),"-",INDEX(Date_unitati!$I:$I,MATCH($B15,Date_unitati!$B:$B,0))),"-") -> 7.8914286 | G15: =IFERROR(IF(ISBLANK(INDEX(Date_unitati!$J:$J,MATCH($B15,Date_unitati!$B:$B,0))),"-",INDEX(Date_unitati!$J:$J,MATCH($B15,Date_unitati!$B:$B,0))),"-") -> 7.8169767 | H15: =IFERROR(ROUND(F15-E15,2),"-") -> 0.24 | I15: =IFERROR(ROUND(G15-F15,2),"-") -> -0.07 | J15: =IFERROR(ROUND(G15-E15,2),"-") -> 0.16
... A46: 43 | B46: LICEUL TEORETIC CERMEI | C46: CERMEI | D46: RURAL | E46: =IFERROR(IF(ISBLANK(INDEX(Date_unitati!$H:$H,MATCH($B46,Date_unitati!$B:$B,0))),"-",INDEX(Date_unitati!$H:$H,MATCH($B46,Date_unitati!$B:$B,0))),"-") -> 7.0133333 | F46: =IFERROR(IF(ISBLANK(INDEX(Date_unitati!$I:$I,MATCH($B46,Date_unitati!$B:$B,0))),"-",INDEX(Date_unitati!$I:$I,MATCH($B46,Date_unitati!$B:$B,0))),"-") -> 6.7775 | G46: =IFERROR(IF(ISBLANK(INDEX(Date_unitati!$J:$J,MATCH($B46,Date_unitati!$B:$B,0))),"-",INDEX(Date_unitati!$J:$J,MATCH($B46,Date_unitati!$B:$B,0))),"-") -> - | H46: =IFERROR(ROUND(F46-E46,2),"-") -> -0.24 | I46: =IFERROR(ROUND(G46-F46,2),"-") -> - | J46: =IFERROR(ROUND(G46-E46,2),"-") -> -

Sheet Evoluție Lb. Română
A1: Evoluția mediei la Limba și literatura română (proba A, comună tuturor candidaților) pe fiecare unitate, 2024→2026.
A3: Loc | B3: Unitate | C3: Localitate | D3: Mediu | E3: 2024 | F3: 2025 | G3: 2026 | H3: Δ 24→25 | I3: Δ 25→26 | J3: Δ total 24→26
A4: 1 | B4: LICEUL TEOLOGIC BAPTIST "ALEXA POPOVICI" ARAD | C4: ARAD | D4: URBAN | E4: =IFERROR(IF(ISBLANK(INDEX(Date_unitati!$K:$K,MATCH($B4,Date_unitati!$B:$B,0))),"-",INDEX(Date_unitati!$K:$K,MATCH($B4,Date_unitati!$B:$B,0))),"-") -> 8.45 | F4: =IFERROR(IF(ISBLANK(INDEX(Date_unitati!$L:$L,MATCH($B4,Date_unitati!$B:$B,0))),"-",INDEX(Date_unitati!$L:$L,MATCH($B4,Date_unitati!$B:$B,0))),"-") -> 8.1176471 | G4: =IFERROR(IF(ISBLANK(INDEX(Date_unitati!$M:$M,MATCH($B4,Date_unitati!$B:$B,0))),"-",INDEX(Date_unitati!$M:$M,MATCH($B4,Date_unitati!$B:$B,0))),"-") -> 8.6990385 | H4: =IFERROR(ROUND(F4-E4,2),"-") -> -0.33 | I4: =IFERROR(ROUND(G4-F4,2),"-") -> 0.58 | J4: =IFERROR(ROUND(G4-E4,2),"-") -> 0.25
A5: 2 | B5: COLEGIUL NAŢIONAL "MOISE NICOARĂ" ARAD | C5: ARAD | D5: URBAN | E5: =IFERROR(IF(ISBLANK(INDEX(Date_unitati!$K:$K,MATCH($B5,Date_unitati!$B:$B,0))),"-",INDEX(Date_unitati!$K:$K,MATCH($B5,Date_unitati!$B:$B,0))),"-") -> 8.7820809 | F5: =IFERROR(IF(ISBLANK(INDEX(Date_unitati!$L:$L,MATCH($B5,Date_unitati!$B:$B,0))),"-",INDEX(Date_unitati!$L:$L,MATCH($B5,Date_unitati!$B:$B,0))),"-") -> 8.5845455 | G5: =IFERROR(IF(ISBLANK(INDEX(Date_unitati!$M:$M,MATCH($B5,Date_unitati!$B:$B,0))),"-",INDEX(Date_unitati!$M:$M,MATCH($B5,Date_unitati!$B:$B,0))),"-") -> 8.6779141 | H5: =IFERROR(ROUND(F5-E5,2),"-") -> -0.2 | I5: =IFERROR(ROUND(G5-F5,2),"-") -> 0.09 | J5: =IFERROR(ROUND(G5-E5,2),"-") -> -0.1
A6: 3 | B6: COLEGIUL NAŢIONAL "PREPARANDIA-DIMITRIE ŢICHINDEAL" ARAD | C6: ARAD | D6: URBAN | E6: =IFERROR(IF(ISBLANK(INDEX(Date_unitati!$K:$K,MATCH($B6,Date_unitati!$B:$B,0))),"-",INDEX(Date_unitati!$K:$K,MATCH($B6,Date_unitati!$B:$B,0))),"-") -> 8.7319672 | F6: =IFERROR(IF(ISBLANK(INDEX(Date_unitati!$L:$L,MATCH($B6,Date_unitati!$B:$B,0))),"-",INDEX(Date_unitati!$L:$L,MATCH($B6,Date_unitati!$B:$B,0))),"-") -> 8.694403 | G6: =IFERROR(IF(ISBLANK(INDEX(Date_unitati!$M:$M,MATCH($B6,Date_unitati!$B:$B,0))),"-",INDEX(Date_unitati!$M:$M,MATCH($B6,Date_unitati!$B:$B,0))),"-") -> 8.6007752 | H6: =IFERROR(ROUND(F6-E6,2),"-") -> -0.04 | I6: =IFERROR(ROUND(G6-F6,2),"-") -> -0.09 | J6: =IFERROR(ROUND(G6-E6,2),"-") -> -0.13
A7: 4 | B7: COLEGIUL NAŢIONAL "VASILE GOLDIŞ" ARAD | C7: ARAD | D7: URBAN | E7: =IFERROR(IF(ISBLANK(INDEX(Date_unitati!$K:$K,MATCH($B7,Date_unitati!$B:$B,0))),"-",INDEX(Date_unitati!$K:$K,MATCH($B7,Date_unitati!$B:$B,0))),"-") -> 8.1877358 | F7: =IFERROR(IF(ISBLANK(INDEX(Date_unitati!$L:$L,MATCH($B7,Date_unitati!$B:$B,0))),"-",INDEX(Date_unitati!$L:$L,MATCH($B7,Date_unitati!$B:$B,0))),"-") -> 8.1313008 | G7: =IFERROR(IF(ISBLANK(INDEX(Date_unitati!$M:$M,MATCH($B7,Date_unitati!$B:$B,0))),"-",INDEX(Date_unitati!$M:$M,MATCH($B7,Date_unitati!$B:$B,0))),"-") -> 8.0823944 | H7: =IFERROR(ROUND(F7-E7,2),"-") -> -0.06 | I7: =IFERROR(ROUND(G7-F7,2),"-") -> -0.05 | J7: =IFERROR(ROUND(G7-E7,2),"-") -> -0.11
A8: 5 | B8: COLEGIUL NAŢIONAL "ELENA GHIBA BIRTA" ARAD | C8: ARAD | D8: URBAN | E8: =IFERROR(IF(ISBLANK(INDEX(Date_unitati!$K:$K,MATCH($B8,Date_unitati!$B:$B,0))),"-",INDEX(Date_unitati!$K:$K,MATCH($B8,Date_unitati!$B:$B,0))),"-") -> 8.0912121 | F8: =IFERROR(IF(ISBLANK(INDEX(Date_unitati!$L:$L,MATCH($B8,Date_unitati!$B:$B,0))),"-",INDEX(Date_unitati!$L:$L,MATCH($B8,Date_unitati!$B:$B,0))),"-") -> 7.5152 | G8: =IFERROR(IF(ISBLANK(INDEX(Date_unitati!$M:$M,MATCH($B8,Date_unitati!$B:$B,0))),"-",INDEX(Date_unitati!$M:$M,MATCH($B8,Date_unitati!$B:$B,0))),"-") -> 7.8363372 | H8: =IFERROR(ROUND(F8-E8,2),"-") -> -0.58 | I8: =IFERROR(ROUND(G8-F8,2),"-") -> 0.32 | J8: =IFERROR(ROUND(G8-E8,2),"-") -> -0.25
A9: 6 | B9: LICEUL NAŢIONAL DE INFORMATICĂ ARAD | C9: ARAD | D9: URBAN | E9: =IFERROR(IF(ISBLANK(INDEX(Date_unitati!$K:$K,MATCH($B9,Date_unitati!$B:$B,0))),"-",INDEX(Date_unitati!$K:$K,MATCH($B9,Date_unitati!$B:$B,0))),"-") -> 7.7630435 | F9: =IFERROR(IF(ISBLANK(INDEX(Date_unitati!$L:$L,MATCH($B9,Date_unitati!$B:$B,0))),"-",INDEX(Date_unitati!$L:$L,MATCH($B9,Date_unitati!$B:$B,0))),"-") -> 6.9145161 | G9: =IFERROR(IF(ISBLANK(INDEX(Date_unitati!$M:$M,MATCH($B9,Date_unitati!$B:$B,0))),"-",INDEX(Date_unitati!$M:$M,MATCH($B9,Date_unitati!$B:$B,0))),"-") -> 7.3619565 | H9: =IFERROR(ROUND(F9-E9,2),"-") -> -0.85 | I9: =IFERROR(ROUND(G9-F9,2),"-") -> 0.45 | J9: =IFERROR(ROUND(G9-E9,2),"-") -> -0.4
A10: 7 | B10: COLEGIUL"CSIKY GERGELY" ARAD | C10: ARAD | D10: RURAL | E10: =IFERROR(IF(ISBLANK(INDEX(Date_unitati!$K:$K,MATCH($B10,Date_unitati!$B:$B,0))),"-",INDEX(Date_unitati!$K:$K,MATCH($B10,Date_unitati!$B:$B,0))),"-") -> 6.1114286 | F10: =IFERROR(IF(ISBLANK(INDEX(Date_unitati!$L:$L,MATCH($B10,Date_unitati!$B:$B,0))),"-",INDEX(Date_unitati!$L:$L,MATCH($B10,Date_unitati!$B:$B,0))),"-") -> 6.8965116 | G10: =IFERROR(IF(ISBLANK(INDEX(Date_unitati!$M:$M,MATCH($B10,Date_unitati!$B:$B,0))),"-",INDEX(Date_unitati!$M:$M,MATCH($B10,Date_unitati!$B:$B,0))),"-") -> 7.222 | H10: =IFERROR(ROUND(F10-E10,2),"-") -> 0.79 | I10: =IFERROR(ROUND(G10-F10,2),"-") -> 0.33 | J10: =IFERROR(ROUND(G10-E10,2),"-") -> 1.11
A11: 8 | B11: LICEUL TEORETIC "ADAM MULLER GUTTENBRUNN" ARAD | C11: ARAD | D11: URBAN | E11: =IFERROR(IF(ISBLANK(INDEX(Date_unitati!$K:$K,MATCH($B11,Date_unitati!$B:$B,0))),"-",INDEX(Date_unitati!$K:$K,MATCH($B11,Date_unitati!$B:$B,0))),"-") -> 7.4117925 | F11: =IFERROR(IF(ISBLANK(INDEX(Date_unitati!$L:$L,MATCH($B11,Date_unitati!$B:$B,0))),"-",INDEX(Date_unitati!$L:$L,MATCH($B11,Date_unitati!$B:$B,0))),"-") -> 7.5266667 | G11: =IFERROR(IF(ISBLANK(INDEX(Date_unitati!$M:$M,MATCH($B11,Date_unitati!$B:$B,0))),"-",INDEX(Date_unitati!$M:$M,MATCH($B11,Date_unitati!$B:$B,0))),"-") -> 7.1597938 | H11: =IFERROR(ROUND(F11-E11,2),"-") -> 0.11 | I11: =IFERROR(ROUND(G11-F11,2),"-") -> -0.37 | J11: =IFERROR(ROUND(G11-E11,2),"-") -> -0.25
A12: 9 | B12: LICEUL TEORETIC "MIHAI VELICIU" CHIŞINEU CRIŞ | C12: CHIŞINEU-CRIŞ | D12: RURAL | E12: =IFERROR(IF(ISBLANK(INDEX(Date_unitati!$K:$K,MATCH($B12,Date_unitati!$B:$B,0))),"-",INDEX(Date_unitati!$K:$K,MATCH($B12,Date_unitati!$B:$B,0))),"-") -> 7.7851064 | F12: =IFERROR(IF(ISBLANK(INDEX(Date_unitati!$L:$L,MATCH($B12,Date_unitati!$B:$B,0))),"-",INDEX(Date_unitati!$L:$L,MATCH($B12,Date_unitati!$B:$B,0))),"-") -> 6.6215385 | G12: =IFERROR(IF(ISBLANK(INDEX(Date_unitati!$M:$M,MATCH($B12,Date_unitati!$B:$B,0))),"-",INDEX(Date_unitati!$M:$M,MATCH($B12,Date_unitati!$B:$B,0))),"-") -> 7.1538095 | H12: =IFERROR(ROUND(F12-E12,2),"-") -> -1.16 | I12: =IFERROR(ROUND(G12-F12,2),"-") -> 0.53 | J12: =IFERROR(ROUND(G12-E12,2),"-") -> -0.63
A13: 10 | B13: LICEUL TEHNOLOGIC "ION CREANGĂ" CURTICI | C13: CURTICI | D13: URBAN | E13: =IFERROR(IF(ISBLANK(INDEX(Date_unitati!$K:$K,MATCH($B13,Date_unitati!$B:$B,0))),"-",INDEX(Date_unitati!$K:$K,MATCH($B13,Date_unitati!$B:$B,0))),"-") -> 6.7416667 | F13: =IFERROR(IF(ISBLANK(INDEX(Date_unitati!$L:$L,MATCH($B13,Date_unitati!$B:$B,0))),"-",INDEX(Date_unitati!$L:$L,MATCH($B13,Date_unitati!$B:$B,0))),"-") -> 6.3833333 | G13: =IFERROR(IF(ISBLANK(INDEX(Date_unitati!$M:$M,MATCH($B13,Date_unitati!$B:$B,0))),"-",INDEX(Date_unitati!$M:$M,MATCH($B13,Date_unitati!$B:$B,0))),"-") -> 6.8571429 | H13: =IFERROR(ROUND(F13-E13,2),"-") -> -0.36 | I13: =IFERROR(ROUND(G13-F13,2),"-") -> 0.47 | J13: =IFERROR(ROUND(G13-E13,2),"-") -> 0.12
A14: 11 | B14: COLEGIUL DE ARTE "SABIN DRĂGOI" ARAD | C14: ARAD | D14: URBAN | E14: =IFERROR(IF(ISBLANK(INDEX(Date_unitati!$K:$K,MATCH($B14,Date_unitati!$B:$B,0))),"-",INDEX(Date_unitati!$K:$K,MATCH($B14,Date_unitati!$B:$B,0))),"-") -> 7.1516807 | F14: =IFERROR(IF(ISBLANK(INDEX(Date_unitati!$L:$L,MATCH($B14,Date_unitati!$B:$B,0))),"-",INDEX(Date_unitati!$L:$L,MATCH($B14,Date_unitati!$B:$B,0))),"-") -> 6.5785714 | G14: =IFERROR(IF(ISBLANK(INDEX(Date_unitati!$M:$M,MATCH($B14,Date_unitati!$B:$B,0))),"-",INDEX(Date_unitati!$M:$M,MATCH($B14,Date_unitati!$B:$B,0))),"-") -> 6.7211382 | H14: =IFERROR(ROUND(F14-E14,2),"-") -> -0.57 | I14: =IFERROR(ROUND(G14-F14,2),"-") -> 0.14 | J14: =IFERROR(ROUND(G14-E14,2),"-") -> -0.43
A15: 12 | B15: LICEUL TEOLOGIC PENTICOSTAL ARAD | C15: ARAD | D15: URBAN | E15: =IFERROR(IF(ISBLANK(INDEX(Date_unitati!$K:$K,MATCH($B15,Date_unitati!$B:$B,0))),"-",INDEX(Date_unitati!$K:$K,MATCH($B15,Date_unitati!$B:$B,0))),"-") -> 7.0961538 | F15: =IFERROR(IF(ISBLANK(INDEX(Date_unitati!$L:$L,MATCH($B15,Date_unitati!$B:$B,0))),"-",INDEX(Date_unitati!$L:$L,MATCH($B15,Date_unitati!$B:$B,0))),"-") -> 6.9967742 | G15: =IFERROR(IF(ISBLANK(INDEX(Date_unitati!$M:$M,MATCH($B15,Date_unitati!$B:$B,0))),"-",INDEX(Date_unitati!$M:$M,MATCH($B15,Date_unitati!$B:$B,0))),"-") -> 6.6354167 | H15: =IFERROR(ROUND(F15-E15,2),"-") -> -0.1 | I15: =IFERROR(ROUND(G15-F15,2),"-") -> -0.36 | J15: =IFERROR(ROUND(G15-E15,2),"-") -> -0.46
... A46: 43 | B46: LICEUL TEHNOLOGIC DE TRANSPORTURI AUTO "HENRI COANDĂ" ARAD | C46: ARAD | D46: URBAN | E46: =IFERROR(IF(ISBLANK(INDEX(Date_unitati!$K:$K,MATCH($B46,Date_unitati!$B:$B,0))),"-",INDEX(Date_unitati!$K:$K,MATCH($B46,Date_unitati!$B:$B,0))),"-") -> 5.5152174 | F46: =IFERROR(IF(ISBLANK(INDEX(Date_unitati!$L:$L,MATCH($B46,Date_unitati!$B:$B,0))),"-",INDEX(Date_unitati!$L:$L,MATCH($B46,Date_unitati!$B:$B,0))),"-") -> 4.7147059 | G46: =IFERROR(IF(ISBLANK(INDEX(Date_unitati!$M:$M,MATCH($B46,Date_unitati!$B:$B,0))),"-",INDEX(Date_unitati!$M:$M,MATCH($B46,Date_unitati!$B:$B,0))),"-") -> - | H46: =IFERROR(ROUND(F46-E46,2),"-") -> -0.8 | I46: =IFERROR(ROUND(G46-F46,2),"-") -> - | J46: =IFERROR(ROUND(G46-E46,2),"-") -> -

Sheet Date_ProbaC
A1: Subiect | B1: Unitate | C1: Localitate | D1: Mediu | E1: Nr_2024 | F1: Medie_2024 | G1: Nr_2025 | H1: Medie_2025 | I1: Nr_2026 | J1: Medie_2026 | K1: Cheie
A2: Istorie | B2: COLEGIUL "MIHAI VITEAZUL" INEU | C2: INEU | D2: RURAL | E2: 34 | F2: 7.6426471 | G2: 32 | H2: 7.54375 | I2: 31 | J2: 8.366129 | K2: =A2&"||"&B2 -> Istorie||COLEGIUL "MIHAI VITEAZUL" INEU
A3: Istorie | B3: COLEGIUL DE ARTE "SABIN DRĂGOI" ARAD | C3: ARAD | D3: URBAN | E3: 120 | F3: 6.7875 | G3: 105 | H3: 6.6290476 | I3: 124 | J3: 6.8193548 | K3: =A3&"||"&B3 -> Istorie||COLEGIUL DE ARTE "SABIN DRĂGOI" ARAD
A4: Istorie | B4: COLEGIUL NAŢIONAL "ELENA GHIBA BIRTA" ARAD | C4: ARAD | D4: URBAN | E4: 70 | F4: 8.5585714 | G4: 65 | H4: 8.1661538 | I4: 63 | J4: 8.9650794 | K4: =A4&"||"&B4 -> Istorie||COLEGIUL NAŢIONAL "ELENA GHIBA BIRTA" ARAD
A5: Istorie | B5: COLEGIUL NAŢIONAL "MOISE NICOARĂ" ARAD | C5: ARAD | D5: URBAN | E5: 33 | F5: 9.2151515 | G5: 31 | H5: 9.416129 | I5: 30 | J5: 9.6416667 | K5: =A5&"||"&B5 -> Istorie||COLEGIUL NAŢIONAL "MOISE NICOARĂ" ARAD
A6: Istorie | B6: COLEGIUL NAŢIONAL "PREPARANDIA-DIMITRIE ŢICHINDEAL" ARAD | C6: ARAD | D6: URBAN | E6: 33 | F6: 8.9075758 | G6: 53 | H6: 8.4679245 | I6: 53 | J6: 8.9518868 | K6: =A6&"||"&B6 -> Istorie||COLEGIUL NAŢIONAL "PREPARANDIA-DIMITRIE ŢICHINDEAL" ARAD
A7: Istorie | B7: COLEGIUL NAŢIONAL "VASILE GOLDIŞ" ARAD | C7: ARAD | D7: URBAN | E7: 65 | F7: 8.0792308 | G7: 58 | H7: 8.2336207 | I7: 64 | J7: 8.5070313 | K7: =A7&"||"&B7 -> Istorie||COLEGIUL NAŢIONAL "VASILE GOLDIŞ" ARAD
A8: Istorie | B8: COLEGIUL PARTICULAR "VASILE GOLDIŞ" ARAD | C8: ARAD | D8: URBAN | E8: 37 | F8: 6.4824324 | G8: 12 | H8: 5.6458333 | I8: 33 | J8: 6.1848485 | K8: =A8&"||"&B8 -> Istorie||COLEGIUL PARTICULAR "VASILE GOLDIŞ" ARAD
A9: Istorie | B9: COLEGIUL"CSIKY GERGELY" ARAD | C9: ARAD | D9: RURAL | E9: 2 | F9: 5.7 | I9: 9 | J9: 8.1777778 | K9: =A9&"||"&B9 -> Istorie||COLEGIUL"CSIKY GERGELY" ARAD
A10: Istorie | B10: LICEUL "ATANASIE MARIENESCU" LIPOVA | C10: LIPOVA | D10: URBAN | E10: 31 | F10: 6.5870968 | G10: 27 | H10: 6.7907407 | I10: 31 | J10: 6.7354839 | K10: =A10&"||"&B10 -> Istorie||LICEUL "ATANASIE MARIENESCU" LIPOVA
A11: Istorie | B11: LICEUL "IOAN BUTEANU" GURAHONŢ | C11: GURAHONŢ | D11: RURAL | E11: 33 | F11: 7.1469697 | G11: 34 | H11: 7.6102941 | I11: 28 | J11: 6.7910714 | K11: =A11&"||"&B11 -> Istorie||LICEUL "IOAN BUTEANU" GURAHONŢ
A12: Istorie | B12: LICEUL CU PROGRAM SPORTIV ARAD | C12: ARAD | D12: URBAN | E12: 47 | F12: 5.7510638 | G12: 39 | H12: 5.5333333 | I12: 39 | J12: 5.6025641 | K12: =A12&"||"&B12 -> Istorie||LICEUL CU PROGRAM SPORTIV ARAD
A13: Istorie | B13: LICEUL SPECIAL "SFÂNTA MARIA" ARAD | C13: ARAD | D13: RURAL | E13: 2 | F13: 7.375 | K13: =A13&"||"&B13 -> Istorie||LICEUL SPECIAL "SFÂNTA MARIA" ARAD
A14: Istorie | B14: LICEUL TEHNOLOGIC "STEFAN HELL" SÂNTANA | C14: SÂNTANA | D14: URBAN | E14: 31 | F14: 6.5935484 | G14: 21 | H14: 5.7595238 | I14: 29 | J14: 6.5258621 | K14: =A14&"||"&B14 -> Istorie||LICEUL TEHNOLOGIC "STEFAN HELL" SÂNTANA
A15: Istorie | B15: LICEUL TEOLOGIC BAPTIST "ALEXA POPOVICI" ARAD | C15: ARAD | D15: URBAN | E15: 30 | F15: 8.295 | G15: 29 | H15: 8.4482759 | I15: 25 | J15: 9.03 | K15: =A15&"||"&B15 -> Istorie||LICEUL TEOLOGIC BAPTIST "ALEXA POPOVICI" ARAD
A16: Istorie | B16: LICEUL TEOLOGIC PENTICOSTAL ARAD | C16: ARAD | D16: URBAN | E16: 26 | F16: 6.3 | G16: 20 | H16: 7.0025 | I16: 28 | J16: 6.7071429 | K16: =A16&"||"&B16 -> Istorie||LICEUL TEOLOGIC PENTICOSTAL ARAD
A17: Istorie | B17: LICEUL TEORETIC "ADAM MULLER GUTTENBRUNN" ARAD | C17: ARAD | D17: URBAN | E17: 52 | F17: 7.6144231 | G17: 36 | H17: 7.8972222 | I17: 60 | J17: 8.1983333 | K17: =A17&"||"&B17 -> Istorie||LICEUL TEORETIC "ADAM MULLER GUTTENBRUNN" ARAD
A18: Istorie | B18: LICEUL TEORETIC "GHEORGHE LAZĂR" PECICA | C18: PECICA | D18: URBAN | E18: 29 | F18: 4.9413793 | G18: 29 | H18: 4.7275862 | I18: 26 | J18: 5.3576923 | K18: =A18&"||"&B18 -> Istorie||LICEUL TEORETIC "GHEORGHE LAZĂR" PECICA
A19: Istorie | B19: LICEUL TEORETIC "JOZEF GREGOR TAJOVSKY" NĂDLAC | C19: NĂDLAC | D19: URBAN | E19: 42 | F19: 7.1119048 | G19: 43 | H19: 6.5360465 | I19: 47 | J19: 6.2808511 | K19: =A19&"||"&B19 -> Istorie||LICEUL TEORETIC "JOZEF GREGOR TAJOVSKY" NĂDLAC
A20: Istorie | B20: LICEUL TEORETIC "MIHAI VELICIU" CHIŞINEU CRIŞ | C20: CHIŞINEU-CRIŞ | D20: RURAL | E20: 32 | F20: 7.9765625 | G20: 30 | H20: 7.1116667 | I20: 54 | J20: 7.4481481 | K20: =A20&"||"&B20 -> Istorie||LICEUL TEORETIC "MIHAI VELICIU" CHIŞINEU CRIŞ
A21: Istorie | B21: LICEUL TEORETIC PÂNCOTA | C21: PÂNCOTA | D21: RURAL | E21: 44 | F21: 6.6443182 | G21: 35 | H21: 6.0742857 | I21: 41 | J21: 6.4036585 | K21: =A21&"||"&B21 -> Istorie||LICEUL TEORETIC PÂNCOTA
A22: Istorie | B22: LICEUL TEORETIC SEBIŞ | C22: SEBIŞ | D22: RURAL | E22: 31 | F22: 7.8774194 | G22: 30 | H22: 7.745 | I22: 32 | J22: 8.0296875 | K22: =A22&"||"&B22 -> Istorie||LICEUL TEORETIC SEBIŞ
A23: Istorie | B23: SEMINARUL TEOLOGIC ORTODOX ARAD | C23: ARAD | D23: URBAN | E23: 27 | F23: 6.7 | G23: 28 | H23: 6.4428571 | I23: 27 | J23: 6.4425926 | K23: =A23&"||"&B23 -> Istorie||SEMINARUL TEOLOGIC ORTODOX ARAD
A24: Matematică MATE-INFO | B24: COLEGIUL "MIHAI VITEAZUL" INEU | C24: INEU | D24: RURAL | E24: 28 | F24: 8.6160714 | G24: 17 | H24: 9.0117647 | I24: 25 | J24: 8.336 | K24: =A24&"||"&B24 -> Matematică MATE-INFO||COLEGIUL "MIHAI VITEAZUL" INEU
A25: Matematică MATE-INFO | B25: COLEGIUL NAŢIONAL "ELENA GHIBA BIRTA" ARAD | C25: ARAD | D25: URBAN | E25: 65 | F25: 7.4084615 | G25: 40 | H25: 6.38125 | I25: 49 | J25: 6.294898 | K25: =A25&"||"&B25 -> Matematică MATE-INFO||COLEGIUL NAŢIONAL "ELENA GHIBA BIRTA" ARAD
... A32: Matematică MATE-INFO | B32: LICEUL NAŢIONAL DE INFORMATICĂ ARAD | C32: ARAD | D32: RURAL | E32: 83 | F32: 7.5650602 | G32: 59 | H32: 6.4932203 | I32: 87 | J32: 6.608046 | K32: =A32&"||"&B32 -> Matematică MATE-INFO||LICEUL NAŢIONAL DE INFORMATICĂ ARAD
A33: Matematică MATE-INFO | B33: LICEUL TEHNOLOGIC DE TRANSPORTURI AUTO "HENRI COANDĂ" ARAD | C33: ARAD | D33: RURAL | E33: 1 | F33: 5.05 | K33: =A33&"||"&B33 -> Matematică MATE-INFO||LICEUL TEHNOLOGIC DE TRANSPORTURI AUTO "HENRI COANDĂ" ARAD
A34: Matematică MATE-INFO | B34: LICEUL TEOLOGIC PENTICOSTAL ARAD | C34: ARAD | D34: URBAN | E34: 26 | F34: 6.0961538 | G34: 11 | H34: 5.4318182 | I34: 18 | J34: 5.4333333 | K34: =A34&"||"&B34 -> Matematică MATE-INFO||LICEUL TEOLOGIC PENTICOSTAL ARAD
A35: Matematică MATE-INFO | B35: LICEUL TEORETIC "GHEORGHE LAZĂR" PECICA | C35: PECICA | D35: URBAN | E35: 14 | F35: 6.1571429 | G35: 1 | H35: 3.9 | I35: 18 | J35: 5.2666667 | K35: =A35&"||"&B35 -> Matematică MATE-INFO||LICEUL TEORETIC "GHEORGHE LAZĂR" PECICA
A36: Matematică MATE-INFO | B36: LICEUL TEORETIC "JOZEF GREGOR TAJOVSKY" NĂDLAC | C36: NĂDLAC | D36: URBAN | E36: 18 | F36: 5.9388889 | G36: 1 | H36: 2.9 | I36: 18 | J36: 5.2472222 | K36: =A36&"||"&B36 -> Matematică MATE-INFO||LICEUL TEORETIC "JOZEF GREGOR TAJOVSKY" NĂDLAC
A37: Matematică MATE-INFO | B37: LICEUL TEORETIC "MIHAI VELICIU" CHIŞINEU CRIŞ | C37: CHIŞINEU-CRIŞ | D37: RURAL | E37: 28 | F37: 8.2892857 | G37: 16 | H37: 7.771875 | I37: 30 | J37: 8.4466667 | K37: =A37&"||"&B37 -> Matematică MATE-INFO||LICEUL TEORETIC "MIHAI VELICIU" CHIŞINEU CRIŞ
A38: Matematică MATE-INFO | B38: LICEUL TEORETIC PÂNCOTA | C38: PÂNCOTA | D38: RURAL | E38: 27 | F38: 5.6333333 | G38: 20 | H38: 5.63 | I38: 27 | J38: 6.2907407 | K38: =A38&"||"&B38 -> Matematică MATE-INFO||LICEUL TEORETIC PÂNCOTA
A39: Matematică MATE-INFO | B39: LICEUL TEORETIC SEBIŞ | C39: SEBIŞ | D39: RURAL | E39: 29 | F39: 8.3396552 | G39: 18 | H39: 8.2444444 | I39: 20 | J39: 6.0075 | K39: =A39&"||"&B39 -> Matematică MATE-INFO||LICEUL TEORETIC SEBIŞ
A40: Matematică PED | B40: COLEGIUL NAŢIONAL "PREPARANDIA-DIMITRIE ŢICHINDEAL" ARAD | C40: ARAD | D40: URBAN | E40: 59 | F40: 8.720339 | G40: 47 | H40: 9.0382979 | I40: 46 | J40: 9.1934783 | K40: =A40&"||"&B40 -> Matematică PED||COLEGIUL NAŢIONAL "PREPARANDIA-DIMITRIE ŢICHINDEAL" ARAD
A41: Matematică ST-NAT | B41: COLEGIUL "MIHAI VITEAZUL" INEU | C41: INEU | D41: RURAL | E41: 29 | F41: 7.4396552 | G41: 15 | H41: 5.9 | I41: 23 | J41: 6.6434783 | K41: =A41&"||"&B41 -> Matematică ST-NAT||COLEGIUL "MIHAI VITEAZUL" INEU
A42: Matematică ST-NAT | B42: COLEGIUL NAŢIONAL "ELENA GHIBA BIRTA" ARAD | C42: ARAD | D42: URBAN | E42: 30 | F42: 7.4816667 | G42: 20 | H42: 6.2425 | I42: 59 | J42: 6.7652542 | K42: =A42&"||"&B42 -> Matematică ST-NAT||COLEGIUL NAŢIONAL "ELENA GHIBA BIRTA" ARAD
A43: Matematică ST-NAT | B43: COLEGIUL NAŢIONAL "MOISE NICOARĂ" ARAD | C43: ARAD | D43: URBAN | E43: 89 | F43: 9.0039326 | G43: 85 | H43: 8.6858824 | I43: 80 | J43: 8.480625 | K43: =A43&"||"&B43 -> Matematică ST-NAT||COLEGIUL NAŢIONAL "MOISE NICOARĂ" ARAD
A44: Matematică ST-NAT | B44: COLEGIUL NAŢIONAL "VASILE GOLDIŞ" ARAD | C44: ARAD | D44: URBAN | E44: 31 | F44: 8.9677419 | G44: 30 | H44: 8.4183333 | I44: 29 | J44: 8.0896552 | K44: =A44&"||"&B44 -> Matematică ST-NAT||COLEGIUL NAŢIONAL "VASILE GOLDIŞ" ARAD
A45: Matematică ST-NAT | B45: COLEGIUL"CSIKY GERGELY" ARAD | C45: ARAD | D45: RURAL | E45: 7 | F45: 7.9071429 | G45: 11 | H45: 7.6318182 | I45: 13 | J45: 6.9615385 | K45: =A45&"||"&B45 -> Matematică ST-NAT||COLEGIUL"CSIKY GERGELY" ARAD
A46: Matematică ST-NAT | B46: LICEUL TEHNOLOGIC "ION CREANGĂ" CURTICI | C46: CURTICI | D46: URBAN | G46: 1 | H46: 5.15 | I46: 18 | J46: 6.625 | K46: =A46&"||"&B46 -> Matematică ST-NAT||LICEUL TEHNOLOGIC "ION CREANGĂ" CURTICI
...

Sheet Date_ProbaD
A1: Subiect | B1: Unitate | C1: Localitate | D1: Mediu | E1: Nr_2024 | F1: Medie_2024 | G1: Nr_2025 | H1: Medie_2025 | I1: Nr_2026 | J1: Medie_2026 | K1: Cheie
A2: Anatomie și fiziologie umană, genetică și ecologie umană | B2: COLEGIUL "MIHAI VITEAZUL" INEU | C2: INEU | D2: RURAL | E2: 37 | F2: 8.7297297 | G2: 26 | H2: 8.3730769 | I2: 32 | J2: 8.20625 | K2: =A2&"||"&B2 -> Anatomie și fiziologie umană, genetică și ecologie umană||COLEGIUL "MIHAI VITEAZUL" INEU
A3: Anatomie și fiziologie umană, genetică și ecologie umană | B3: COLEGIUL NAŢIONAL "ELENA GHIBA BIRTA" ARAD | C3: ARAD | D3: URBAN | E3: 47 | F3: 8.037234 | G3: 35 | H3: 7.4985714 | I3: 61 | J3: 7.657377 | K3: =A3&"||"&B3 -> Anatomie și fiziologie umană, genetică și ecologie umană||COLEGIUL NAŢIONAL "ELENA GHIBA BIRTA" ARAD
A4: Anatomie și fiziologie umană, genetică și ecologie umană | B4: COLEGIUL NAŢIONAL "MOISE NICOARĂ" ARAD | C4: ARAD | D4: URBAN | E4: 45 | F4: 8.7 | G4: 36 | H4: 8.7166667 | I4: 52 | J4: 9.1913462 | K4: =A4&"||"&B4 -> Anatomie și fiziologie umană, genetică și ecologie umană||COLEGIUL NAŢIONAL "MOISE NICOARĂ" ARAD
A5: Anatomie și fiziologie umană, genetică și ecologie umană | B5: COLEGIUL NAŢIONAL "PREPARANDIA-DIMITRIE ŢICHINDEAL" ARAD | C5: ARAD | D5: URBAN | E5: 6 | F5: 9.1166667 | G5: 5 | H5: 8.52 | I5: 5 | J5: 9.31 | K5: =A5&"||"&B5 -> Anatomie și fiziologie umană, genetică și ecologie umană||COLEGIUL NAŢIONAL "PREPARANDIA-DIMITRIE ŢICHINDEAL" ARAD
A6: Anatomie și fiziologie umană, genetică și ecologie umană | B6: COLEGIUL NAŢIONAL "VASILE GOLDIŞ" ARAD | C6: ARAD | D6: URBAN | E6: 31 | F6: 8.2983871 | G6: 17 | H6: 7.2441176 | I6: 23 | J6: 8.1869565 | K6: =A6&"||"&B6 -> Anatomie și fiziologie umană, genetică și ecologie umană||COLEGIUL NAŢIONAL "VASILE GOLDIŞ" ARAD
A7: Anatomie și fiziologie umană, genetică și ecologie umană | B7: COLEGIUL"CSIKY GERGELY" ARAD | C7: ARAD | D7: URBAN | E7: 4 | F7: 9.0875 | G7: 10 | H7: 9.495 | I7: 12 | J7: 8.4625 | K7: =A7&"||"&B7 -> Anatomie și fiziologie umană, genetică și ecologie umană||COLEGIUL"CSIKY GERGELY" ARAD
A8: Anatomie și fiziologie umană, genetică și ecologie umană | B8: LICEUL "ATANASIE MARIENESCU" LIPOVA | C8: LIPOVA | D8: URBAN | E8: 17 | F8: 6.9323529 | G8: 23 | H8: 4.8369565 | I8: 13 | J8: 7.2269231 | K8: =A8&"||"&B8 -> Anatomie și fiziologie umană, genetică și ecologie umană||LICEUL "ATANASIE MARIENESCU" LIPOVA
A9: Anatomie și fiziologie umană, genetică și ecologie umană | B9: LICEUL "IOAN BUTEANU" GURAHONŢ | C9: GURAHONŢ | D9: RURAL | E9: 18 | F9: 7.1611111 | G9: 8 | H9: 4.0375 | I9: 24 | J9: 6.0395833 | K9: =A9&"||"&B9 -> Anatomie și fiziologie umană, genetică și ecologie umană||LICEUL "IOAN BUTEANU" GURAHONŢ
A10: Anatomie și fiziologie umană, genetică și ecologie umană | B10: LICEUL NAŢIONAL DE INFORMATICĂ ARAD | C10: ARAD | D10: URBAN | E10: 54 | F10: 7.975 | G10: 34 | H10: 7.6235294 | I10: 41 | J10: 7.3597561 | K10: =A10&"||"&B10 -> Anatomie și fiziologie umană, genetică și ecologie umană||LICEUL NAŢIONAL DE INFORMATICĂ ARAD
A11: Anatomie și fiziologie umană, genetică și ecologie umană | B11: LICEUL TEHNOLOGIC "FRANCISC NEUMAN" ARAD | C11: ARAD | D11: URBAN | E11: 11 | F11: 5.9863636 | G11: 2 | H11: 6.3 | I11: 14 | J11: 4.0392857 | K11: =A11&"||"&B11 -> Anatomie și fiziologie umană, genetică și ecologie umană||LICEUL TEHNOLOGIC "FRANCISC NEUMAN" ARAD
A12: Anatomie și fiziologie umană, genetică și ecologie umană | B12: LICEUL TEHNOLOGIC "VASILE JUNCU" MINIŞ | C12: MINIŞ | D12: RURAL | G12: 8 | H12: 4.4 | I12: 1 | J12: 6.9 | K12: =A12&"||"&B12 -> Anatomie și fiziologie umană, genetică și ecologie umană||LICEUL TEHNOLOGIC "VASILE JUNCU" MINIŞ
A13: Anatomie și fiziologie umană, genetică și ecologie umană | B13: LICEUL TEHNOLOGIC CHIŞINEU CRIŞ | C13: CHIŞINEU-CRIŞ | D13: RURAL | G13: 1 | H13: 5.8 | I13: 1 | J13: 5.8 | K13: =A13&"||"&B13 -> Anatomie și fiziologie umană, genetică și ecologie umană||LICEUL TEHNOLOGIC CHIŞINEU CRIŞ
A14: Anatomie și fiziologie umană, genetică și ecologie umană | B14: LICEUL TEHNOLOGIC DE CONSTRUCŢII ŞI PROTECŢIA MEDIULUI ARAD | C14: ARAD | D14: URBAN | E14: 4 | F14: 6.7625 | G14: 7 | H14: 5.3928571 | K14: =A14&"||"&B14 -> Anatomie și fiziologie umană, genetică și ecologie umană||LICEUL TEHNOLOGIC DE CONSTRUCŢII ŞI PROTECŢIA MEDIULUI ARAD
A15: Anatomie și fiziologie umană, genetică și ecologie umană | B15: LICEUL TEHNOLOGIC DE INDUSTRIE ALIMENTARĂ ARAD | C15: ARAD | D15: URBAN | E15: 71 | F15: 6.6147887 | G15: 63 | H15: 5.965873 | I15: 87 | J15: 6.4396552 | K15: =A15&"||"&B15 -> Anatomie și fiziologie umană, genetică și ecologie umană||LICEUL TEHNOLOGIC DE INDUSTRIE ALIMENTARĂ ARAD
A16: Anatomie și fiziologie umană, genetică și ecologie umană | B16: LICEUL TEHNOLOGIC DE ȘTIINȚE APLICATE ARAD | C16: ARAD | D16: URBAN | G16: 2 | H16: 4.375 | I16: 11 | J16: 6.0181818 | K16: =A16&"||"&B16 -> Anatomie și fiziologie umană, genetică și ecologie umană||LICEUL TEHNOLOGIC DE ȘTIINȚE APLICATE ARAD
A17: Anatomie și fiziologie umană, genetică și ecologie umană | B17: LICEUL TEOLOGIC BAPTIST "ALEXA POPOVICI" ARAD | C17: ARAD | D17: RURAL | E17: 17 | F17: 9.3735294 | G17: 19 | H17: 9.1026316 | I17: 20 | J17: 8.795 | K17: =A17&"||"&B17 -> Anatomie și fiziologie umană, genetică și ecologie umană||LICEUL TEOLOGIC BAPTIST "ALEXA POPOVICI" ARAD
A18: Anatomie și fiziologie umană, genetică și ecologie umană | B18: LICEUL TEOLOGIC PENTICOSTAL ARAD | C18: ARAD | D18: RURAL | E18: 26 | F18: 7.975 | G18: 11 | H18: 7.9909091 | I18: 19 | J18: 8.0973684 | K18: =A18&"||"&B18 -> Anatomie și fiziologie umană, genetică și ecologie umană||LICEUL TEOLOGIC PENTICOSTAL ARAD
A19: Anatomie și fiziologie umană, genetică și ecologie umană | B19: LICEUL TEORETIC "ADAM MULLER GUTTENBRUNN" ARAD | C19: ARAD | D19: URBAN | E19: 43 | F19: 7.9488372 | G19: 7 | H19: 8.7142857 | I19: 26 | J19: 7.7461538 | K19: =A19&"||"&B19 -> Anatomie și fiziologie umană, genetică și ecologie umană||LICEUL TEORETIC "ADAM MULLER GUTTENBRUNN" ARAD
A20: Anatomie și fiziologie umană, genetică și ecologie umană | B20: LICEUL TEORETIC "GHEORGHE LAZĂR" PECICA | C20: PECICA | D20: URBAN | E20: 13 | F20: 7.9269231 | G20: 1 | H20: 6.1 | I20: 17 | J20: 7.0264706 | K20: =A20&"||"&B20 -> Anatomie și fiziologie umană, genetică și ecologie umană||LICEUL TEORETIC "GHEORGHE LAZĂR" PECICA
A21: Anatomie și fiziologie umană, genetică și ecologie umană | B21: LICEUL TEORETIC "JOZEF GREGOR TAJOVSKY" NĂDLAC | C21: NĂDLAC | D21: URBAN | E21: 18 | F21: 7.3916667 | G21: 1 | H21: 5.9 | I21: 18 | J21: 6.3027778 | K21: =A21&"||"&B21 -> Anatomie și fiziologie umană, genetică și ecologie umană||LICEUL TEORETIC "JOZEF GREGOR TAJOVSKY" NĂDLAC
A22: Anatomie și fiziologie umană, genetică și ecologie umană | B22: LICEUL TEORETIC "MIHAI VELICIU" CHIŞINEU CRIŞ | C22: CHIŞINEU-CRIŞ | D22: RURAL | E22: 58 | F22: 8.5508621 | G22: 35 | H22: 6.5571429 | I22: 51 | J22: 8.1715686 | K22: =A22&"||"&B22 -> Anatomie și fiziologie umană, genetică și ecologie umană||LICEUL TEORETIC "MIHAI VELICIU" CHIŞINEU CRIŞ
A23: Anatomie și fiziologie umană, genetică și ecologie umană | B23: LICEUL TEORETIC CERMEI | C23: CERMEI | D23: RURAL | E23: 17 | F23: 5.2558824 | G23: 14 | H23: 5.1607143 | I23: 2 | J23: 5 | K23: =A23&"||"&B23 -> Anatomie și fiziologie umană, genetică și ecologie umană||LICEUL TEORETIC CERMEI
A24: Anatomie și fiziologie umană, genetică și ecologie umană | B24: LICEUL TEORETIC PÂNCOTA | C24: PÂNCOTA | D24: URBAN | E24: 15 | F24: 7.65 | G24: 15 | H24: 6.37 | I24: 19 | J24: 7.8894737 | K24: =A24&"||"&B24 -> Anatomie și fiziologie umană, genetică și ecologie umană||LICEUL TEORETIC PÂNCOTA
A25: Anatomie și fiziologie umană, genetică și ecologie umană | B25: LICEUL TEORETIC SEBIŞ | C25: SEBIŞ | D25: RURAL | E25: 42 | F25: 7.6988095 | G25: 35 | H25: 6.9414286 | I25: 42 | J25: 7.3011905 | K25: =A25&"||"&B25 -> Anatomie și fiziologie umană, genetică și ecologie umană||LICEUL TEORETIC SEBIŞ
A26: Biologie vegetală și animală | B26: COLEGIUL "MIHAI VITEAZUL" INEU | C26: INEU | D26: RURAL | E26: 29 | F26: 4.7241379 | G26: 12 | H26: 5.5458333 | I26: 24 | J26: 4.0208333 | K26: =A26&"||"&B26 -> Biologie vegetală și animală||COLEGIUL "MIHAI VITEAZUL" INEU
A27: Biologie vegetală și animală | B27: COLEGIUL NAŢIONAL "ELENA GHIBA BIRTA" ARAD | C27: ARAD | D27: URBAN | E27: 2 | F27: 6.5 | K27: =A27&"||"&B27 -> Biologie vegetală și animală||COLEGIUL NAŢIONAL "ELENA GHIBA BIRTA" ARAD
A28: Biologie vegetală și animală | B28: COLEGIUL NAŢIONAL "MOISE NICOARĂ" ARAD | C28: ARAD | D28: URBAN | E28: 2 | F28: 9.2 | I28: 1 | J28: 9.85 | K28: =A28&"||"&B28 -> Biologie vegetală și animală||COLEGIUL NAŢIONAL "MOISE NICOARĂ" ARAD
A29: Biologie vegetală și animală | B29: COLEGIUL"CSIKY GERGELY" ARAD | C29: ARAD | D29: URBAN | G29: 1 | H29: 6.4 | K29: =A29&"||"&B29 -> Biologie vegetală și animală||COLEGIUL"CSIKY GERGELY" ARAD
A30: Biologie vegetală și animală | B30: LICEUL "ATANASIE MARIENESCU" LIPOVA | C30: LIPOVA | D30: URBAN | E30: 26 | F30: 3.4903846 | G30: 10 | H30: 4.02 | I30: 19 | J30: 2.9763158 | K30: =A30&"||"&B30 -> Biologie vegetală și animală||LICEUL "ATANASIE MARIENESCU" LIPOVA
A31: Biologie vegetală și animală | B31: LICEUL NAŢIONAL DE INFORMATICĂ ARAD | C31: ARAD | D31: URBAN | E31: 9 | F31: 5.0611111 | G31: 2 | H31: 4.45 | I31: 6 | J31: 6.2416667 | K31: =A31&"||"&B31 -> Biologie vegetală și animală||LICEUL NAŢIONAL DE INFORMATICĂ ARAD
A32: Biologie vegetală și animală | B32: LICEUL TEHNOLOGIC "AUREL VLAICU" ARAD | C32: ARAD | D32: RURAL | E32: 33 | F32: 5.1651515 | G32: 11 | H32: 6.1863636 | K32: =A32&"||"&B32 -> Biologie vegetală și animală||LICEUL TEHNOLOGIC "AUREL VLAICU" ARAD
A33: Biologie vegetală și animală | B33: LICEUL TEHNOLOGIC "FRANCISC NEUMAN" ARAD | C33: ARAD | D33: URBAN | E33: 25 | F33: 4.46 | G33: 13 | H33: 3.9 | I33: 15 | J33: 4.5233333 | K33: =A33&"||"&B33 -> Biologie vegetală și animală||LICEUL TEHNOLOGIC "FRANCISC NEUMAN" ARAD
A34: Biologie vegetală și animală | B34: LICEUL TEHNOLOGIC "ION CREANGĂ" CURTICI | C34: CURTICI | D34: URBAN | G34: 1 | H34: 5.85 | I34: 17 | J34: 7.1676471 | K34: =A34&"||"&B34 -> Biologie vegetală și animală||LICEUL TEHNOLOGIC "ION CREANGĂ" CURTICI
A35: Biologie vegetală și animală | B35: LICEUL TEHNOLOGIC "REGINA MARIA" ARAD | C35: ARAD | D35: URBAN | E35: 5 | F35: 4.33 | G35: 11 | H35: 4.1181818 | I35: 58 | J35: 4.7603448 | K35: =A35&"||"&B35 -> Biologie vegetală și animală||LICEUL TEHNOLOGIC "REGINA MARIA" ARAD
