Workbook

Sheet Rezumat
A1: Bacalaureat 2024-2026 — Evoluție, Județul Arad
A2: Analiză comparativă pe unități de învățământ (licee), trei sesiuni consecutive
A3: Sursă: workbook-urile "BAC2024_Arad_analiza.xlsx", "BAC2025_Arad_analiza.xlsx", "BAC2026_Arad_analiza.xlsx" · Fișier prelucrat: 12.09.2026
A5: Indicator (nivel județ) | B5: 2024 | C5: 2025 | D5: 2026 | E5: Δ 2024→2026
A6: Total candidați | B6: 2801 | C6: 2124 | D6: 2765 | E6: =D6-B6 -> -36
A7: Promovați | B7: 1986 | C7: 1438 | D7: 1753 | E7: =D7-B7 -> -233
A8: Nepromovați | B8: 696 | C8: 597 | D8: 850 | E8: =D8-B8 -> 154
A9: Eliminați | B9: 0 | C9: 3 | D9: 2 | E9: =D9-B9 -> 2
A10: Absenți | B10: 119 | C10: 86 | D10: 160 | E10: =D10-B10 -> 41
A11: Rata de promovare (din prezentați) | B11: 74.049217 | C11: 70.559372 | D11: 67.293666 | E11: =D11-B11 -> -6.755551
A12: Rata de promovare (din total candidați) | B12: 70.903249 | C12: 67.702448 | D12: 63.399638 | E12: =D12-B12 -> -7.5036105
A13: Media generală (promovați) | B13: 8.0220141 | C13: 7.9253199 | D13: 7.9323674 | E13: =D13-B13 -> -0.089646728
A14: Media Limba Română | B14: 7.0625501 | C14: 6.8029496 | D14: 6.689505 | E14: =D14-B14 -> -0.37304507
A15: Unități analizate | B15: 42 | C15: 41 | D15: 38 | E15: =D15-B15 -> -4
A16: Rata promovare — URBAN | B16: 78.00554 | C16: 75.445816 | D16: 73.130194 | E16: =D16-B16 -> -4.8753463
A17: Rata promovare — RURAL | B17: 65.906499 | C17: 58.275862 | D17: 54.125 | E17: =D17-B17 -> -11.781499
A19: Notă: rata de promovare și mediile sunt reluate din workbook-urile anuale deja auditate; vezi fila "Metodologie".

Sheet Date_unitati
A1: Nr | B1: Unitate | C1: Localitate | D1: Mediu | E1: Rata_2024 | F1: Rata_2025 | G1: Rata_2026 | H1: Medie_2024 | I1: Medie_2025 | J1: Medie_2026 | K1: Romana_2024 | L1: Romana_2025 | M1: Romana_2026 | N1: NrPrezentati_2024 | O1: NrPrezentati_2025 | P1: NrPrezentati_2026
A2: 1 | B2: COLEGIUL "MIHAI VITEAZUL" INEU | C2: INEU | D2: RURAL | E2: 74.233129 | F2: 73.94958 | G2: 62.804878 | H2: 8.1732231 | I2: 7.8596591 | J2: 7.8958252 | K2: 7.2763636 | L2: 6.8590909 | M2: 6.3298817 | N2: 163 | O2: 119 | P2: 164
A3: 2 | B3: COLEGIUL DE ARTE "SABIN DRĂGOI" ARAD | C3: ARAD | D3: URBAN | E3: 80.672269 | F3: 82.692308 | G3: 77.235772 | H3: 7.6613542 | I3: 7.3261628 | J3: 7.4985263 | K3: 7.1516807 | L3: 6.5785714 | M3: 6.7211382 | N3: 119 | O3: 104 | P3: 123
A4: 3 | B4: COLEGIUL ECONOMIC ARAD | C4: ARAD | D4: URBAN | E4: 89.261745 | F4: 80.672269 | G4: 78.395062 | H4: 7.9397744 | I4: 7.3758333 | J4: 7.5093701 | K4: 7.1196667 | L4: 6.2553719 | M4: 6.4512195 | N4: 149 | O4: 119 | P4: 162
A5: 4 | B5: COLEGIUL NAŢIONAL "ELENA GHIBA BIRTA" ARAD | C5: ARAD | D5: URBAN | E5: 95.757576 | F5: 87.903226 | G5: 86.549708 | H5: 8.2441139 | I5: 7.9115596 | J5: 8.0380405 | K5: 8.0912121 | L5: 7.5152 | M5: 7.8363372 | N5: 165 | O5: 124 | P5: 171
A6: 5 | B6: COLEGIUL NAŢIONAL "MOISE NICOARĂ" ARAD | C6: ARAD | D6: URBAN | E6: 99.421965 | F6: 100 | G6: 98.765432 | H6: 9.0299419 | I6: 8.818 | J6: 8.944125 | K6: 8.7820809 | L6: 8.5845455 | M6: 8.6779141 | N6: 173 | O6: 165 | P6: 162
A7: 6 | B7: COLEGIUL NAŢIONAL "PREPARANDIA-DIMITRIE ŢICHINDEAL" ARAD | C7: ARAD | D7: URBAN | E7: 99.173554 | F7: 100 | G7: 98.449612 | H7: 9.0888333 | I7: 8.9123134 | J7: 9.0682677 | K7: 8.7319672 | L7: 8.694403 | M7: 8.6007752 | N7: 121 | O7: 134 | P7: 129
A8: 7 | B8: COLEGIUL NAŢIONAL "VASILE GOLDIŞ" ARAD | C8: ARAD | D8: URBAN | E8: 96.855346 | F8: 97.540984 | G8: 95.070423 | H8: 8.3914935 | I8: 8.2507563 | J8: 8.3920741 | K8: 8.1877358 | L8: 8.1313008 | M8: 8.0823944 | N8: 159 | O8: 122 | P8: 142
A9: 8 | B9: COLEGIUL PARTICULAR "VASILE GOLDIŞ" ARAD | C9: ARAD | D9: URBAN | E9: 76.923077 | F9: 50 | G9: 56.818182 | H9: 7.2065 | I9: 6.8975 | J9: 7.0524 | K9: 6.1390909 | L9: 5.6470588 | M9: 5.8606383 | N9: 52 | O9: 16 | P9: 44
A10: 9 | B10: COLEGIUL"CSIKY GERGELY" ARAD | C10: ARAD | D10: RURAL | E10: 70.588235 | F10: 81.395349 | G10: 86 | H10: 7.6558333 | I10: 7.8914286 | J10: 7.8169767 | K10: 6.1114286 | L10: 6.8965116 | M10: 7.222 | N10: 34 | O10: 43 | P10: 50
A11: 10 | B11: LICEUL "ATANASIE MARIENESCU" LIPOVA | C11: LIPOVA | D11: URBAN | E11: 42.307692 | F11: 42.1875 | G11: 45.3125 | H11: 7.6536364 | I11: 7.6807407 | J11: 7.552069 | K11: 6.17625 | L11: 6.0746269 | M11: 5.4463768 | N11: 78 | O11: 64 | P11: 64
A12: 11 | B12: LICEUL "IOAN BUTEANU" GURAHONŢ | C12: GURAHONŢ | D12: RURAL | E12: 76.923077 | F12: 70.731707 | G12: 58.181818 | H12: 7.8045 | I12: 7.9117241 | J12: 7.8109375 | K12: 6.6915094 | L12: 6.25 | M12: 6.1392857 | N12: 52 | O12: 41 | P12: 55
A13: 12 | B13: LICEUL "SEVER BOCU" LIPOVA | C13: LIPOVA | D13: URBAN | E13: 75 | F13: 64 | G13: 41.176471 | H13: 7.6941667 | I13: 7.695 | J13: 7.7592857 | K13: 6.559375 | L13: 6.3365385 | M13: 5.7083333 | N13: 32 | O13: 25 | P13: 34
... A15: 14 | B15: LICEUL NAŢIONAL DE INFORMATICĂ ARAD | C15: ARAD | D15: URBAN | E15: 89.88764 | F15: 68.852459 | G15: 73.626374 | H15: 7.968125 | I15: 7.7359524 | J15: 7.8307463 | K15: 7.7630435 | L15: 6.9145161 | M15: 7.3619565 | N15: 89 | O15: 61 | P15: 91
A16: 15 | B16: LICEUL SPECIAL "SFÂNTA MARIA" ARAD | C16: ARAD | D16: URBAN | E16: 100 | H16: 8.34 | K16: 8.2 | N16: 2 | O16: 0 | P16: 0
A17: 16 | B17: LICEUL TEHNOLOGIC "AUREL VLAICU" ARAD | C17: ARAD | D17: RURAL | E17: 38.235294 | F17: 38.461538 | H17: 6.6284615 | I17: 6.996 | K17: 5.5333333 | L17: 5.7433333 | N17: 34 | O17: 13 | P17: 0
A18: 17 | B18: LICEUL TEHNOLOGIC "EMIL CRĂCIUN LĂZUREANU" BELIU | C18: BELIU | D18: RURAL | E18: 51.724138 | F18: 29.411765 | G18: 33.333333 | H18: 7.2146667 | I18: 8.066 | J18: 7.9375 | K18: 5.7068966 | L18: 5.7176471 | M18: 4.9071429 | N18: 29 | O18: 17 | P18: 12
A19: 18 | B19: LICEUL TEHNOLOGIC "FRANCISC NEUMAN" ARAD | C19: ARAD | D19: URBAN | E19: 21.83908 | F19: 26.666667 | G19: 18.571429 | H19: 6.8989474 | I19: 6.505625 | J19: 6.8507692 | K19: 5.4073684 | L19: 5.1095588 | M19: 5.1664474 | N19: 87 | O19: 60 | P19: 70
A20: 19 | B20: LICEUL TEHNOLOGIC "ION CREANGĂ" CURTICI | C20: CURTICI | D20: URBAN | E20: 75 | F20: 61.904762 | G20: 80 | H20: 7.7288889 | I20: 7.5053846 | J20: 7.223125 | K20: 6.7416667 | L20: 6.3833333 | M20: 6.8571429 | N20: 24 | O20: 21 | P20: 20
A21: 20 | B21: LICEUL TEHNOLOGIC "MOGA VOIEVOD" HĂLMAGIU | C21: HĂLMAGIU | D21: RURAL | E21: 37.5 | F21: 23.076923 | G21: 30 | H21: 7.3266667 | I21: 7.32 | J21: 6.7866667 | K21: 5.7117647 | L21: 5.11 | M21: 5.3 | N21: 16 | O21: 13 | P21: 10
A22: 21 | B22: LICEUL TEHNOLOGIC "REGINA MARIA" ARAD | C22: ARAD | D22: URBAN | E22: 0 | F22: 0 | G22: 32.307692 | J22: 6.8419048 | K22: 5.48 | L22: 5.3272727 | M22: 5.1949275 | N22: 5 | O22: 11 | P22: 65
A23: 22 | B23: LICEUL TEHNOLOGIC "SAVA BRANCOVICI" INEU | C23: INEU | D23: RURAL | E23: 36 | F23: 42.105263 | G23: 12.903226 | H23: 6.5722222 | I23: 6.72375 | J23: 6.925 | K23: 5.0074074 | L23: 5.4818182 | M23: 4.4219512 | N23: 25 | O23: 19 | P23: 31
A24: 23 | B24: LICEUL TEHNOLOGIC "STEFAN HELL" SÂNTANA | C24: SÂNTANA | D24: URBAN | E24: 46.969697 | F24: 57.894737 | G24: 55.932203 | H24: 7.7177419 | I24: 7.5177273 | J24: 7.4884848 | K24: 5.894697 | L24: 6.1921053 | M24: 6.1258333 | N24: 66 | O24: 38 | P24: 59
A25: 24 | B25: LICEUL TEHNOLOGIC "VASILE JUNCU" MINIŞ | C25: MINIŞ | D25: RURAL | E25: 0 | F25: 10 | G25: 20 | I25: 6.6 | J25: 6.71 | K25: 6.1166667 | L25: 4.45 | M25: 5.505 | N25: 1 | O25: 10 | P25: 10
A26: 25 | B26: LICEUL TEHNOLOGIC CHIŞINEU CRIŞ | C26: CHIŞINEU-CRIŞ | D26: RURAL | E26: 43.859649 | F26: 27.272727 | G26: 12.962963 | H26: 7.0308 | I26: 6.8533333 | J26: 6.8257143 | K26: 5.8841667 | L26: 5.5035714 | M26: 5.0385246 | N26: 57 | O26: 22 | P26: 54
A27: 26 | B27: LICEUL TEHNOLOGIC DE CONSTRUCŢII ŞI PROTECŢIA MEDIULUI ARAD | C27: ARAD | D27: URBAN | E27: 45.238095 | F27: 33.333333 | H27: 6.7873684 | I27: 6.743 | K27: 6.3848837 | L27: 5.590625 | N27: 42 | O27: 30 | P27: 0
A28: 27 | B28: LICEUL TEHNOLOGIC DE ELECTRONICĂ ŞI AUTOMATIZĂRI "CAIUS IACOB" ARAD | C28: ARAD | D28: RURAL | E28: 38.333333 | F28: 28.571429 | H28: 7.0834783 | I28: 6.7 | K28: 5.5515625 | L28: 5.325 | N28: 60 | O28: 28 | P28: 0
A29: 28 | B29: LICEUL TEHNOLOGIC DE INDUSTRIE ALIMENTARĂ ARAD | C29: ARAD | D29: URBAN | E29: 70 | F29: 42.5 | G29: 57 | H29: 7.175873 | I29: 6.8879412 | J29: 6.9854386 | K29: 6.4434343 | L29: 6.0011765 | M29: 6.1831731 | N29: 90 | O29: 80 | P29: 100
A30: 29 | B30: LICEUL TEHNOLOGIC DE TRANSPORTURI AUTO "HENRI COANDĂ" ARAD | C30: ARAD | D30: URBAN | E30: 26.315789 | F30: 27.272727 | H30: 7.172 | I30: 6.4333333 | K30: 5.5152174 | L30: 4.7147059 | N30: 19 | O30: 11 | P30: 0
A31: 30 | B31: LICEUL TEHNOLOGIC DE ȘTIINȚE APLICATE ARAD | C31: ARAD | D31: URBAN | E31: 0 | F31: 0 | G31: 25.773196 | J31: 6.81 | K31: 5.1772727 | L31: 5.5366667 | M31: 5.2371429 | N31: 10 | O31: 14 | P31: 97
A32: 31 | B32: LICEUL TEHNOLOGIC UCECOM "SPIRU HARET" ARAD | C32: ARAD | D32: RURAL | G32: 0 | M32: 3.075 | N32: 0 | O32: 0 | P32: 2
A33: 32 | B33: LICEUL TEHNOLOGIC VINGA | C33: VINGA | D33: RURAL | E33: 33.333333 | F33: 68.421053 | G33: 36.842105 | H33: 6.5975 | I33: 7.5130769 | J33: 7.7914286 | K33: 5.4875 | L33: 6.1447368 | M33: 5.8157895 | N33: 12 | O33: 19 | P33: 19
A34: 33 | B34: LICEUL TEHNOLOGIC ”REGELE MIHAI I” SĂVÂRŞIN | C34: SĂVÂRŞIN | D34: RURAL | E34: 73.913043 | F34: 30 | G34: 40.909091 | H34: 7.5558824 | I34: 7.6333333 | J34: 7.1144444 | K34: 7.1065217 | L34: 6.1326087 | M34: 6.3431818 | N34: 23 | O34: 20 | P34: 22
A35: 34 | B35: LICEUL TEOLOGIC BAPTIST "ALEXA POPOVICI" ARAD | C35: ARAD | D35: URBAN | E35: 98.305085 | F35: 100 | G35: 100 | H35: 8.712931 | I35: 8.4278431 | J35: 8.6938462 | K35: 8.45 | L35: 8.1176471 | M35: 8.6990385 | N35: 59 | O35: 51 | P35: 52
A36: 35 | B36: LICEUL TEOLOGIC PENTICOSTAL ARAD | C36: ARAD | D36: URBAN | E36: 78.846154 | F36: 80.645161 | G36: 73.333333 | H36: 7.4436585 | I36: 7.5488 | J36: 7.3587879 | K36: 7.0961538 | L36: 6.9967742 | M36: 6.6354167 | N36: 52 | O36: 31 | P36: 45
A37: 36 | B37: LICEUL TEORETIC "ADAM MULLER GUTTENBRUNN" ARAD | C37: ARAD | D37: URBAN | E37: 83.809524 | F37: 90.909091 | G37: 79.381443 | H37: 7.7810227 | I37: 8.002 | J37: 7.848961 | K37: 7.4117925 | L37: 7.5266667 | M37: 7.1597938 | N37: 105 | O37: 44 | P37: 97
A38: 37 | B38: LICEUL TEORETIC "GHEORGHE LAZĂR" PECICA | C38: PECICA | D38: URBAN | E38: 41.463415 | F38: 35.714286 | G38: 47.727273 | H38: 7.5505882 | I38: 6.85 | J38: 6.9933333 | K38: 5.7093023 | L38: 5.1774194 | M38: 5.5923913 | N38: 41 | O38: 28 | P38: 44
A39: 38 | B39: LICEUL TEORETIC "JOZEF GREGOR TAJOVSKY" NĂDLAC | C39: NĂDLAC | D39: URBAN | E39: 72.881356 | F39: 61.363636 | G39: 52.380952 | H39: 7.8281395 | I39: 7.9392593 | J39: 7.5518182 | K39: 6.8758333 | L39: 6.4761364 | M39: 5.8977612 | N39: 59 | O39: 44 | P39: 63
A40: 39 | B40: LICEUL TEORETIC "MIHAI VELICIU" CHIŞINEU CRIŞ | C40: CHIŞINEU-CRIŞ | D40: RURAL | E40: 93.617021 | F40: 64.615385 | G40: 81.904762 | H40: 8.17875 | I40: 7.7783333 | J40: 7.9268605 | K40: 7.7851064 | L40: 6.6215385 | M40: 7.1538095 | N40: 94 | O40: 65 | P40: 105
A41: 40 | B41: LICEUL TEORETIC CERMEI | C41: CERMEI | D41: RURAL | E41: 40 | F41: 26.666667 | G41: 0 | H41: 7.0133333 | I41: 6.7775 | K41: 5.5205882 | L41: 5.828125 | M41: 6.2 | N41: 15 | O41: 15 | P41: 2
A42: 41 | B42: LICEUL TEORETIC PÂNCOTA | C42: PÂNCOTA | D42: URBAN | E42: 64.383562 | F42: 61.818182 | G42: 67.164179 | H42: 7.8451064 | I42: 7.7670588 | J42: 7.754 | K42: 6.8973684 | L42: 6.5581818 | M42: 6.5295775 | N42: 73 | O42: 55 | P42: 67
A43: 42 | B43: LICEUL TEORETIC SEBIŞ | C43: SEBIŞ | D43: RURAL | E43: 69.672131 | F43: 69.333333 | G43: 58.095238 | H43: 7.8185882 | I43: 7.7930769 | J43: 7.9163934 | K43: 6.6278226 | L43: 6.39875 | M43: 6.2420561 | N43: 122 | O43: 75 | P43: 105
A44: 43 | B44: SEMINARUL TEOLOGIC ORTODOX ARAD | C44: ARAD | D44: URBAN | E44: 74.074074 | F44: 67.857143 | G44: 66.666667 | H44: 7.8655 | I44: 7.4094737 | J44: 7.2138889 | K44: 6.9017857 | L44: 6.3107143 | M44: 5.7892857 | N44: 27 | O44: 28 | P44: 27

Sheet Evoluție promovabilitate
A1: Evoluția ratei de promovare (din candidații prezentați) pe fiecare unitate, 2024→2026, sortată descrescător după rata din 2026. "-" = unitatea nu a avut candidați la Bacalaureat în acel an (nu a existat sau nu a fost identificată în fișierul respectiv).
A3: Loc | B3: Unitate | C3: Localitate | D3: Mediu | E3: 2024 | F3: 2025 | G3: 2026 | H3: Δ 24→25 | I3: Δ 25→26 | J3: Δ total 24→26
A4: 1 | B4: LICEUL TEOLOGIC BAPTIST "ALEXA POPOVICI" ARAD | C4: ARAD | D4: URBAN | E4: =IFERROR(IF(ISBLANK(INDEX(Date_unitati!$E:$E,MATCH($B4,Date_unitati!$B:$B,0))),"-",INDEX(Date_unitati!$E:$E,MATCH($B4,Date_unitati!$B:$B,0))),"-") -> 98.305085 | F4: =IFERROR(IF(ISBLANK(INDEX(Date_unitati!$F:$F,MATCH($B4,Date_unitati!$B:$B,0))),"-",INDEX(Date_unitati!$F:$F,MATCH($B4,Date_unitati!$B:$B,0))),"-") -> 100 | G4: =IFERROR(IF(ISBLANK(INDEX(Date_unitati!$G:$G,MATCH($B4,Date_unitati!$B:$B,0))),"-",INDEX(Date_unitati!$G:$G,MATCH($B4,Date_unitati!$B:$B,0))),"-") -> 100 | H4: =IFERROR(ROUND(F4-E4,2),"-") -> 1.69 | I4: =IFERROR(ROUND(G4-F4,2),"-") -> 0 | J4: =IFERROR(ROUND(G4-E4,2),"-") -> 1.69
A5: 2 | B5: COLEGIUL NAŢIONAL "MOISE NICOARĂ" ARAD | C5: ARAD | D5: URBAN | E5: =IFERROR(IF(ISBLANK(INDEX(Date_unitati!$E:$E,MATCH($B5,Date_unitati!$B:$B,0))),"-",INDEX(Date_unitati!$E:$E,MATCH($B5,Date_unitati!$B:$B,0))),"-") -> 99.421965 | F5: =IFERROR(IF(ISBLANK(INDEX(Date_unitati!$F:$F,MATCH($B5,Date_unitati!$B:$B,0))),"-",INDEX(Date_unitati!$F:$F,MATCH($B5,Date_unitati!$B:$B,0))),"-") -> 100 | G5: =IFERROR(IF(ISBLANK(INDEX(Date_unitati!$G:$G,MATCH($B5,Date_unitati!$B:$B,0))),"-",INDEX(Date_unitati!$G:$G,MATCH($B5,Date_unitati!$B:$B,0))),"-") -> 98.765432 | H5: =IFERROR(ROUND(F5-E5,2),"-") -> 0.58 | I5: =IFERROR(ROUND(G5-F5,2),"-") -> -1.23 | J5: =IFERROR(ROUND(G5-E5,2),"-") -> -0.66
A6: 3 | B6: COLEGIUL NAŢIONAL "PREPARANDIA-DIMITRIE ŢICHINDEAL" ARAD | C6: ARAD | D6: URBAN | E6: =IFERROR(IF(ISBLANK(INDEX(Date_unitati!$E:$E,MATCH($B6,Date_unitati!$B:$B,0))),"-",INDEX(Date_unitati!$E:$E,MATCH($B6,Date_unitati!$B:$B,0))),"-") -> 99.173554 | F6: =IFERROR(IF(ISBLANK(INDEX(Date_unitati!$F:$F,MATCH($B6,Date_unitati!$B:$B,0))),"-",INDEX(Date_unitati!$F:$F,MATCH($B6,Date_unitati!$B:$B,0))),"-") -> 100 | G6: =IFERROR(IF(ISBLANK(INDEX(Date_unitati!$G:$G,MATCH($B6,Date_unitati!$B:$B,0))),"-",INDEX(Date_unitati!$G:$G,MATCH($B6,Date_unitati!$B:$B,0))),"-") -> 98.449612 | H6: =IFERROR(ROUND(F6-E6,2),"-") -> 0.83 | I6: =IFERROR(ROUND(G6-F6,2),"-") -> -1.55 | J6: =IFERROR(ROUND(G6-E6,2),"-") -> -0.72
A7: 4 | B7: COLEGIUL NAŢIONAL "VASILE GOLDIŞ" ARAD | C7: ARAD | D7: URBAN | E7: =IFERROR(IF(ISBLANK(INDEX(Date_unitati!$E:$E,MATCH($B7,Date_unitati!$B:$B,0))),"-",INDEX(Date_unitati!$E:$E,MATCH($B7,Date_unitati!$B:$B,0))),"-") -> 96.855346 | F7: =IFERROR(IF(ISBLANK(INDEX(Date_unitati!$F:$F,MATCH($B7,Date_unitati!$B:$B,0))),"-",INDEX(Date_unitati!$F:$F,MATCH($B7,Date_unitati!$B:$B,0))),"-") -> 97.540984 | G7: =IFERROR(IF(ISBLANK(INDEX(Date_unitati!$G:$G,MATCH($B7,Date_unitati!$B:$B,0))),"-",INDEX(Date_unitati!$G:$G,MATCH($B7,Date_unitati!$B:$B,0))),"-") -> 95.070423 | H7: =IFERROR(ROUND(F7-E7,2),"-") -> 0.69 | I7: =IFERROR(ROUND(G7-F7,2),"-") -> -2.47 | J7: =IFERROR(ROUND(G7-E7,2),"-") -> -1.78
A8: 5 | B8: COLEGIUL NAŢIONAL "ELENA GHIBA BIRTA" ARAD | C8: ARAD | D8: URBAN | E8: =IFERROR(IF(ISBLANK(INDEX(Date_unitati!$E:$E,MATCH($B8,Date_unitati!$B:$B,0))),"-",INDEX(Date_unitati!$E:$E,MATCH($B8,Date_unitati!$B:$B,0))),"-") -> 95.757576 | F8: =IFERROR(IF(ISBLANK(INDEX(Date_unitati!$F:$F,MATCH($B8,Date_unitati!$B:$B,0))),"-",INDEX(Date_unitati!$F:$F,MATCH($B8,Date_unitati!$B:$B,0))),"-") -> 87.903226 | G8: =IFERROR(IF(ISBLANK(INDEX(Date_unitati!$G:$G,MATCH($B8,Date_unitati!$B:$B,0))),"-",INDEX(Date_unitati!$G:$G,MATCH($B8,Date_unitati!$B:$B,0))),"-") -> 86.549708 | H8: =IFERROR(ROUND(F8-E8,2),"-") -> -7.85 | I8: =IFERROR(ROUND(G8-F8,2),"-") -> -1.35 | J8: =IFERROR(ROUND(G8-E8,2),"-") -> -9.21
A9: 6 | B9: COLEGIUL"CSIKY GERGELY" ARAD | C9: ARAD | D9: RURAL | E9: =IFERROR(IF(ISBLANK(INDEX(Date_unitati!$E:$E,MATCH($B9,Date_unitati!$B:$B,0))),"-",INDEX(Date_unitati!$E:$E,MATCH($B9,Date_unitati!$B:$B,0))),"-") -> 70.588235 | F9: =IFERROR(IF(ISBLANK(INDEX(Date_unitati!$F:$F,MATCH($B9,Date_unitati!$B:$B,0))),"-",INDEX(Date_unitati!$F:$F,MATCH($B9,Date_unitati!$B:$B,0))),"-") -> 81.395349 | G9: =IFERROR(IF(ISBLANK(INDEX(Date_unitati!$G:$G,MATCH($B9,Date_unitati!$B:$B,0))),"-",INDEX(Date_unitati!$G:$G,MATCH($B9,Date_unitati!$B:$B,0))),"-") -> 86 | H9: =IFERROR(ROUND(F9-E9,2),"-") -> 10.81 | I9: =IFERROR(ROUND(G9-F9,2),"-") -> 4.6 | J9: =IFERROR(ROUND(G9-E9,2),"-") -> 15.41
A10: 7 | B10: LICEUL TEORETIC "MIHAI VELICIU" CHIŞINEU CRIŞ | C10: CHIŞINEU-CRIŞ | D10: RURAL | E10: =IFERROR(IF(ISBLANK(INDEX(Date_unitati!$E:$E,MATCH($B10,Date_unitati!$B:$B,0))),"-",INDEX(Date_unitati!$E:$E,MATCH($B10,Date_unitati!$B:$B,0))),"-") -> 93.617021 | F10: =IFERROR(IF(ISBLANK(INDEX(Date_unitati!$F:$F,MATCH($B10,Date_unitati!$B:$B,0))),"-",INDEX(Date_unitati!$F:$F,MATCH($B10,Date_unitati!$B:$B,0))),"-") -> 64.615385 | G10: =IFERROR(IF(ISBLANK(INDEX(Date_unitati!$G:$G,MATCH($B10,Date_unitati!$B:$B,0))),"-",INDEX(Date_unitati!$G:$G,MATCH($B10,Date_unitati!$B:$B,0))),"-") -> 81.904762 | H10: =IFERROR(ROUND(F10-E10,2),"-") -> -29 | I10: =IFERROR(ROUND(G10-F10,2),"-") -> 17.29 | J10: =IFERROR(ROUND(G10-E10,2),"-") -> -11.71
A11: 8 | B11: LICEUL TEHNOLOGIC "ION CREANGĂ" CURTICI | C11: CURTICI | D11: URBAN | E11: =IFERROR(IF(ISBLANK(INDEX(Date_unitati!$E:$E,MATCH($B11,Date_unitati!$B:$B,0))),"-",INDEX(Date_unitati!$E:$E,MATCH($B11,Date_unitati!$B:$B,0))),"-") -> 75 | F11: =IFERROR(IF(ISBLANK(INDEX(Date_unitati!$F:$F,MATCH($B11,Date_unitati!$B:$B,0))),"-",INDEX(Date_unitati!$F:$F,MATCH($B11,Date_unitati!$B:$B,0))),"-") -> 61.904762 | G11: =IFERROR(IF(ISBLANK(INDEX(Date_unitati!$G:$G,MATCH($B11,Date_unitati!$B:$B,0))),"-",INDEX(Date_unitati!$G:$G,MATCH($B11,Date_unitati!$B:$B,0))),"-") -> 80 | H11: =IFERROR(ROUND(F11-E11,2),"-") -> -13.1 | I11: =IFERROR(ROUND(G11-F11,2),"-") -> 18.1 | J11: =IFERROR(ROUND(G11-E11,2),"-") -> 5
A12: 9 | B12: LICEUL TEORETIC "ADAM MULLER GUTTENBRUNN" ARAD | C12: ARAD | D12: URBAN | E12: =IFERROR(IF(ISBLANK(INDEX(Date_unitati!$E:$E,MATCH($B12,Date_unitati!$B:$B,0))),"-",INDEX(Date_unitati!$E:$E,MATCH($B12,Date_unitati!$B:$B,0))),"-") -> 83.809524 | F12: =IFERROR(IF(ISBLANK(INDEX(Date_unitati!$F:$F,MATCH($B12,Date_unitati!$B:$B,0))),"-",INDEX(Date_unitati!$F:$F,MATCH($B12,Date_unitati!$B:$B,0))),"-") -> 90.909091 | G12: =IFERROR(IF(ISBLANK(INDEX(Date_unitati!$G:$G,MATCH($B12,Date_unitati!$B:$B,0))),"-",INDEX(Date_unitati!$G:$G,MATCH($B12,Date_unitati!$B:$B,0))),"-") -> 79.381443 | H12: =IFERROR(ROUND(F12-E12,2),"-") -> 7.1 | I12: =IFERROR(ROUND(G12-F12,2),"-") -> -11.53 | J12: =IFERROR(ROUND(G12-E12,2),"-") -> -4.43
A13: 10 | B13: COLEGIUL ECONOMIC ARAD | C13: ARAD | D13: URBAN | E13: =IFERROR(IF(ISBLANK(INDEX(Date_unitati!$E:$E,MATCH($B13,Date_unitati!$B:$B,0))),"-",INDEX(Date_unitati!$E:$E,MATCH($B13,Date_unitati!$B:$B,0))),"-") -> 89.261745 | F13: =IFERROR(IF(ISBLANK(INDEX(Date_unitati!$F:$F,MATCH($B13,Date_unitati!$B:$B,0))),"-",INDEX(Date_unitati!$F:$F,MATCH($B13,Date_unitati!$B:$B,0))),"-") -> 80.672269 | G13: =IFERROR(IF(ISBLANK(INDEX(Date_unitati!$G:$G,MATCH($B13,Date_unitati!$B:$B,0))),"-",INDEX(Date_unitati!$G:$G,MATCH($B13,Date_unitati!$B:$B,0))),"-") -> 78.395062 | H13: =IFERROR(ROUND(F13-E13,2),"-") -> -8.59 | I13: =IFERROR(ROUND(G13-F13,2),"-") -> -2.28 | J13: =IFERROR(ROUND(G13-E13,2),"-") -> -10.87
A14: 11 | B14: COLEGIUL DE ARTE "SABIN DRĂGOI" ARAD | C14: ARAD | D14: URBAN | E14: =IFERROR(IF(ISBLANK(INDEX(Date_unitati!$E:$E,MATCH($B14,Date_unitati!$B:$B,0))),"-",INDEX(Date_unitati!$E:$E,MATCH($B14,Date_unitati!$B:$B,0))),"-") -> 80.672269 | F14: =IFERROR(IF(ISBLANK(INDEX(Date_unitati!$F:$F,MATCH($B14,Date_unitati!$B:$B,0))),"-",INDEX(Date_unitati!$F:$F,MATCH($B14,Date_unitati!$B:$B,0))),"-") -> 82.692308 | G14: =IFERROR(IF(ISBLANK(INDEX(Date_unitati!$G:$G,MATCH($B14,Date_unitati!$B:$B,0))),"-",INDEX(Date_unitati!$G:$G,MATCH($B14,Date_unitati!$B:$B,0))),"-") -> 77.235772 | H14: =IFERROR(ROUND(F14-E14,2),"-") -> 2.02 | I14: =IFERROR(ROUND(G14-F14,2),"-") -> -5.46 | J14: =IFERROR(ROUND(G14-E14,2),"-") -> -3.44
A15: 12 | B15: LICEUL NAŢIONAL DE INFORMATICĂ ARAD | C15: ARAD | D15: URBAN | E15: =IFERROR(IF(ISBLANK(INDEX(Date_unitati!$E:$E,MATCH($B15,Date_unitati!$B:$B,0))),"-",INDEX(Date_unitati!$E:$E,MATCH($B15,Date_unitati!$B:$B,0))),"-") -> 89.88764 | F15: =IFERROR(IF(ISBLANK(INDEX(Date_unitati!$F:$F,MATCH($B15,Date_unitati!$B:$B,0))),"-",INDEX(Date_unitati!$F:$F,MATCH($B15,Date_unitati!$B:$B,0))),"-") -> 68.852459 | G15: =IFERROR(IF(ISBLANK(INDEX(Date_unitati!$G:$G,MATCH($B15,Date_unitati!$B:$B,0))),"-",INDEX(Date_unitati!$G:$G,MATCH($B15,Date_unitati!$B:$B,0))),"-") -> 73.626374 | H15: =IFERROR(ROUND(F15-E15,2),"-") -> -21.04 | I15: =IFERROR(ROUND(G15-F15,2),"-") -> 4.77 | J15: =IFERROR(ROUND(G15-E15,2),"-") -> -16.26
... A46: 43 | B46: LICEUL TEHNOLOGIC DE TRANSPORTURI AUTO "HENRI COANDĂ" ARAD | C46: ARAD | D46: URBAN | E46: =IFERROR(IF(ISBLANK(INDEX(Date_unitati!$E:$E,MATCH($B46,Date_unitati!$B:$B,0))),"-",INDEX(Date_unitati!$E:$E,MATCH($B46,Date_unitati!$B:$B,0))),"-") -> 26.315789 | F46: =IFERROR(IF(ISBLANK(INDEX(Date_unitati!$F:$F,MATCH($B46,Date_unitati!$B:$B,0))),"-",INDEX(Date_unitati!$F:$F,MATCH($B46,Date_unitati!$B:$B,0))),"-") -> 27.272727 | G46: =IFERROR(IF(ISBLANK(INDEX(Date_unitati!$G:$G,MATCH($B46,Date_unitati!$B:$B,0))),"-",INDEX(Date_unitati!$G:$G,MATCH($B46,Date_unitati!$B:$B,0))),"-") -> - | H46: =IFERROR(ROUND(F46-E46,2),"-") -> 0.96 | I46: =IFERROR(ROUND(G46-F46,2),"-") -> - | J46: =IFERROR(ROUND(G46-E46,2),"-") -> -

Sheet Evoluție medie generală
A1: Evoluția mediei generale a promovaților pe fiecare unitate, 2024→2026, sortată descrescător după media din 2026.
A3: Loc | B3: Unitate | C3: Localitate | D3: Mediu | E3: 2024 | F3: 2025 | G3: 2026 | H3: Δ 24→25 | I3: Δ 25→26 | J3: Δ total 24→26
A4: 1 | B4: COLEGIUL NAŢIONAL "PREPARANDIA-DIMITRIE ŢICHINDEAL" ARAD | C4: ARAD | D4: URBAN | E4: =IFERROR(IF(ISBLANK(INDEX(Date_unitati!$H:$H,MATCH($B4,Date_unitati!$B:$B,0))),"-",INDEX(Date_unitati!$H:$H,MATCH($B4,Date_unitati!$B:$B,0))),"-") -> 9.0888333 | F4: =IFERROR(IF(ISBLANK(INDEX(Date_unitati!$I:$I,MATCH($B4,Date_unitati!$B:$B,0))),"-",INDEX(Date_unitati!$I:$I,MATCH($B4,Date_unitati!$B:$B,0))),"-") -> 8.9123134 | G4: =IFERROR(IF(ISBLANK(INDEX(Date_unitati!$J:$J,MATCH($B4,Date_unitati!$B:$B,0))),"-",INDEX(Date_unitati!$J:$J,MATCH($B4,Date_unitati!$B:$B,0))),"-") -> 9.0682677 | H4: =IFERROR(ROUND(F4-E4,2),"-") -> -0.18 | I4: =IFERROR(ROUND(G4-F4,2),"-") -> 0.16 | J4: =IFERROR(ROUND(G4-E4,2),"-") -> -0.02
A5: 2 | B5: COLEGIUL NAŢIONAL "MOISE NICOARĂ" ARAD | C5: ARAD | D5: URBAN | E5: =IFERROR(IF(ISBLANK(INDEX(Date_unitati!$H:$H,MATCH($B5,Date_unitati!$B:$B,0))),"-",INDEX(Date_unitati!$H:$H,MATCH($B5,Date_unitati!$B:$B,0))),"-") -> 9.0299419 | F5: =IFERROR(IF(ISBLANK(INDEX(Date_unitati!$I:$I,MATCH($B5,Date_unitati!$B:$B,0))),"-",INDEX(Date_unitati!$I:$I,MATCH($B5,Date_unitati!$B:$B,0))),"-") -> 8.818 | G5: =IFERROR(IF(ISBLANK(INDEX(Date_unitati!$J:$J,MATCH($B5,Date_unitati!$B:$B,0))),"-",INDEX(Date_unitati!$J:$J,MATCH($B5,Date_unitati!$B:$B,0))),"-") -> 8.944125 | H5: =IFERROR(ROUND(F5-E5,2),"-") -> -0.21 | I5: =IFERROR(ROUND(G5-F5,2),"-") -> 0.13 | J5: =IFERROR(ROUND(G5-E5,2),"-") -> -0.09
A6: 3 | B6: LICEUL TEOLOGIC BAPTIST "ALEXA POPOVICI" ARAD | C6: ARAD | D6: URBAN | E6: =IFERROR(IF(ISBLANK(INDEX(Date_unitati!$H:$H,MATCH($B6,Date_unitati!$B:$B,0))),"-",INDEX(Date_unitati!$H:$H,MATCH($B6,Date_unitati!$B:$B,0))),"-") -> 8.712931 | F6: =IFERROR(IF(ISBLANK(INDEX(Date_unitati!$I:$I,MATCH($B6,Date_unitati!$B:$B,0))),"-",INDEX(Date_unitati!$I:$I,MATCH($B6,Date_unitati!$B:$B,0))),"-") -> 8.4278431 | G6: =IFERROR(IF(ISBLANK(INDEX(Date_unitati!$J:$J,MATCH($B6,Date_unitati!$B:$B,0))),"-",INDEX(Date_unitati!$J:$J,MATCH($B6,Date_unitati!$B:$B,0))),"-") -> 8.6938462 | H6: =IFERROR(ROUND(F6-E6,2),"-") -> -0.29 | I6: =IFERROR(ROUND(G6-F6,2),"-") -> 0.27 | J6: =IFERROR(ROUND(G6-E6,2),"-") -> -0.02
A7: 4 | B7: COLEGIUL NAŢIONAL "VASILE GOLDIŞ" ARAD | C7: ARAD | D7: URBAN | E7: =IFERROR(IF(ISBLANK(INDEX(Date_unitati!$H:$H,MATCH($B7,Date_unitati!$B:$B,0))),"-",INDEX(Date_unitati!$H:$H,MATCH($B7,Date_unitati!$B:$B,0))),"-") -> 8.3914935 | F7: =IFERROR(IF(ISBLANK(INDEX(Date_unitati!$I:$I,MATCH($B7,Date_unitati!$B:$B,0))),"-",INDEX(Date_unitati!$I:$I,MATCH($B7,Date_unitati!$B:$B,0))),"-") -> 8.2507563 | G7: =IFERROR(IF(ISBLANK(INDEX(Date_unitati!$J:$J,MATCH($B7,Date_unitati!$B:$B,0))),"-",INDEX(Date_unitati!$J:$J,MATCH($B7,Date_unitati!$B:$B,0))),"-") -> 8.3920741 | H7: =IFERROR(ROUND(F7-E7,2),"-") -> -0.14 | I7: =IFERROR(ROUND(G7-F7,2),"-") -> 0.14 | J7: =IFERROR(ROUND(G7-E7,2),"-") -> 0
A8: 5 | B8: COLEGIUL NAŢIONAL "ELENA GHIBA BIRTA" ARAD | C8: ARAD | D8: URBAN | E8: =IFERROR(IF(ISBLANK(INDEX(Date_unitati!$H:$H,MATCH($B8,Date_unitati!$B:$B,0))),"-",INDEX(Date_unitati!$H:$H,MATCH($B8,Date_unitati!$B:$B,0))),"-") -> 8.2441139 | F8: =IFERROR(IF(ISBLANK(INDEX(Date_unitati!$I:$I,MATCH($B8,Date_unitati!$B:$B,0))),"-",INDEX(Date_unitati!$I:$I,MATCH($B8,Date_unitati!$B:$B,0))),"-") -> 7.9115596 | G8: =IFERROR(IF(ISBLANK(INDEX(Date_unitati!$J:$J,MATCH($B8,Date_unitati!$B:$B,0))),"-",INDEX(Date_unitati!$J:$J,MATCH($B8,Date_unitati!$B:$B,0))),"-") -> 8.0380405 | H8: =IFERROR(ROUND(F8-E8,2),"-") -> -0.33 | I8: =IFERROR(ROUND(G8-F8,2),"-") -> 0.13 | J8: =IFERROR(ROUND(G8-E8,2),"-") -> -0.21
A9: 6 | B9: LICEUL TEHNOLOGIC "EMIL CRĂCIUN LĂZUREANU" BELIU | C9: BELIU | D9: RURAL | E9: =IFERROR(IF(ISBLANK(INDEX(Date_unitati!$H:$H,MATCH($B9,Date_unitati!$B:$B,0))),"-",INDEX(Date_unitati!$H:$H,MATCH($B9,Date_unitati!$B:$B,0))),"-") -> 7.2146667 | F9: =IFERROR(IF(ISBLANK(INDEX(Date_unitati!$I:$I,MATCH($B9,Date_unitati!$B:$B,0))),"-",INDEX(Date_unitati!$I:$I,MATCH($B9,Date_unitati!$B:$B,0))),"-") -> 8.066 | G9: =IFERROR(IF(ISBLANK(INDEX(Date_unitati!$J:$J,MATCH($B9,Date_unitati!$B:$B,0))),"-",INDEX(Date_unitati!$J:$J,MATCH($B9,Date_unitati!$B:$B,0))),"-") -> 7.9375 | H9: =IFERROR(ROUND(F9-E9,2),"-") -> 0.85 | I9: =IFERROR(ROUND(G9-F9,2),"-") -> -0.13 | J9: =IFERROR(ROUND(G9-E9,2),"-") -> 0.72
A10: 7 | B10: LICEUL TEORETIC "MIHAI VELICIU" CHIŞINEU CRIŞ | C10: CHIŞINEU-CRIŞ | D10: RURAL | E10: =IFERROR(IF(ISBLANK(INDEX(Date_unitati!$H:$H,MATCH($B10,Date_unitati!$B:$B,0))),"-",INDEX(Date_unitati!$H:$H,MATCH($B10,Date_unitati!$B:$B,0))),"-") -> 8.17875 | F10: =IFERROR(IF(ISBLANK(INDEX(Date_unitati!$I:$I,MATCH($B10,Date_unitati!$B:$B,0))),"-",INDEX(Date_unitati!$I:$I,MATCH($B10,Date_unitati!$B:$B,0))),"-") -> 7.7783333 | G10: =IFERROR(IF(ISBLANK(INDEX(Date_unitati!$J:$J,MATCH($B10,Date_unitati!$B:$B,0))),"-",INDEX(Date_unitati!$J:$J,MATCH($B10,Date_unitati!$B:$B,0))),"-") -> 7.9268605 | H10: =IFERROR(ROUND(F10-E10,2),"-") -> -0.4 | I10: =IFERROR(ROUND(G10-F10,2),"-") -> 0.15 | J10: =IFERROR(ROUND(G10-E10,2),"-") -> -0.25
A11: 8 | B11: LICEUL TEORETIC SEBIŞ | C11: SEBIŞ | D11: RURAL | E11: =IFERROR(IF(ISBLANK(INDEX(Date_unitati!$H:$H,MATCH($B11,Date_unitati!$B:$B,0))),"-",INDEX(Date_unitati!$H:$H,MATCH($B11,Date_unitati!$B:$B,0))),"-") -> 7.8185882 | F11: =IFERROR(IF(ISBLANK(INDEX(Date_unitati!$I:$I,MATCH($B11,Date_unitati!$B:$B,0))),"-",INDEX(Date_unitati!$I:$I,MATCH($B11,Date_unitati!$B:$B,0))),"-") -> 7.7930769 | G11: =IFERROR(IF(ISBLANK(INDEX(Date_unitati!$J:$J,MATCH($B11,Date_unitati!$B:$B,0))),"-",INDEX(Date_unitati!$J:$J,MATCH($B11,Date_unitati!$B:$B,0))),"-") -> 7.9163934 | H11: =IFERROR(ROUND(F11-E11,2),"-") -> -0.03 | I11: =IFERROR(ROUND(G11-F11,2),"-") -> 0.12 | J11: =IFERROR(ROUND(G11-E11,2),"-") -> 0.1
A12: 9 | B12: COLEGIUL "MIHAI VITEAZUL" INEU | C12: INEU | D12: RURAL | E12: =IFERROR(IF(ISBLANK(INDEX(Date_unitati!$H:$H,MATCH($B12,Date_unitati!$B:$B,0))),"-",INDEX(Date_unitati!$H:$H,MATCH($B12,Date_unitati!$B:$B,0))),"-") -> 8.1732231 | F12: =IFERROR(IF(ISBLANK(INDEX(Date_unitati!$I:$I,MATCH($B12,Date_unitati!$B:$B,0))),"-",INDEX(Date_unitati!$I:$I,MATCH($B12,Date_unitati!$B:$B,0))),"-") -> 7.8596591 | G12: =IFERROR(IF(ISBLANK(INDEX(Date_unitati!$J:$J,MATCH($B12,Date_unitati!$B:$B,0))),"-",INDEX(Date_unitati!$J:$J,MATCH($B12,Date_unitati!$B:$B,0))),"-") -> 7.8958252 | H12: =IFERROR(ROUND(F12-E12,2),"-") -> -0.31 | I12: =IFERROR(ROUND(G12-F12,2),"-") -> 0.04 | J12: =IFERROR(ROUND(G12-E12,2),"-") -> -0.28
A13: 10 | B13: LICEUL TEORETIC "ADAM MULLER GUTTENBRUNN" ARAD | C13: ARAD | D13: URBAN | E13: =IFERROR(IF(ISBLANK(INDEX(Date_unitati!$H:$H,MATCH($B13,Date_unitati!$B:$B,0))),"-",INDEX(Date_unitati!$H:$H,MATCH($B13,Date_unitati!$B:$B,0))),"-") -> 7.7810227 | F13: =IFERROR(IF(ISBLANK(INDEX(Date_unitati!$I:$I,MATCH($B13,Date_unitati!$B:$B,0))),"-",INDEX(Date_unitati!$I:$I,MATCH($B13,Date_unitati!$B:$B,0))),"-") -> 8.002 | G13: =IFERROR(IF(ISBLANK(INDEX(Date_unitati!$J:$J,MATCH($B13,Date_unitati!$B:$B,0))),"-",INDEX(Date_unitati!$J:$J,MATCH($B13,Date_unitati!$B:$B,0))),"-") -> 7.848961 | H13: =IFERROR(ROUND(F13-E13,2),"-") -> 0.22 | I13: =IFERROR(ROUND(G13-F13,2),"-") -> -0.15 | J13: =IFERROR(ROUND(G13-E13,2),"-") -> 0.07
A14: 11 | B14: LICEUL NAŢIONAL DE INFORMATICĂ ARAD | C14: ARAD | D14: URBAN | E14: =IFERROR(IF(ISBLANK(INDEX(Date_unitati!$H:$H,MATCH($B14,Date_unitati!$B:$B,0))),"-",INDEX(Date_unitati!$H:$H,MATCH($B14,Date_unitati!$B:$B,0))),"-") -> 7.968125 | F14: =IFERROR(IF(ISBLANK(INDEX(Date_unitati!$I:$I,MATCH($B14,Date_unitati!$B:$B,0))),"-",INDEX(Date_unitati!$I:$I,MATCH($B14,Date_unitati!$B:$B,0))),"-") -> 7.7359524 | G14: =IFERROR(IF(ISBLANK(INDEX(Date_unitati!$J:$J,MATCH($B14,Date_unitati!$B:$B,0))),"-",INDEX(Date_unitati!$J:$J,MATCH($B14,Date_unitati!$B:$B,0))),"-") -> 7.8307463 | H14: =IFERROR(ROUND(F14-E14,2),"-") -> -0.23 | I14: =IFERROR(ROUND(G14-F14,2),"-") -> 0.09 | J14: =IFERROR(ROUND(G14-E14,2),"-") -> -0.14
A15: 12 | B15: COLEGIUL"CSIKY GERGELY" ARAD | C15: ARAD | D15: RURAL | E15: =IFERROR(IF(ISBLANK(INDEX(Date_unitati!$H:$H,MATCH($B15,Date_unitati!$B:$B,0))),"-",INDEX(Date_unitati!$H:$H,MATCH($B15,Date_unitati!$B:$B,0))),"-") -> 7.6558333 | F15: =IFERROR(IF(ISBLANK(INDEX(Date_unitati!$I:$I,MATCH($B15,Date_unitati!$B:$B,0))),"-",INDEX(Date_unitati!$I:$I,MATCH($B15,Date_unitati!$B:$B,0))),"-") -> 7.8914286 | G15: =IFERROR(IF(ISBLANK(INDEX(Date_unitati!$J:$J,MATCH($B15,Date_unitati!$B:$B,0))),"-",INDEX(Date_unitati!$J:$J,MATCH($B15,Date_unitati!$B:$B,0))),"-") -> 7.8169767 | H15: =IFERROR(ROUND(F15-E15,2),"-") -> 0.24 | I15: =IFERROR(ROUND(G15-F15,2),"-") -> -0.07 | J15: =IFERROR(ROUND(G15-E15,2),"-") -> 0.16
... A46: 43 | B46: LICEUL TEORETIC CERMEI | C46: CERMEI | D46: RURAL | E46: =IFERROR(IF(ISBLANK(INDEX(Date_unitati!$H:$H,MATCH($B46,Date_unitati!$B:$B,0))),"-",INDEX(Date_unitati!$H:$H,MATCH($B46,Date_unitati!$B:$B,0))),"-") -> 7.0133333 | F46: =IFERROR(IF(ISBLANK(INDEX(Date_unitati!$I:$I,MATCH($B46,Date_unitati!$B:$B,0))),"-",INDEX(Date_unitati!$I:$I,MATCH($B46,Date_unitati!$B:$B,0))),"-") -> 6.7775 | G46: =IFERROR(IF(ISBLANK(INDEX(Date_unitati!$J:$J,MATCH($B46,Date_unitati!$B:$B,0))),"-",INDEX(Date_unitati!$J:$J,MATCH($B46,Date_unitati!$B:$B,0))),"-") -> - | H46: =IFERROR(ROUND(F46-E46,2),"-") -> -0.24 | I46: =IFERROR(ROUND(G46-F46,2),"-") -> - | J46: =IFERROR(ROUND(G46-E46,2),"-") -> -

Sheet Evoluție Lb. Română
A1: Evoluția mediei la Limba și literatura română (proba A, comună tuturor candidaților) pe fiecare unitate, 2024→2026.
A3: Loc | B3: Unitate | C3: Localitate | D3: Mediu | E3: 2024 | F3: 2025 | G3: 2026 | H3: Δ 24→25 | I3: Δ 25→26 | J3: Δ total 24→26
A4: 1 | B4: LICEUL TEOLOGIC BAPTIST "ALEXA POPOVICI" ARAD | C4: ARAD | D4: URBAN | E4: =IFERROR(IF(ISBLANK(INDEX(Date_unitati!$K:$K,MATCH($B4,Date_unitati!$B:$B,0))),"-",INDEX(Date_unitati!$K:$K,MATCH($B4,Date_unitati!$B:$B,0))),"-") -> 8.45 | F4: =IFERROR(IF(ISBLANK(INDEX(Date_unitati!$L:$L,MATCH($B4,Date_unitati!$B:$B,0))),"-",INDEX(Date_unitati!$L:$L,MATCH($B4,Date_unitati!$B:$B,0))),"-") -> 8.1176471 | G4: =IFERROR(IF(ISBLANK(INDEX(Date_unitati!$M:$M,MATCH($B4,Date_unitati!$B:$B,0))),"-",INDEX(Date_unitati!$M:$M,MATCH($B4,Date_unitati!$B:$B,0))),"-") -> 8.6990385 | H4: =IFERROR(ROUND(F4-E4,2),"-") -> -0.33 | I4: =IFERROR(ROUND(G4-F4,2),"-") -> 0.58 | J4: =IFERROR(ROUND(G4-E4,2),"-") -> 0.25
A5: 2 | B5: COLEGIUL NAŢIONAL "MOISE NICOARĂ" ARAD | C5: ARAD | D5: URBAN | E5: =IFERROR(IF(ISBLANK(INDEX(Date_unitati!$K:$K,MATCH($B5,Date_unitati!$B:$B,0))),"-",INDEX(Date_unitati!$K:$K,MATCH($B5,Date_unitati!$B:$B,0))),"-") -> 8.7820809 | F5: =IFERROR(IF(ISBLANK(INDEX(Date_unitati!$L:$L,MATCH($B5,Date_unitati!$B:$B,0))),"-",INDEX(Date_unitati!$L:$L,MATCH($B5,Date_unitati!$B:$B,0))),"-") -> 8.5845455 | G5: =IFERROR(IF(ISBLANK(INDEX(Date_unitati!$M:$M,MATCH($B5,Date_unitati!$B:$B,0))),"-",INDEX(Date_unitati!$M:$M,MATCH($B5,Date_unitati!$B:$B,0))),"-") -> 8.6779141 | H5: =IFERROR(ROUND(F5-E5,2),"-") -> -0.2 | I5: =IFERROR(ROUND(G5-F5,2),"-") -> 0.09 | J5: =IFERROR(ROUND(G5-E5,2),"-") -> -0.1
A6: 3 | B6: COLEGIUL NAŢIONAL "PREPARANDIA-DIMITRIE ŢICHINDEAL" ARAD | C6: ARAD | D6: URBAN | E6: =IFERROR(IF(ISBLANK(INDEX(Date_unitati!$K:$K,MATCH($B6,Date_unitati!$B:$B,0))),"-",INDEX(Date_unitati!$K:$K,MATCH($B6,Date_unitati!$B:$B,0))),"-") -> 8.7319672 | F6: =IFERROR(IF(ISBLANK(INDEX(Date_unitati!$L:$L,MATCH($B6,Date_unitati!$B:$B,0))),"-",INDEX(Date_unitati!$L:$L,MATCH($B6,Date_unitati!$B:$B,0))),"-") -> 8.694403 | G6: =IFERROR(IF(ISBLANK(INDEX(Date_unitati!$M:$M,MATCH($B6,Date_unitati!$B:$B,0))),"-",INDEX(Date_unitati!$M:$M,MATCH($B6,Date_unitati!$B:$B,0))),"-") -> 8.6007752 | H6: =IFERROR(ROUND(F6-E6,2),"-") -> -0.04 | I6: =IFERROR(ROUND(G6-F6,2),"-") -> -0.09 | J6: =IFERROR(ROUND(G6-E6,2),"-") -> -0.13
A7: 4 | B7: COLEGIUL NAŢIONAL "VASILE GOLDIŞ" ARAD | C7: ARAD | D7: URBAN | E7: =IFERROR(IF(ISBLANK(INDEX(Date_unitati!$K:$K,MATCH($B7,Date_unitati!$B:$B,0))),"-",INDEX(Date_unitati!$K:$K,MATCH($B7,Date_unitati!$B:$B,0))),"-") -> 8.1877358 | F7: =IFERROR(IF(ISBLANK(INDEX(Date_unitati!$L:$L,MATCH($B7,Date_unitati!$B:$B,0))),"-",INDEX(Date_unitati!$L:$L,MATCH($B7,Date_unitati!$B:$B,0))),"-") -> 8.1313008 | G7: =IFERROR(IF(ISBLANK(INDEX(Date_unitati!$M:$M,MATCH($B7,Date_unitati!$B:$B,0))),"-",INDEX(Date_unitati!$M:$M,MATCH($B7,Date_unitati!$B:$B,0))),"-") -> 8.0823944 | H7: =IFERROR(ROUND(F7-E7,2),"-") -> -0.06 | I7: =IFERROR(ROUND(G7-F7,2),"-") -> -0.05 | J7: =IFERROR(ROUND(G7-E7,2),"-") -> -0.11
A8: 5 | B8: COLEGIUL NAŢIONAL "ELENA GHIBA BIRTA" ARAD | C8: ARAD | D8: URBAN | E8: =IFERROR(IF(ISBLANK(INDEX(Date_unitati!$K:$K,MATCH($B8,Date_unitati!$B:$B,0))),"-",INDEX(Date_unitati!$K:$K,MATCH($B8,Date_unitati!$B:$B,0))),"-") -> 8.0912121 | F8: =IFERROR(IF(ISBLANK(INDEX(Date_unitati!$L:$L,MATCH($B8,Date_unitati!$B:$B,0))),"-",INDEX(Date_unitati!$L:$L,MATCH($B8,Date_unitati!$B:$B,0))),"-") -> 7.5152 | G8: =IFERROR(IF(ISBLANK(INDEX(Date_unitati!$M:$M,MATCH($B8,Date_unitati!$B:$B,0))),"-",INDEX(Date_unitati!$M:$M,MATCH($B8,Date_unitati!$B:$B,0))),"-") -> 7.8363372 | H8: =IFERROR(ROUND(F8-E8,2),"-") -> -0.58 | I8: =IFERROR(ROUND(G8-F8,2),"-") -> 0.32 | J8: =IFERROR(ROUND(G8-E8,2),"-") -> -0.25
A9: 6 | B9: LICEUL NAŢIONAL DE INFORMATICĂ ARAD | C9: ARAD | D9: URBAN | E9: =IFERROR(IF(ISBLANK(INDEX(Date_unitati!$K:$K,MATCH($B9,Date_unitati!$B:$B,0))),"-",INDEX(Date_unitati!$K:$K,MATCH($B9,Date_unitati!$B:$B,0))),"-") -> 7.7630435 | F9: =IFERROR(IF(ISBLANK(INDEX(Date_unitati!$L:$L,MATCH($B9,Date_unitati!$B:$B,0))),"-",INDEX(Date_unitati!$L:$L,MATCH($B9,Date_unitati!$B:$B,0))),"-") -> 6.9145161 | G9: =IFERROR(IF(ISBLANK(INDEX(Date_unitati!$M:$M,MATCH($B9,Date_unitati!$B:$B,0))),"-",INDEX(Date_unitati!$M:$M,MATCH($B9,Date_unitati!$B:$B,0))),"-") -> 7.3619565 | H9: =IFERROR(ROUND(F9-E9,2),"-") -> -0.85 | I9: =IFERROR(ROUND(G9-F9,2),"-") -> 0.45 | J9: =IFERROR(ROUND(G9-E9,2),"-") -> -0.4
A10: 7 | B10: COLEGIUL"CSIKY GERGELY" ARAD | C10: ARAD | D10: RURAL | E10: =IFERROR(IF(ISBLANK(INDEX(Date_unitati!$K:$K,MATCH($B10,Date_unitati!$B:$B,0))),"-",INDEX(Date_unitati!$K:$K,MATCH($B10,Date_unitati!$B:$B,0))),"-") -> 6.1114286 | F10: =IFERROR(IF(ISBLANK(INDEX(Date_unitati!$L:$L,MATCH($B10,Date_unitati!$B:$B,0))),"-",INDEX(Date_unitati!$L:$L,MATCH($B10,Date_unitati!$B:$B,0))),"-") -> 6.8965116 | G10: =IFERROR(IF(ISBLANK(INDEX(Date_unitati!$M:$M,MATCH($B10,Date_unitati!$B:$B,0))),"-",INDEX(Date_unitati!$M:$M,MATCH($B10,Date_unitati!$B:$B,0))),"-") -> 7.222 | H10: =IFERROR(ROUND(F10-E10,2),"-") -> 0.79 | I10: =IFERROR(ROUND(G10-F10,2),"-") -> 0.33 | J10: =IFERROR(ROUND(G10-E10,2),"-") -> 1.11
A11: 8 | B11: LICEUL TEORETIC "ADAM MULLER GUTTENBRUNN" ARAD | C11: ARAD | D11: URBAN | E11: =IFERROR(IF(ISBLANK(INDEX(Date_unitati!$K:$K,MATCH($B11,Date_unitati!$B:$B,0))),"-",INDEX(Date_unitati!$K:$K,MATCH($B11,Date_unitati!$B:$B,0))),"-") -> 7.4117925 | F11: =IFERROR(IF(ISBLANK(INDEX(Date_unitati!$L:$L,MATCH($B11,Date_unitati!$B:$B,0))),"-",INDEX(Date_unitati!$L:$L,MATCH($B11,Date_unitati!$B:$B,0))),"-") -> 7.5266667 | G11: =IFERROR(IF(ISBLANK(INDEX(Date_unitati!$M:$M,MATCH($B11,Date_unitati!$B:$B,0))),"-",INDEX(Date_unitati!$M:$M,MATCH($B11,Date_unitati!$B:$B,0))),"-") -> 7.1597938 | H11: =IFERROR(ROUND(F11-E11,2),"-") -> 0.11 | I11: =IFERROR(ROUND(G11-F11,2),"-") -> -0.37 | J11: =IFERROR(ROUND(G11-E11,2),"-") -> -0.25
A12: 9 | B12: LICEUL TEORETIC "MIHAI VELICIU" CHIŞINEU CRIŞ | C12: CHIŞINEU-CRIŞ | D12: RURAL | E12: =IFERROR(IF(ISBLANK(INDEX(Date_unitati!$K:$K,MATCH($B12,Date_unitati!$B:$B,0))),"-",INDEX(Date_unitati!$K:$K,MATCH($B12,Date_unitati!$B:$B,0))),"-") -> 7.7851064 | F12: =IFERROR(IF(ISBLANK(INDEX(Date_unitati!$L:$L,MATCH($B12,Date_unitati!$B:$B,0))),"-",INDEX(Date_unitati!$L:$L,MATCH($B12,Date_unitati!$B:$B,0))),"-") -> 6.6215385 | G12: =IFERROR(IF(ISBLANK(INDEX(Date_unitati!$M:$M,MATCH($B12,Date_unitati!$B:$B,0))),"-",INDEX(Date_unitati!$M:$M,MATCH($B12,Date_unitati!$B:$B,0))),"-") -> 7.1538095 | H12: =IFERROR(ROUND(F12-E12,2),"-") -> -1.16 | I12: =IFERROR(ROUND(G12-F12,2),"-") -> 0.53 | J12: =IFERROR(ROUND(G12-E12,2),"-") -> -0.63
A13: 10 | B13: LICEUL TEHNOLOGIC "ION CREANGĂ" CURTICI | C13: CURTICI | D13: URBAN | E13: =IFERROR(IF(ISBLANK(INDEX(Date_unitati!$K:$K,MATCH($B13,Date_unitati!$B:$B,0))),"-",INDEX(Date_unitati!$K:$K,MATCH($B13,Date_unitati!$B:$B,0))),"-") -> 6.7416667 | F13: =IFERROR(IF(ISBLANK(INDEX(Date_unitati!$L:$L,MATCH($B13,Date_unitati!$B:$B,0))),"-",INDEX(Date_unitati!$L:$L,MATCH($B13,Date_unitati!$B:$B,0))),"-") -> 6.3833333 | G13: =IFERROR(IF(ISBLANK(INDEX(Date_unitati!$M:$M,MATCH($B13,Date_unitati!$B:$B,0))),"-",INDEX(Date_unitati!$M:$M,MATCH($B13,Date_unitati!$B:$B,0))),"-") -> 6.8571429 | H13: =IFERROR(ROUND(F13-E13,2),"-") -> -0.36 | I13: =IFERROR(ROUND(G13-F13,2),"-") -> 0.47 | J13: =IFERROR(ROUND(G13-E13,2),"-") -> 0.12
A14: 11 | B14: COLEGIUL DE ARTE "SABIN DRĂGOI" ARAD | C14: ARAD | D14: URBAN | E14: =IFERROR(IF(ISBLANK(INDEX(Date_unitati!$K:$K,MATCH($B14,Date_unitati!$B:$B,0))),"-",INDEX(Date_unitati!$K:$K,MATCH($B14,Date_unitati!$B:$B,0))),"-") -> 7.1516807 | F14: =IFERROR(IF(ISBLANK(INDEX(Date_unitati!$L:$L,MATCH($B14,Date_unitati!$B:$B,0))),"-",INDEX(Date_unitati!$L:$L,MATCH($B14,Date_unitati!$B:$B,0))),"-") -> 6.5785714 | G14: =IFERROR(IF(ISBLANK(INDEX(Date_unitati!$M:$M,MATCH($B14,Date_unitati!$B:$B,0))),"-",INDEX(Date_unitati!$M:$M,MATCH($B14,Date_unitati!$B:$B,0))),"-") -> 6.7211382 | H14: =IFERROR(ROUND(F14-E14,2),"-") -> -0.57 | I14: =IFERROR(ROUND(G14-F14,2),"-") -> 0.14 | J14: =IFERROR(ROUND(G14-E14,2),"-") -> -0.43
A15: 12 | B15: LICEUL TEOLOGIC PENTICOSTAL ARAD | C15: ARAD | D15: URBAN | E15: =IFERROR(IF(ISBLANK(INDEX(Date_unitati!$K:$K,MATCH($B15,Date_unitati!$B:$B,0))),"-",INDEX(Date_unitati!$K:$K,MATCH($B15,Date_unitati!$B:$B,0))),"-") -> 7.0961538 | F15: =IFERROR(IF(ISBLANK(INDEX(Date_unitati!$L:$L,MATCH($B15,Date_unitati!$B:$B,0))),"-",INDEX(Date_unitati!$L:$L,MATCH($B15,Date_unitati!$B:$B,0))),"-") -> 6.9967742 | G15: =IFERROR(IF(ISBLANK(INDEX(Date_unitati!$M:$M,MATCH($B15,Date_unitati!$B:$B,0))),"-",INDEX(Date_unitati!$M:$M,MATCH($B15,Date_unitati!$B:$B,0))),"-") -> 6.6354167 | H15: =IFERROR(ROUND(F15-E15,2),"-") -> -0.1 | I15: =IFERROR(ROUND(G15-F15,2),"-") -> -0.36 | J15: =IFERROR(ROUND(G15-E15,2),"-") -> -0.46
... A46: 43 | B46: LICEUL TEHNOLOGIC DE TRANSPORTURI AUTO "HENRI COANDĂ" ARAD | C46: ARAD | D46: URBAN | E46: =IFERROR(IF(ISBLANK(INDEX(Date_unitati!$K:$K,MATCH($B46,Date_unitati!$B:$B,0))),"-",INDEX(Date_unitati!$K:$K,MATCH($B46,Date_unitati!$B:$B,0))),"-") -> 5.5152174 | F46: =IFERROR(IF(ISBLANK(INDEX(Date_unitati!$L:$L,MATCH($B46,Date_unitati!$B:$B,0))),"-",INDEX(Date_unitati!$L:$L,MATCH($B46,Date_unitati!$B:$B,0))),"-") -> 4.7147059 | G46: =IFERROR(IF(ISBLANK(INDEX(Date_unitati!$M:$M,MATCH($B46,Date_unitati!$B:$B,0))),"-",INDEX(Date_unitati!$M:$M,MATCH($B46,Date_unitati!$B:$B,0))),"-") -> - | H46: =IFERROR(ROUND(F46-E46,2),"-") -> -0.8 | I46: =IFERROR(ROUND(G46-F46,2),"-") -> - | J46: =IFERROR(ROUND(G46-E46,2),"-") -> -

Sheet Date_ProbaC
A1: Subiect | B1: Unitate | C1: Localitate | D1: Mediu | E1: Nr_2024 | F1: Medie_2024 | G1: Nr_2025 | H1: Medie_2025 | I1: Nr_2026 | J1: Medie_2026 | K1: Cheie
A2: Istorie | B2: COLEGIUL "MIHAI VITEAZUL" INEU | C2: INEU | D2: RURAL | E2: 34 | F2: 7.6426471 | G2: 32 | H2: 7.54375 | I2: 31 | J2: 8.366129 | K2: =A2&"||"&B2 -> Istorie||COLEGIUL "MIHAI VITEAZUL" INEU
A3: Istorie | B3: COLEGIUL DE ARTE "SABIN DRĂGOI" ARAD | C3: ARAD | D3: URBAN | E3: 120 | F3: 6.7875 | G3: 105 | H3: 6.6290476 | I3: 124 | J3: 6.8193548 | K3: =A3&"||"&B3 -> Istorie||COLEGIUL DE ARTE "SABIN DRĂGOI" ARAD
A4: Istorie | B4: COLEGIUL NAŢIONAL "ELENA GHIBA BIRTA" ARAD | C4: ARAD | D4: URBAN | E4: 70 | F4: 8.5585714 | G4: 65 | H4: 8.1661538 | I4: 63 | J4: 8.9650794 | K4: =A4&"||"&B4 -> Istorie||COLEGIUL NAŢIONAL "ELENA GHIBA BIRTA" ARAD
A5: Istorie | B5: COLEGIUL NAŢIONAL "MOISE NICOARĂ" ARAD | C5: ARAD | D5: URBAN | E5: 33 | F5: 9.2151515 | G5: 31 | H5: 9.416129 | I5: 30 | J5: 9.6416667 | K5: =A5&"||"&B5 -> Istorie||COLEGIUL NAŢIONAL "MOISE NICOARĂ" ARAD
A6: Istorie | B6: COLEGIUL NAŢIONAL "PREPARANDIA-DIMITRIE ŢICHINDEAL" ARAD | C6: ARAD | D6: URBAN | E6: 33 | F6: 8.9075758 | G6: 53 | H6: 8.4679245 | I6: 53 | J6: 8.9518868 | K6: =A6&"||"&B6 -> Istorie||COLEGIUL NAŢIONAL "PREPARANDIA-DIMITRIE ŢICHINDEAL" ARAD
A7: Istorie | B7: COLEGIUL NAŢIONAL "VASILE GOLDIŞ" ARAD | C7: ARAD | D7: URBAN | E7: 65 | F7: 8.0792308 | G7: 58 | H7: 8.2336207 | I7: 64 | J7: 8.5070313 | K7: =A7&"||"&B7 -> Istorie||COLEGIUL NAŢIONAL "VASILE GOLDIŞ" ARAD
A8: Istorie | B8: COLEGIUL PARTICULAR "VASILE GOLDIŞ" ARAD | C8: ARAD | D8: URBAN | E8: 37 | F8: 6.4824324 | G8: 12 | H8: 5.6458333 | I8: 33 | J8: 6.1848485 | K8: =A8&"||"&B8 -> Istorie||COLEGIUL PARTICULAR "VASILE GOLDIŞ" ARAD
A9: Istorie | B9: COLEGIUL"CSIKY GERGELY" ARAD | C9: ARAD | D9: RURAL | E9: 2 | F9: 5.7 | I9: 9 | J9: 8.1777778 | K9: =A9&"||"&B9 -> Istorie||COLEGIUL"CSIKY GERGELY" ARAD
A10: Istorie | B10: LICEUL "ATANASIE MARIENESCU" LIPOVA | C10: LIPOVA | D10: URBAN | E10: 31 | F10: 6.5870968 | G10: 27 | H10: 6.7907407 | I10: 31 | J10: 6.7354839 | K10: =A10&"||"&B10 -> Istorie||LICEUL "ATANASIE MARIENESCU" LIPOVA
A11: Istorie | B11: LICEUL "IOAN BUTEANU" GURAHONŢ | C11: GURAHONŢ | D11: RURAL | E11: 33 | F11: 7.1469697 | G11: 34 | H11: 7.6102941 | I11: 28 | J11: 6.7910714 | K11: =A11&"||"&B11 -> Istorie||LICEUL "IOAN BUTEANU" GURAHONŢ
A12: Istorie | B12: LICEUL CU PROGRAM SPORTIV ARAD | C12: ARAD | D12: URBAN | E12: 47 | F12: 5.7510638 | G12: 39 | H12: 5.5333333 | I12: 39 | J12: 5.6025641 | K12: =A12&"||"&B12 -> Istorie||LICEUL CU PROGRAM SPORTIV ARAD
A13: Istorie | B13: LICEUL SPECIAL "SFÂNTA MARIA" ARAD | C13: ARAD | D13: RURAL | E13: 2 | F13: 7.375 | K13: =A13&"||"&B13 -> Istorie||LICEUL SPECIAL "SFÂNTA MARIA" ARAD
A14: Istorie | B14: LICEUL TEHNOLOGIC "STEFAN HELL" SÂNTANA | C14: SÂNTANA | D14: URBAN | E14: 31 | F14: 6.5935484 | G14: 21 | H14: 5.7595238 | I14: 29 | J14: 6.5258621 | K14: =A14&"||"&B14 -> Istorie||LICEUL TEHNOLOGIC "STEFAN HELL" SÂNTANA
A15: Istorie | B15: LICEUL TEOLOGIC BAPTIST "ALEXA POPOVICI" ARAD | C15: ARAD | D15: URBAN | E15: 30 | F15: 8.295 | G15: 29 | H15: 8.4482759 | I15: 25 | J15: 9.03 | K15: =A15&"||"&B15 -> Istorie||LICEUL TEOLOGIC BAPTIST "ALEXA POPOVICI" ARAD
A16: Istorie | B16: LICEUL TEOLOGIC PENTICOSTAL ARAD | C16: ARAD | D16: URBAN | E16: 26 | F16: 6.3 | G16: 20 | H16: 7.0025 | I16: 28 | J16: 6.7071429 | K16: =A16&"||"&B16 -> Istorie||LICEUL TEOLOGIC PENTICOSTAL ARAD
A17: Istorie | B17: LICEUL TEORETIC "ADAM MULLER GUTTENBRUNN" ARAD | C17: ARAD | D17: URBAN | E17: 52 | F17: 7.6144231 | G17: 36 | H17: 7.8972222 | I17: 60 | J17: 8.1983333 | K17: =A17&"||"&B17 -> Istorie||LICEUL TEORETIC "ADAM MULLER GUTTENBRUNN" ARAD
A18: Istorie | B18: LICEUL TEORETIC "GHEORGHE LAZĂR" PECICA | C18: PECICA | D18: URBAN | E18: 29 | F18: 4.9413793 | G18: 29 | H18: 4.7275862 | I18: 26 | J18: 5.3576923 | K18: =A18&"||"&B18 -> Istorie||LICEUL TEORETIC "GHEORGHE LAZĂR" PECICA
A19: Istorie | B19: LICEUL TEORETIC "JOZEF GREGOR TAJOVSKY" NĂDLAC | C19: NĂDLAC | D19: URBAN | E19: 42 | F19: 7.1119048 | G19: 43 | H19: 6.5360465 | I19: 47 | J19: 6.2808511 | K19: =A19&"||"&B19 -> Istorie||LICEUL TEORETIC "JOZEF GREGOR TAJOVSKY" NĂDLAC
A20: Istorie | B20: LICEUL TEORETIC "MIHAI VELICIU" CHIŞINEU CRIŞ | C20: CHIŞINEU-CRIŞ | D20: RURAL | E20: 32 | F20: 7.9765625 | G20: 30 | H20: 7.1116667 | I20: 54 | J20: 7.4481481 | K20: =A20&"||"&B20 -> Istorie||LICEUL TEORETIC "MIHAI VELICIU" CHIŞINEU CRIŞ
A21: Istorie | B21: LICEUL TEORETIC PÂNCOTA | C21: PÂNCOTA | D21: RURAL | E21: 44 | F21: 6.6443182 | G21: 35 | H21: 6.0742857 | I21: 41 | J21: 6.4036585 | K21: =A21&"||"&B21 -> Istorie||LICEUL TEORETIC PÂNCOTA
A22: Istorie | B22: LICEUL TEORETIC SEBIŞ | C22: SEBIŞ | D22: RURAL | E22: 31 | F22: 7.8774194 | G22: 30 | H22: 7.745 | I22: 32 | J22: 8.0296875 | K22: =A22&"||"&B22 -> Istorie||LICEUL TEORETIC SEBIŞ
A23: Istorie | B23: SEMINARUL TEOLOGIC ORTODOX ARAD | C23: ARAD | D23: URBAN | E23: 27 | F23: 6.7 | G23: 28 | H23: 6.4428571 | I23: 27 | J23: 6.4425926 | K23: =A23&"||"&B23 -> Istorie||SEMINARUL TEOLOGIC ORTODOX ARAD
A24: Matematică MATE-INFO | B24: COLEGIUL "MIHAI VITEAZUL" INEU | C24: INEU | D24: RURAL | E24: 28 | F24: 8.6160714 | G24: 17 | H24: 9.0117647 | I24: 25 | J24: 8.336 | K24: =A24&"||"&B24 -> Matematică MATE-INFO||COLEGIUL "MIHAI VITEAZUL" INEU
A25: Matematică MATE-INFO | B25: COLEGIUL NAŢIONAL "ELENA GHIBA BIRTA" ARAD | C25: ARAD | D25: URBAN | E25: 65 | F25: 7.4084615 | G25: 40 | H25: 6.38125 | I25: 49 | J25: 6.294898 | K25: =A25&"||"&B25 -> Matematică MATE-INFO||COLEGIUL NAŢIONAL "ELENA GHIBA BIRTA" ARAD
... A32: Matematică MATE-INFO | B32: LICEUL NAŢIONAL DE INFORMATICĂ ARAD | C32: ARAD | D32: RURAL | E32: 83 | F32: 7.5650602 | G32: 59 | H32: 6.4932203 | I32: 87 | J32: 6.608046 | K32: =A32&"||"&B32 -> Matematică MATE-INFO||LICEUL NAŢIONAL DE INFORMATICĂ ARAD
A33: Matematică MATE-INFO | B33: LICEUL TEHNOLOGIC DE TRANSPORTURI AUTO "HENRI COANDĂ" ARAD | C33: ARAD | D33: RURAL | E33: 1 | F33: 5.05 | K33: =A33&"||"&B33 -> Matematică MATE-INFO||LICEUL TEHNOLOGIC DE TRANSPORTURI AUTO "HENRI COANDĂ" ARAD
A34: Matematică MATE-INFO | B34: LICEUL TEOLOGIC PENTICOSTAL ARAD | C34: ARAD | D34: URBAN | E34: 26 | F34: 6.0961538 | G34: 11 | H34: 5.4318182 | I34: 18 | J34: 5.4333333 | K34: =A34&"||"&B34 -> Matematică MATE-INFO||LICEUL TEOLOGIC PENTICOSTAL ARAD
A35: Matematică MATE-INFO | B35: LICEUL TEORETIC "GHEORGHE LAZĂR" PECICA | C35: PECICA | D35: URBAN | E35: 14 | F35: 6.1571429 | G35: 1 | H35: 3.9 | I35: 18 | J35: 5.2666667 | K35: =A35&"||"&B35 -> Matematică MATE-INFO||LICEUL TEORETIC "GHEORGHE LAZĂR" PECICA
A36: Matematică MATE-INFO | B36: LICEUL TEORETIC "JOZEF GREGOR TAJOVSKY" NĂDLAC | C36: NĂDLAC | D36: URBAN | E36: 18 | F36: 5.9388889 | G36: 1 | H36: 2.9 | I36: 18 | J36: 5.2472222 | K36: =A36&"||"&B36 -> Matematică MATE-INFO||LICEUL TEORETIC "JOZEF GREGOR TAJOVSKY" NĂDLAC
A37: Matematică MATE-INFO | B37: LICEUL TEORETIC "MIHAI VELICIU" CHIŞINEU CRIŞ | C37: CHIŞINEU-CRIŞ | D37: RURAL | E37: 28 | F37: 8.2892857 | G37: 16 | H37: 7.771875 | I37: 30 | J37: 8.4466667 | K37: =A37&"||"&B37 -> Matematică MATE-INFO||LICEUL TEORETIC "MIHAI VELICIU" CHIŞINEU CRIŞ
A38: Matematică MATE-INFO | B38: LICEUL TEORETIC PÂNCOTA | C38: PÂNCOTA | D38: RURAL | E38: 27 | F38: 5.6333333 | G38: 20 | H38: 5.63 | I38: 27 | J38: 6.2907407 | K38: =A38&"||"&B38 -> Matematică MATE-INFO||LICEUL TEORETIC PÂNCOTA
A39: Matematică MATE-INFO | B39: LICEUL TEORETIC SEBIŞ | C39: SEBIŞ | D39: RURAL | E39: 29 | F39: 8.3396552 | G39: 18 | H39: 8.2444444 | I39: 20 | J39: 6.0075 | K39: =A39&"||"&B39 -> Matematică MATE-INFO||LICEUL TEORETIC SEBIŞ
A40: Matematică PED | B40: COLEGIUL NAŢIONAL "PREPARANDIA-DIMITRIE ŢICHINDEAL" ARAD | C40: ARAD | D40: URBAN | E40: 59 | F40: 8.720339 | G40: 47 | H40: 9.0382979 | I40: 46 | J40: 9.1934783 | K40: =A40&"||"&B40 -> Matematică PED||COLEGIUL NAŢIONAL "PREPARANDIA-DIMITRIE ŢICHINDEAL" ARAD
A41: Matematică ST-NAT | B41: COLEGIUL "MIHAI VITEAZUL" INEU | C41: INEU | D41: RURAL | E41: 29 | F41: 7.4396552 | G41: 15 | H41: 5.9 | I41: 23 | J41: 6.6434783 | K41: =A41&"||"&B41 -> Matematică ST-NAT||COLEGIUL "MIHAI VITEAZUL" INEU
A42: Matematică ST-NAT | B42: COLEGIUL NAŢIONAL "ELENA GHIBA BIRTA" ARAD | C42: ARAD | D42: URBAN | E42: 30 | F42: 7.4816667 | G42: 20 | H42: 6.2425 | I42: 59 | J42: 6.7652542 | K42: =A42&"||"&B42 -> Matematică ST-NAT||COLEGIUL NAŢIONAL "ELENA GHIBA BIRTA" ARAD
A43: Matematică ST-NAT | B43: COLEGIUL NAŢIONAL "MOISE NICOARĂ" ARAD | C43: ARAD | D43: URBAN | E43: 89 | F43: 9.0039326 | G43: 85 | H43: 8.6858824 | I43: 80 | J43: 8.480625 | K43: =A43&"||"&B43 -> Matematică ST-NAT||COLEGIUL NAŢIONAL "MOISE NICOARĂ" ARAD
A44: Matematică ST-NAT | B44: COLEGIUL NAŢIONAL "VASILE GOLDIŞ" ARAD | C44: ARAD | D44: URBAN | E44: 31 | F44: 8.9677419 | G44: 30 | H44: 8.4183333 | I44: 29 | J44: 8.0896552 | K44: =A44&"||"&B44 -> Matematică ST-NAT||COLEGIUL NAŢIONAL "VASILE GOLDIŞ" ARAD
A45: Matematică ST-NAT | B45: COLEGIUL"CSIKY GERGELY" ARAD | C45: ARAD | D45: RURAL | E45: 7 | F45: 7.9071429 | G45: 11 | H45: 7.6318182 | I45: 13 | J45: 6.9615385 | K45: =A45&"||"&B45 -> Matematică ST-NAT||COLEGIUL"CSIKY GERGELY" ARAD
A46: Matematică ST-NAT | B46: LICEUL TEHNOLOGIC "ION CREANGĂ" CURTICI | C46: CURTICI | D46: URBAN | G46: 1 | H46: 5.15 | I46: 18 | J46: 6.625 | K46: =A46&"||"&B46 -> Matematică ST-NAT||LICEUL TEHNOLOGIC "ION CREANGĂ" CURTICI
A47: Matematică ST-NAT | B47: LICEUL TEHNOLOGIC DE INDUSTRIE ALIMENTARĂ ARAD | C47: ARAD | D47: URBAN | G47: 4 | H47: 3.8375 | I47: 4 | J47: 4.8375 | K47: =A47&"||"&B47 -> Matematică ST-NAT||LICEUL TEHNOLOGIC DE INDUSTRIE ALIMENTARĂ ARAD
A48: Matematică ST-NAT | B48: LICEUL TEOLOGIC BAPTIST "ALEXA POPOVICI" ARAD | C48: ARAD | D48: URBAN | E48: 29 | F48: 8.9362069 | G48: 22 | H48: 8.2977273 | I48: 27 | J48: 8.3074074 | K48: =A48&"||"&B48 -> Matematică ST-NAT||LICEUL TEOLOGIC BAPTIST "ALEXA POPOVICI" ARAD
A49: Matematică ST-NAT | B49: LICEUL TEORETIC "ADAM MULLER GUTTENBRUNN" ARAD | C49: ARAD | D49: URBAN | E49: 54 | F49: 6.3138889 | G49: 8 | H49: 7.8375 | I49: 37 | J49: 6.2405405 | K49: =A49&"||"&B49 -> Matematică ST-NAT||LICEUL TEORETIC "ADAM MULLER GUTTENBRUNN" ARAD
A50: Matematică ST-NAT | B50: LICEUL TEORETIC "MIHAI VELICIU" CHIŞINEU CRIŞ | C50: CHIŞINEU-CRIŞ | D50: RURAL | E50: 34 | F50: 6.4735294 | G50: 19 | H50: 3.4026316 | I50: 21 | J50: 5.2904762 | K50: =A50&"||"&B50 -> Matematică ST-NAT||LICEUL TEORETIC "MIHAI VELICIU" CHIŞINEU CRIŞ
A51: Matematică ST-NAT | B51: LICEUL TEORETIC CERMEI | C51: CERMEI | D51: RURAL | E51: 17 | F51: 4.5294118 | G51: 15 | H51: 4.3433333 | I51: 2 | J51: 3.55 | K51: =A51&"||"&B51 -> Matematică ST-NAT||LICEUL TEORETIC CERMEI
A52: Matematică ST-NAT | B52: LICEUL TEORETIC SEBIŞ | C52: SEBIŞ | D52: RURAL | E52: 30 | F52: 5.6333333 | G52: 22 | H52: 5.1522727 | I52: 33 | J52: 6.6560606 | K52: =A52&"||"&B52 -> Matematică ST-NAT||LICEUL TEORETIC SEBIŞ
A53: Matematică TEHN | B53: COLEGIUL "MIHAI VITEAZUL" INEU | C53: INEU | D53: RURAL | E53: 72 | F53: 5.8451389 | G53: 56 | H53: 5.1794643 | I53: 87 | J53: 4.8632184 | K53: =A53&"||"&B53 -> Matematică TEHN||COLEGIUL "MIHAI VITEAZUL" INEU
A54: Matematică TEHN | B54: COLEGIUL ECONOMIC ARAD | C54: ARAD | D54: URBAN | E54: 149 | F54: 7.6966443 | G54: 120 | H54: 6.6008333 | I54: 162 | J54: 6.9314815 | K54: =A54&"||"&B54 -> Matematică TEHN||COLEGIUL ECONOMIC ARAD
A55: Matematică TEHN | B55: COLEGIUL PARTICULAR "VASILE GOLDIŞ" ARAD | C55: ARAD | D55: URBAN | E55: 18 | F55: 6.8777778 | G55: 6 | H55: 5.0833333 | I55: 15 | J55: 5.3266667 | K55: =A55&"||"&B55 -> Matematică TEHN||COLEGIUL PARTICULAR "VASILE GOLDIŞ" ARAD
A56: Matematică TEHN | B56: COLEGIUL"CSIKY GERGELY" ARAD | C56: ARAD | D56: RURAL | E56: 22 | F56: 6.5363636 | G56: 23 | H56: 6.3456522 | I56: 21 | J56: 6.3595238 | K56: =A56&"||"&B56 -> Matematică TEHN||COLEGIUL"CSIKY GERGELY" ARAD
A57: Matematică TEHN | B57: LICEUL "ATANASIE MARIENESCU" LIPOVA | C57: LIPOVA | D57: URBAN | E57: 24 | F57: 3.05 | G57: 9 | H57: 3.7888889 | I57: 19 | J57: 2.8421053 | K57: =A57&"||"&B57 -> Matematică TEHN||LICEUL "ATANASIE MARIENESCU" LIPOVA
A58: Matematică TEHN | B58: LICEUL "IOAN BUTEANU" GURAHONŢ | C58: GURAHONŢ | D58: RURAL | E58: 6 | F58: 4.225 | G58: 6 | H58: 3.3333333 | I58: 12 | J58: 4.3083333 | K58: =A58&"||"&B58 -> Matematică TEHN||LICEUL "IOAN BUTEANU" GURAHONŢ
A59: Matematică TEHN | B59: LICEUL "SEVER BOCU" LIPOVA | C59: LIPOVA | D59: URBAN | E59: 32 | F59: 6.871875 | G59: 25 | H59: 6.306 | I59: 34 | J59: 5.9426471 | K59: =A59&"||"&B59 -> Matematică TEHN||LICEUL "SEVER BOCU" LIPOVA
A60: Matematică TEHN | B60: LICEUL NAŢIONAL DE INFORMATICĂ ARAD | C60: ARAD | D60: RURAL | E60: 7 | F60: 5.8928571 | G60: 2 | H60: 6.075 | I60: 4 | J60: 4.55 | K60: =A60&"||"&B60 -> Matematică TEHN||LICEUL NAŢIONAL DE INFORMATICĂ ARAD
A61: Matematică TEHN | B61: LICEUL TEHNOLOGIC "AUREL VLAICU" ARAD | C61: ARAD | D61: RURAL | E61: 35 | F61: 5.5042857 | G61: 13 | H61: 5.9115385 | K61: =A61&"||"&B61 -> Matematică TEHN||LICEUL TEHNOLOGIC "AUREL VLAICU" ARAD
A62: Matematică TEHN | B62: LICEUL TEHNOLOGIC "EMIL CRĂCIUN LĂZUREANU" BELIU | C62: BELIU | D62: RURAL | E62: 29 | F62: 4.9827586 | G62: 17 | H62: 3.7558824 | I62: 12 | J62: 4.7375 | K62: =A62&"||"&B62 -> Matematică TEHN||LICEUL TEHNOLOGIC "EMIL CRĂCIUN LĂZUREANU" BELIU
A63: Matematică TEHN | B63: LICEUL TEHNOLOGIC "FRANCISC NEUMAN" ARAD | C63: ARAD | D63: URBAN | E63: 91 | F63: 3.9956044 | G63: 60 | H63: 3.8916667 | I63: 73 | J63: 3.8534247 | K63: =A63&"||"&B63 -> Matematică TEHN||LICEUL TEHNOLOGIC "FRANCISC NEUMAN" ARAD
A64: Matematică TEHN | B64: LICEUL TEHNOLOGIC "ION CREANGĂ" CURTICI | C64: CURTICI | D64: URBAN | E64: 24 | F64: 7.1229167 | G64: 20 | H64: 5.9175 | I64: 3 | J64: 5.2666667 | K64: =A64&"||"&B64 -> Matematică TEHN||LICEUL TEHNOLOGIC "ION CREANGĂ" CURTICI
A65: Matematică TEHN | B65: LICEUL TEHNOLOGIC "MOGA VOIEVOD" HĂLMAGIU | C65: HĂLMAGIU | D65: RURAL | E65: 17 | F65: 3.8588235 | G65: 14 | H65: 3.2321429 | I65: 10 | J65: 3.72 | K65: =A65&"||"&B65 -> Matematică TEHN||LICEUL TEHNOLOGIC "MOGA VOIEVOD" HĂLMAGIU
A66: Matematică TEHN | B66: LICEUL TEHNOLOGIC "REGINA MARIA" ARAD | C66: ARAD | D66: URBAN | E66: 5 | F66: 5.34 | G66: 11 | H66: 5.2454545 | I66: 67 | J66: 5.2119403 | K66: =A66&"||"&B66 -> Matematică TEHN||LICEUL TEHNOLOGIC "REGINA MARIA" ARAD
A67: Matematică TEHN | B67: LICEUL TEHNOLOGIC "SAVA BRANCOVICI" INEU | C67: INEU | D67: RURAL | E67: 26 | F67: 4.1019231 | G67: 19 | H67: 4.7710526 | I67: 33 | J67: 2.9969697 | K67: =A67&"||"&B67 -> Matematică TEHN||LICEUL TEHNOLOGIC "SAVA BRANCOVICI" INEU
A68: Matematică TEHN | B68: LICEUL TEHNOLOGIC "STEFAN HELL" SÂNTANA | C68: SÂNTANA | D68: URBAN | E68: 35 | F68: 4.1628571 | G68: 18 | H68: 5.3527778 | I68: 31 | J68: 4.8483871 | K68: =A68&"||"&B68 -> Matematică TEHN||LICEUL TEHNOLOGIC "STEFAN HELL" SÂNTANA
A69: Matematică TEHN | B69: LICEUL TEHNOLOGIC "VASILE JUNCU" MINIŞ | C69: MINIŞ | D69: RURAL | E69: 2 | F69: 5.025 | G69: 10 | H69: 3.14 | I69: 10 | J69: 4.185 | K69: =A69&"||"&B69 -> Matematică TEHN||LICEUL TEHNOLOGIC "VASILE JUNCU" MINIŞ
A70: Matematică TEHN | B70: LICEUL TEHNOLOGIC CHIŞINEU CRIŞ | C70: CHIŞINEU-CRIŞ | D70: RURAL | E70: 59 | F70: 4.929661 | G70: 28 | H70: 4.4660714 | I70: 56 | J70: 3.7946429 | K70: =A70&"||"&B70 -> Matematică TEHN||LICEUL TEHNOLOGIC CHIŞINEU CRIŞ
A71: Matematică TEHN | B71: LICEUL TEHNOLOGIC DE CONSTRUCŢII ŞI PROTECŢIA MEDIULUI ARAD | C71: ARAD | D71: URBAN | E71: 42 | F71: 6.1535714 | G71: 31 | H71: 5.3306452 | K71: =A71&"||"&B71 -> Matematică TEHN||LICEUL TEHNOLOGIC DE CONSTRUCŢII ŞI PROTECŢIA MEDIULUI ARAD
A72: Matematică TEHN | B72: LICEUL TEHNOLOGIC DE ELECTRONICĂ ŞI AUTOMATIZĂRI "CAIUS IACOB" ARAD | C72: ARAD | D72: RURAL | E72: 64 | F72: 5.8320312 | G72: 29 | H72: 4.8293103 | K72: =A72&"||"&B72 -> Matematică TEHN||LICEUL TEHNOLOGIC DE ELECTRONICĂ ŞI AUTOMATIZĂRI "CAIUS IACOB" ARAD
A73: Matematică TEHN | B73: LICEUL TEHNOLOGIC DE INDUSTRIE ALIMENTARĂ ARAD | C73: ARAD | D73: URBAN | E73: 95 | F73: 6.3784211 | G73: 78 | H73: 5.5621795 | I73: 96 | J73: 6.3171875 | K73: =A73&"||"&B73 -> Matematică TEHN||LICEUL TEHNOLOGIC DE INDUSTRIE ALIMENTARĂ ARAD
A74: Matematică TEHN | B74: LICEUL TEHNOLOGIC DE TRANSPORTURI AUTO "HENRI COANDĂ" ARAD | C74: ARAD | D74: RURAL | E74: 21 | F74: 4.4214286 | G74: 12 | H74: 4.625 | K74: =A74&"||"&B74 -> Matematică TEHN||LICEUL TEHNOLOGIC DE TRANSPORTURI AUTO "HENRI COANDĂ" ARAD
A75: Matematică TEHN | B75: LICEUL TEHNOLOGIC DE ȘTIINȚE APLICATE ARAD | C75: ARAD | D75: URBAN | E75: 10 | F75: 5.19 | G75: 16 | H75: 4.184375 | I75: 100 | J75: 5.127 | K75: =A75&"||"&B75 -> Matematică TEHN||LICEUL TEHNOLOGIC DE ȘTIINȚE APLICATE ARAD
A76: Matematică TEHN | B76: LICEUL TEHNOLOGIC UCECOM "SPIRU HARET" ARAD | C76: ARAD | D76: RURAL | I76: 3 | J76: 7.3 | K76: =A76&"||"&B76 -> Matematică TEHN||LICEUL TEHNOLOGIC UCECOM "SPIRU HARET" ARAD
A77: Matematică TEHN | B77: LICEUL TEHNOLOGIC VINGA | C77: VINGA | D77: RURAL | E77: 12 | F77: 5.4916667 | G77: 20 | H77: 6.155 | I77: 19 | J77: 5.1289474 | K77: =A77&"||"&B77 -> Matematică TEHN||LICEUL TEHNOLOGIC VINGA
A78: Matematică TEHN | B78: LICEUL TEHNOLOGIC ”REGELE MIHAI I” SĂVÂRŞIN | C78: SĂVÂRŞIN | D78: RURAL | E78: 24 | F78: 6.1979167 | G78: 21 | H78: 4.7952381 | I78: 22 | J78: 5.5272727 | K78: =A78&"||"&B78 -> Matematică TEHN||LICEUL TEHNOLOGIC ”REGELE MIHAI I” SĂVÂRŞIN
A79: Matematică TEHN | B79: LICEUL TEORETIC "GHEORGHE LAZĂR" PECICA | C79: PECICA | D79: URBAN | I79: 1 | J79: 2.35 | K79: =A79&"||"&B79 -> Matematică TEHN||LICEUL TEORETIC "GHEORGHE LAZĂR" PECICA
A80: Matematică TEHN | B80: LICEUL TEORETIC PÂNCOTA | C80: PÂNCOTA | D80: RURAL | E80: 3 | F80: 6.2 | I80: 1 | J80: 8.65 | K80: =A80&"||"&B80 -> Matematică TEHN||LICEUL TEORETIC PÂNCOTA
A81: Matematică TEHN | B81: LICEUL TEORETIC SEBIŞ | C81: SEBIŞ | D81: RURAL | E81: 32 | F81: 3.9265625 | G81: 6 | H81: 4.0583333 | I81: 24 | J81: 3.21875 | K81: =A81&"||"&B81 -> Matematică TEHN||LICEUL TEORETIC SEBIŞ

Sheet Date_ProbaD
A1: Subiect | B1: Unitate | C1: Localitate | D1: Mediu | E1: Nr_2024 | F1: Medie_2024 | G1: Nr_2025 | H1: Medie_2025 | I1: Nr_2026 | J1: Medie_2026 | K1: Cheie
A2: Anatomie și fiziologie umană, genetică și ecologie umană | B2: COLEGIUL "MIHAI VITEAZUL" INEU | C2: INEU | D2: RURAL | E2: 37 | F2: 8.7297297 | G2: 26 | H2: 8.3730769 | I2: 32 | J2: 8.20625 | K2: =A2&"||"&B2 -> Anatomie și fiziologie umană, genetică și ecologie umană||COLEGIUL "MIHAI VITEAZUL" INEU
A3: Anatomie și fiziologie umană, genetică și ecologie umană | B3: COLEGIUL NAŢIONAL "ELENA GHIBA BIRTA" ARAD | C3: ARAD | D3: URBAN | E3: 47 | F3: 8.037234 | G3: 35 | H3: 7.4985714 | I3: 61 | J3: 7.657377 | K3: =A3&"||"&B3 -> Anatomie și fiziologie umană, genetică și ecologie umană||COLEGIUL NAŢIONAL "ELENA GHIBA BIRTA" ARAD
A4: Anatomie și fiziologie umană, genetică și ecologie umană | B4: COLEGIUL NAŢIONAL "MOISE NICOARĂ" ARAD | C4: ARAD | D4: URBAN | E4: 45 | F4: 8.7 | G4: 36 | H4: 8.7166667 | I4: 52 | J4: 9.1913462 | K4: =A4&"||"&B4 -> Anatomie și fiziologie umană, genetică și ecologie umană||COLEGIUL NAŢIONAL "MOISE NICOARĂ" ARAD
A5: Anatomie și fiziologie umană, genetică și ecologie umană | B5: COLEGIUL NAŢIONAL "PREPARANDIA-DIMITRIE ŢICHINDEAL" ARAD | C5: ARAD | D5: URBAN | E5: 6 | F5: 9.1166667 | G5: 5 | H5: 8.52 | I5: 5 | J5: 9.31 | K5: =A5&"||"&B5 -> Anatomie și fiziologie umană, genetică și ecologie umană||COLEGIUL NAŢIONAL "PREPARANDIA-DIMITRIE ŢICHINDEAL" ARAD
A6: Anatomie și fiziologie umană, genetică și ecologie umană | B6: COLEGIUL NAŢIONAL "VASILE GOLDIŞ" ARAD | C6: ARAD | D6: URBAN | E6: 31 | F6: 8.2983871 | G6: 17 | H6: 7.2441176 | I6: 23 | J6: 8.1869565 | K6: =A6&"||"&B6 -> Anatomie și fiziologie umană, genetică și ecologie umană||COLEGIUL NAŢIONAL "VASILE GOLDIŞ" ARAD
A7: Anatomie și fiziologie umană, genetică și ecologie umană | B7: COLEGIUL"CSIKY GERGELY" ARAD | C7: ARAD | D7: URBAN | E7: 4 | F7: 9.0875 | G7: 10 | H7: 9.495 | I7: 12 | J7: 8.4625 | K7: =A7&"||"&B7 -> Anatomie și fiziologie umană, genetică și ecologie umană||COLEGIUL"CSIKY GERGELY" ARAD
A8: Anatomie și fiziologie umană, genetică și ecologie umană | B8: LICEUL "ATANASIE MARIENESCU" LIPOVA | C8: LIPOVA | D8: URBAN | E8: 17 | F8: 6.9323529 | G8: 23 | H8: 4.8369565 | I8: 13 | J8: 7.2269231 | K8: =A8&"||"&B8 -> Anatomie și fiziologie umană, genetică și ecologie umană||LICEUL "ATANASIE MARIENESCU" LIPOVA
A9: Anatomie și fiziologie umană, genetică și ecologie umană | B9: LICEUL "IOAN BUTEANU" GURAHONŢ | C9: GURAHONŢ | D9: RURAL | E9: 18 | F9: 7.1611111 | G9: 8 | H9: 4.0375 | I9: 24 | J9: 6.0395833 | K9: =A9&"||"&B9 -> Anatomie și fiziologie umană, genetică și ecologie umană||LICEUL "IOAN BUTEANU" GURAHONŢ
A10: Anatomie și fiziologie umană, genetică și ecologie umană | B10: LICEUL NAŢIONAL DE INFORMATICĂ ARAD | C10: ARAD | D10: URBAN | E10: 54 | F10: 7.975 | G10: 34 | H10: 7.6235294 | I10: 41 | J10: 7.3597561 | K10: =A10&"||"&B10 -> Anatomie și fiziologie umană, genetică și ecologie umană||LICEUL NAŢIONAL DE INFORMATICĂ ARAD
A11: Anatomie și fiziologie umană, genetică și ecologie umană | B11: LICEUL TEHNOLOGIC "FRANCISC NEUMAN" ARAD | C11: ARAD | D11: URBAN | E11: 11 | F11: 5.9863636 | G11: 2 | H11: 6.3 | I11: 14 | J11: 4.0392857 | K11: =A11&"||"&B11 -> Anatomie și fiziologie umană, genetică și ecologie umană||LICEUL TEHNOLOGIC "FRANCISC NEUMAN" ARAD
A12: Anatomie și fiziologie umană, genetică și ecologie umană | B12: LICEUL TEHNOLOGIC "VASILE JUNCU" MINIŞ | C12: MINIŞ | D12: RURAL | G12: 8 | H12: 4.4 | I12: 1 | J12: 6.9 | K12: =A12&"||"&B12 -> Anatomie și fiziologie umană, genetică și ecologie umană||LICEUL TEHNOLOGIC "VASILE JUNCU" MINIŞ
A13: Anatomie și fiziologie umană, genetică și ecologie umană | B13: LICEUL TEHNOLOGIC CHIŞINEU CRIŞ | C13: CHIŞINEU-CRIŞ | D13: RURAL | G13: 1 | H13: 5.8 | I13: 1 | J13: 5.8 | K13: =A13&"||"&B13 -> Anatomie și fiziologie umană, genetică și ecologie umană||LICEUL TEHNOLOGIC CHIŞINEU CRIŞ
A14: Anatomie și fiziologie umană, genetică și ecologie umană | B14: LICEUL TEHNOLOGIC DE CONSTRUCŢII ŞI PROTECŢIA MEDIULUI ARAD | C14: ARAD | D14: URBAN | E14: 4 | F14: 6.7625 | G14: 7 | H14: 5.3928571 | K14: =A14&"||"&B14 -> Anatomie și fiziologie umană, genetică și ecologie umană||LICEUL TEHNOLOGIC DE CONSTRUCŢII ŞI PROTECŢIA MEDIULUI ARAD
A15: Anatomie și fiziologie umană, genetică și ecologie umană | B15: LICEUL TEHNOLOGIC DE INDUSTRIE ALIMENTARĂ ARAD | C15: ARAD | D15: URBAN | E15: 71 | F15: 6.6147887 | G15: 63 | H15: 5.965873 | I15: 87 | J15: 6.4396552 | K15: =A15&"||"&B15 -> Anatomie și fiziologie umană, genetică și ecologie umană||LICEUL TEHNOLOGIC DE INDUSTRIE ALIMENTARĂ ARAD
A16: Anatomie și fiziologie umană, genetică și ecologie umană | B16: LICEUL TEHNOLOGIC DE ȘTIINȚE APLICATE ARAD | C16: ARAD | D16: URBAN | G16: 2 | H16: 4.375 | I16: 11 | J16: 6.0181818 | K16: =A16&"||"&B16 -> Anatomie și fiziologie umană, genetică și ecologie umană||LICEUL TEHNOLOGIC DE ȘTIINȚE APLICATE ARAD
A17: Anatomie și fiziologie umană, genetică și ecologie umană | B17: LICEUL TEOLOGIC BAPTIST "ALEXA POPOVICI" ARAD | C17: ARAD | D17: RURAL | E17: 17 | F17: 9.3735294 | G17: 19 | H17: 9.1026316 | I17: 20 | J17: 8.795 | K17: =A17&"||"&B17 -> Anatomie și fiziologie umană, genetică și ecologie umană||LICEUL TEOLOGIC BAPTIST "ALEXA POPOVICI" ARAD
A18: Anatomie și fiziologie umană, genetică și ecologie umană | B18: LICEUL TEOLOGIC PENTICOSTAL ARAD | C18: ARAD | D18: RURAL | E18: 26 | F18: 7.975 | G18: 11 | H18: 7.9909091 | I18: 19 | J18: 8.0973684 | K18: =A18&"||"&B18 -> Anatomie și fiziologie umană, genetică și ecologie umană||LICEUL TEOLOGIC PENTICOSTAL ARAD
A19: Anatomie și fiziologie umană, genetică și ecologie umană | B19: LICEUL TEORETIC "ADAM MULLER GUTTENBRUNN" ARAD | C19: ARAD | D19: URBAN | E19: 43 | F19: 7.9488372 | G19: 7 | H19: 8.7142857 | I19: 26 | J19: 7.7461538 | K19: =A19&"||"&B19 -> Anatomie și fiziologie umană, genetică și ecologie umană||LICEUL TEORETIC "ADAM MULLER GUTTENBRUNN" ARAD
A20: Anatomie și fiziologie umană, genetică și ecologie umană | B20: LICEUL TEORETIC "GHEORGHE LAZĂR" PECICA | C20: PECICA | D20: URBAN | E20: 13 | F20: 7.9269231 | G20: 1 | H20: 6.1 | I20: 17 | J20: 7.0264706 | K20: =A20&"||"&B20 -> Anatomie și fiziologie umană, genetică și ecologie umană||LICEUL TEORETIC "GHEORGHE LAZĂR" PECICA
A21: Anatomie și fiziologie umană, genetică și ecologie umană | B21: LICEUL TEORETIC "JOZEF GREGOR TAJOVSKY" NĂDLAC | C21: NĂDLAC | D21: URBAN | E21: 18 | F21: 7.3916667 | G21: 1 | H21: 5.9 | I21: 18 | J21: 6.3027778 | K21: =A21&"||"&B21 -> Anatomie și fiziologie umană, genetică și ecologie umană||LICEUL TEORETIC "JOZEF GREGOR TAJOVSKY" NĂDLAC
A22: Anatomie și fiziologie umană, genetică și ecologie umană | B22: LICEUL TEORETIC "MIHAI VELICIU" CHIŞINEU CRIŞ | C22: CHIŞINEU-CRIŞ | D22: RURAL | E22: 58 | F22: 8.5508621 | G22: 35 | H22: 6.5571429 | I22: 51 | J22: 8.1715686 | K22: =A22&"||"&B22 -> Anatomie și fiziologie umană, genetică și ecologie umană||LICEUL TEORETIC "MIHAI VELICIU" CHIŞINEU CRIŞ
A23: Anatomie și fiziologie umană, genetică și ecologie umană | B23: LICEUL TEORETIC CERMEI | C23: CERMEI | D23: RURAL | E23: 17 | F23: 5.2558824 | G23: 14 | H23: 5.1607143 | I23: 2 | J23: 5 | K23: =A23&"||"&B23 -> Anatomie și fiziologie umană, genetică și ecologie umană||LICEUL TEORETIC CERMEI
A24: Anatomie și fiziologie umană, genetică și ecologie umană | B24: LICEUL TEORETIC PÂNCOTA | C24: PÂNCOTA | D24: URBAN | E24: 15 | F24: 7.65 | G24: 15 | H24: 6.37 | I24: 19 | J24: 7.8894737 | K24: =A24&"||"&B24 -> Anatomie și fiziologie umană, genetică și ecologie umană||LICEUL TEORETIC PÂNCOTA
A25: Anatomie și fiziologie umană, genetică și ecologie umană | B25: LICEUL TEORETIC SEBIŞ | C25: SEBIŞ | D25: RURAL | E25: 42 | F25: 7.6988095 | G25: 35 | H25: 6.9414286 | I25: 42 | J25: 7.3011905 | K25: =A25&"||"&B25 -> Anatomie și fiziologie umană, genetică și ecologie umană||LICEUL TEORETIC SEBIŞ
A26: Biologie vegetală și animală | B26: COLEGIUL "MIHAI VITEAZUL" INEU | C26: INEU | D26: RURAL | E26: 29 | F26: 4.7241379 | G26: 12 | H26: 5.5458333 | I26: 24 | J26: 4.0208333 | K26: =A26&"||"&B26 -> Biologie vegetală și animală||COLEGIUL "MIHAI VITEAZUL" INEU
A27: Biologie vegetală și animală | B27: COLEGIUL NAŢIONAL "ELENA GHIBA BIRTA" ARAD | C27: ARAD | D27: URBAN | E27: 2 | F27: 6.5 | K27: =A27&"||"&B27 -> Biologie vegetală și animală||COLEGIUL NAŢIONAL "ELENA GHIBA BIRTA" ARAD
A28: Biologie vegetală și animală | B28: COLEGIUL NAŢIONAL "MOISE NICOARĂ" ARAD | C28: ARAD | D28: URBAN | E28: 2 | F28: 9.2 | I28: 1 | J28: 9.85 | K28: =A28&"||"&B28 -> Biologie vegetală și animală||COLEGIUL NAŢIONAL "MOISE NICOARĂ" ARAD
A29: Biologie vegetală și animală | B29: COLEGIUL"CSIKY GERGELY" ARAD | C29: ARAD | D29: URBAN | G29: 1 | H29: 6.4 | K29: =A29&"||"&B29 -> Biologie vegetală și animală||COLEGIUL"CSIKY GERGELY" ARAD
A30: Biologie vegetală și animală | B30: LICEUL "ATANASIE MARIENESCU" LIPOVA | C30: LIPOVA | D30: URBAN | E30: 26 | F30: 3.4903846 | G30: 10 | H30: 4.02 | I30: 19 | J30: 2.9763158 | K30: =A30&"||"&B30 -> Biologie vegetală și animală||LICEUL "ATANASIE MARIENESCU" LIPOVA
A31: Biologie vegetală și animală | B31: LICEUL NAŢIONAL DE INFORMATICĂ ARAD | C31: ARAD | D31: URBAN | E31: 9 | F31: 5.0611111 | G31: 2 | H31: 4.45 | I31: 6 | J31: 6.2416667 | K31: =A31&"||"&B31 -> Biologie vegetală și animală||LICEUL NAŢIONAL DE INFORMATICĂ ARAD
A32: Biologie vegetală și animală | B32: LICEUL TEHNOLOGIC "AUREL VLAICU" ARAD | C32: ARAD | D32: RURAL | E32: 33 | F32: 5.1651515 | G32: 11 | H32: 6.1863636 | K32: =A32&"||"&B32 -> Biologie vegetală și animală||LICEUL TEHNOLOGIC "AUREL VLAICU" ARAD
A33: Biologie vegetală și animală | B33: LICEUL TEHNOLOGIC "FRANCISC NEUMAN" ARAD | C33: ARAD | D33: URBAN | E33: 25 | F33: 4.46 | G33: 13 | H33: 3.9 | I33: 15 | J33: 4.5233333 | K33: =A33&"||"&B33 -> Biologie vegetală și animală||LICEUL TEHNOLOGIC "FRANCISC NEUMAN" ARAD
A34: Biologie vegetală și animală | B34: LICEUL TEHNOLOGIC "ION CREANGĂ" CURTICI | C34: CURTICI | D34: URBAN | G34: 1 | H34: 5.85 | I34: 17 | J34: 7.1676471 | K34: =A34&"||"&B34 -> Biologie vegetală și animală||LICEUL TEHNOLOGIC "ION CREANGĂ" CURTICI
A35: Biologie vegetală și animală | B35: LICEUL TEHNOLOGIC "REGINA MARIA" ARAD | C35: ARAD | D35: URBAN | E35: 5 | F35: 4.33 | G35: 11 | H35: 4.1181818 | I35: 58 | J35: 4.7603448 | K35: =A35&"||"&B35 -> Biologie vegetală și animală||LICEUL TEHNOLOGIC "REGINA MARIA" ARAD
A36: Biologie vegetală și animală | B36: LICEUL TEHNOLOGIC "SAVA BRANCOVICI" INEU | C36: INEU | D36: RURAL | E36: 4 | F36: 2.3625 | I36: 11 | J36: 3.3363636 | K36: =A36&"||"&B36 -> Biologie vegetală și animală||LICEUL TEHNOLOGIC "SAVA BRANCOVICI" INEU
A37: Biologie vegetală și animală | B37: LICEUL TEHNOLOGIC "STEFAN HELL" SÂNTANA | C37: SÂNTANA | D37: URBAN | E37: 10 | F37: 2.7 | G37: 2 | H37: 3.45 | I37: 9 | J37: 3.6333333 | K37: =A37&"||"&B37 -> Biologie vegetală și animală||LICEUL TEHNOLOGIC "STEFAN HELL" SÂNTANA
A38: Biologie vegetală și animală | B38: LICEUL TEHNOLOGIC "VASILE JUNCU" MINIŞ | C38: MINIŞ | D38: RURAL | G38: 1 | H38: 3.4 | I38: 3 | J38: 4.2 | K38: =A38&"||"&B38 -> Biologie vegetală și animală||LICEUL TEHNOLOGIC "VASILE JUNCU" MINIŞ
A39: Biologie vegetală și animală | B39: LICEUL TEHNOLOGIC CHIŞINEU CRIŞ | C39: CHIŞINEU-CRIŞ | D39: RURAL | E39: 28 | F39: 4.3946429 | G39: 9 | H39: 4.5333333 | I39: 33 | J39: 4.0681818 | K39: =A39&"||"&B39 -> Biologie vegetală și animală||LICEUL TEHNOLOGIC CHIŞINEU CRIŞ
A40: Biologie vegetală și animală | B40: LICEUL TEHNOLOGIC DE CONSTRUCŢII ŞI PROTECŢIA MEDIULUI ARAD | C40: ARAD | D40: URBAN | E40: 33 | F40: 5.4090909 | G40: 21 | H40: 4.9285714 | K40: =A40&"||"&B40 -> Biologie vegetală și animală||LICEUL TEHNOLOGIC DE CONSTRUCŢII ŞI PROTECŢIA MEDIULUI ARAD
A41: Biologie vegetală și animală | B41: LICEUL TEHNOLOGIC DE ELECTRONICĂ ŞI AUTOMATIZĂRI "CAIUS IACOB" ARAD | C41: ARAD | D41: URBAN | E41: 39 | F41: 4.1858974 | G41: 26 | H41: 4.4942308 | K41: =A41&"||"&B41 -> Biologie vegetală și animală||LICEUL TEHNOLOGIC DE ELECTRONICĂ ŞI AUTOMATIZĂRI "CAIUS IACOB" ARAD
A42: Biologie vegetală și animală | B42: LICEUL TEHNOLOGIC DE INDUSTRIE ALIMENTARĂ ARAD | C42: ARAD | D42: URBAN | E42: 12 | F42: 5.7583333 | G42: 13 | H42: 5.9923077 | I42: 5 | J42: 4.57 | K42: =A42&"||"&B42 -> Biologie vegetală și animală||LICEUL TEHNOLOGIC DE INDUSTRIE ALIMENTARĂ ARAD
A43: Biologie vegetală și animală | B43: LICEUL TEHNOLOGIC DE TRANSPORTURI AUTO "HENRI COANDĂ" ARAD | C43: ARAD | D43: RURAL | E43: 19 | F43: 4.5973684 | G43: 13 | H43: 5.2730769 | K43: =A43&"||"&B43 -> Biologie vegetală și animală||LICEUL TEHNOLOGIC DE TRANSPORTURI AUTO "HENRI COANDĂ" ARAD
A44: Biologie vegetală și animală | B44: LICEUL TEHNOLOGIC DE ȘTIINȚE APLICATE ARAD | C44: ARAD | D44: URBAN | E44: 10 | F44: 3.7 | G44: 11 | H44: 4.4727273 | I44: 79 | J44: 4.4563291 | K44: =A44&"||"&B44 -> Biologie vegetală și animală||LICEUL TEHNOLOGIC DE ȘTIINȚE APLICATE ARAD
A45: Biologie vegetală și animală | B45: LICEUL TEHNOLOGIC ”REGELE MIHAI I” SĂVÂRŞIN | C45: SĂVÂRŞIN | D45: RURAL | E45: 25 | F45: 6.318 | G45: 22 | H45: 5.1386364 | I45: 22 | J45: 5.6272727 | K45: =A45&"||"&B45 -> Biologie vegetală și animală||LICEUL TEHNOLOGIC ”REGELE MIHAI I” SĂVÂRŞIN
A46: Biologie vegetală și animală | B46: LICEUL TEORETIC "GHEORGHE LAZĂR" PECICA | C46: PECICA | D46: URBAN | G46: 1 | H46: 5.75 | I46: 1 | J46: 7.9 | K46: =A46&"||"&B46 -> Biologie vegetală și animală||LICEUL TEORETIC "GHEORGHE LAZĂR" PECICA
A47: Biologie vegetală și animală | B47: LICEUL TEORETIC CERMEI | C47: CERMEI | D47: RURAL | G47: 1 | H47: 5.45 | K47: =A47&"||"&B47 -> Biologie vegetală și animală||LICEUL TEORETIC CERMEI
A48: Biologie vegetală și animală | B48: LICEUL TEORETIC PÂNCOTA | C48: PÂNCOTA | D48: URBAN | E48: 1 | F48: 6.8 | K48: =A48&"||"&B48 -> Biologie vegetală și animală||LICEUL TEORETIC PÂNCOTA
A49: Biologie vegetală și animală | B49: LICEUL TEORETIC SEBIŞ | C49: SEBIŞ | D49: RURAL | E49: 4 | F49: 6.05 | I49: 6 | J49: 2.2416667 | K49: =A49&"||"&B49 -> Biologie vegetală și animală||LICEUL TEORETIC SEBIŞ
A50: Chimie anorganică | B50: COLEGIUL NAŢIONAL "ELENA GHIBA BIRTA" ARAD | C50: ARAD | D50: URBAN | G50: 7 | H50: 7.6285714 | I50: 12 | J50: 7.5875 | K50: =A50&"||"&B50 -> Chimie anorganică||COLEGIUL NAŢIONAL "ELENA GHIBA BIRTA" ARAD
A51: Chimie anorganică | B51: COLEGIUL NAŢIONAL "MOISE NICOARĂ" ARAD | C51: ARAD | D51: URBAN | E51: 5 | F51: 7.74 | G51: 8 | H51: 8.79375 | I51: 5 | J51: 9.21 | K51: =A51&"||"&B51 -> Chimie anorganică||COLEGIUL NAŢIONAL "MOISE NICOARĂ" ARAD
A52: Chimie anorganică | B52: COLEGIUL NAŢIONAL "PREPARANDIA-DIMITRIE ŢICHINDEAL" ARAD | C52: ARAD | D52: URBAN | E52: 1 | F52: 10 | K52: =A52&"||"&B52 -> Chimie anorganică||COLEGIUL NAŢIONAL "PREPARANDIA-DIMITRIE ŢICHINDEAL" ARAD
A53: Chimie anorganică | B53: COLEGIUL NAŢIONAL "VASILE GOLDIŞ" ARAD | C53: ARAD | D53: URBAN | G53: 1 | H53: 6.2 | K53: =A53&"||"&B53 -> Chimie anorganică||COLEGIUL NAŢIONAL "VASILE GOLDIŞ" ARAD
A54: Chimie anorganică | B54: COLEGIUL"CSIKY GERGELY" ARAD | C54: ARAD | D54: URBAN | E54: 4 | F54: 8.525 | G54: 4 | H54: 9.425 | I54: 5 | J54: 8.72 | K54: =A54&"||"&B54 -> Chimie anorganică||COLEGIUL"CSIKY GERGELY" ARAD
A55: Chimie anorganică | B55: LICEUL TEHNOLOGIC "FRANCISC NEUMAN" ARAD | C55: ARAD | D55: URBAN | E55: 2 | F55: 5.1 | K55: =A55&"||"&B55 -> Chimie anorganică||LICEUL TEHNOLOGIC "FRANCISC NEUMAN" ARAD
A56: Chimie anorganică | B56: LICEUL TEHNOLOGIC DE CONSTRUCŢII ŞI PROTECŢIA MEDIULUI ARAD | C56: ARAD | D56: URBAN | E56: 1 | F56: 6.7 | K56: =A56&"||"&B56 -> Chimie anorganică||LICEUL TEHNOLOGIC DE CONSTRUCŢII ŞI PROTECŢIA MEDIULUI ARAD
A57: Chimie anorganică | B57: LICEUL TEHNOLOGIC DE INDUSTRIE ALIMENTARĂ ARAD | C57: ARAD | D57: URBAN | E57: 12 | F57: 7.2625 | G57: 7 | H57: 7.8214286 | I57: 8 | J57: 7.3875 | K57: =A57&"||"&B57 -> Chimie anorganică||LICEUL TEHNOLOGIC DE INDUSTRIE ALIMENTARĂ ARAD
A58: Chimie anorganică | B58: LICEUL TEHNOLOGIC DE ȘTIINȚE APLICATE ARAD | C58: ARAD | D58: URBAN | I58: 8 | J58: 4.68125 | K58: =A58&"||"&B58 -> Chimie anorganică||LICEUL TEHNOLOGIC DE ȘTIINȚE APLICATE ARAD
A59: Chimie anorganică | B59: LICEUL TEORETIC "ADAM MULLER GUTTENBRUNN" ARAD | C59: ARAD | D59: URBAN | E59: 2 | F59: 9.25 | I59: 9 | J59: 7.4444444 | K59: =A59&"||"&B59 -> Chimie anorganică||LICEUL TEORETIC "ADAM MULLER GUTTENBRUNN" ARAD
A60: Chimie organică | B60: COLEGIUL "MIHAI VITEAZUL" INEU | C60: INEU | D60: RURAL | E60: 2 | F60: 9.15 | I60: 2 | J60: 8.4 | K60: =A60&"||"&B60 -> Chimie organică||COLEGIUL "MIHAI VITEAZUL" INEU
A61: Chimie organică | B61: COLEGIUL NAŢIONAL "ELENA GHIBA BIRTA" ARAD | C61: ARAD | D61: URBAN | E61: 14 | F61: 8.5785714 | G61: 3 | H61: 7.8166667 | I61: 8 | J61: 7.93125 | K61: =A61&"||"&B61 -> Chimie organică||COLEGIUL NAŢIONAL "ELENA GHIBA BIRTA" ARAD
A62: Chimie organică | B62: COLEGIUL NAŢIONAL "MOISE NICOARĂ" ARAD | C62: ARAD | D62: URBAN | E62: 30 | F62: 9.2883333 | G62: 27 | H62: 8.762963 | I62: 16 | J62: 8.9125 | K62: =A62&"||"&B62 -> Chimie organică||COLEGIUL NAŢIONAL "MOISE NICOARĂ" ARAD
A63: Chimie organică | B63: COLEGIUL NAŢIONAL "PREPARANDIA-DIMITRIE ŢICHINDEAL" ARAD | C63: ARAD | D63: URBAN | G63: 1 | H63: 9.4 | I63: 1 | J63: 9.7 | K63: =A63&"||"&B63 -> Chimie organică||COLEGIUL NAŢIONAL "PREPARANDIA-DIMITRIE ŢICHINDEAL" ARAD
A64: Chimie organică | B64: COLEGIUL NAŢIONAL "VASILE GOLDIŞ" ARAD | C64: ARAD | D64: URBAN | E64: 21 | F64: 9.3595238 | G64: 25 | H64: 8.722 | I64: 24 | J64: 8.9708333 | K64: =A64&"||"&B64 -> Chimie organică||COLEGIUL NAŢIONAL "VASILE GOLDIŞ" ARAD
A65: Chimie organică | B65: COLEGIUL"CSIKY GERGELY" ARAD | C65: ARAD | D65: URBAN | E65: 1 | F65: 9.6 | K65: =A65&"||"&B65 -> Chimie organică||COLEGIUL"CSIKY GERGELY" ARAD
A66: Chimie organică | B66: LICEUL "IOAN BUTEANU" GURAHONŢ | C66: GURAHONŢ | D66: RURAL | I66: 1 | J66: 10 | K66: =A66&"||"&B66 -> Chimie organică||LICEUL "IOAN BUTEANU" GURAHONŢ
A67: Chimie organică | B67: LICEUL NAŢIONAL DE INFORMATICĂ ARAD | C67: ARAD | D67: URBAN | E67: 2 | F67: 9.375 | G67: 2 | H67: 9.55 | K67: =A67&"||"&B67 -> Chimie organică||LICEUL NAŢIONAL DE INFORMATICĂ ARAD
A68: Chimie organică | B68: LICEUL TEHNOLOGIC "AUREL VLAICU" ARAD | C68: ARAD | D68: RURAL | E68: 1 | F68: 3 | G68: 1 | H68: 4.9 | K68: =A68&"||"&B68 -> Chimie organică||LICEUL TEHNOLOGIC "AUREL VLAICU" ARAD
A69: Chimie organică | B69: LICEUL TEHNOLOGIC "FRANCISC NEUMAN" ARAD | C69: ARAD | D69: URBAN | E69: 1 | F69: 2.9 | I69: 2 | J69: 6.825 | K69: =A69&"||"&B69 -> Chimie organică||LICEUL TEHNOLOGIC "FRANCISC NEUMAN" ARAD
A70: Chimie organică | B70: LICEUL TEHNOLOGIC "REGINA MARIA" ARAD | C70: ARAD | D70: URBAN | I70: 1 | J70: 6.85 | K70: =A70&"||"&B70 -> Chimie organică||LICEUL TEHNOLOGIC "REGINA MARIA" ARAD
A71: Chimie organică | B71: LICEUL TEHNOLOGIC DE CONSTRUCŢII ŞI PROTECŢIA MEDIULUI ARAD | C71: ARAD | D71: URBAN | E71: 5 | F71: 3.86 | G71: 2 | H71: 7.425 | K71: =A71&"||"&B71 -> Chimie organică||LICEUL TEHNOLOGIC DE CONSTRUCŢII ŞI PROTECŢIA MEDIULUI ARAD
A72: Chimie organică | B72: LICEUL TEHNOLOGIC DE ELECTRONICĂ ŞI AUTOMATIZĂRI "CAIUS IACOB" ARAD | C72: ARAD | D72: URBAN | E72: 2 | F72: 6.275 | K72: =A72&"||"&B72 -> Chimie organică||LICEUL TEHNOLOGIC DE ELECTRONICĂ ŞI AUTOMATIZĂRI "CAIUS IACOB" ARAD
A73: Chimie organică | B73: LICEUL TEHNOLOGIC DE TRANSPORTURI AUTO "HENRI COANDĂ" ARAD | C73: ARAD | D73: RURAL | E73: 1 | F73: 3.55 | K73: =A73&"||"&B73 -> Chimie organică||LICEUL TEHNOLOGIC DE TRANSPORTURI AUTO "HENRI COANDĂ" ARAD
A74: Chimie organică | B74: LICEUL TEHNOLOGIC DE ȘTIINȚE APLICATE ARAD | C74: ARAD | D74: URBAN | G74: 1 | H74: 5.05 | I74: 2 | J74: 5.45 | K74: =A74&"||"&B74 -> Chimie organică||LICEUL TEHNOLOGIC DE ȘTIINȚE APLICATE ARAD
A75: Chimie organică | B75: LICEUL TEOLOGIC BAPTIST "ALEXA POPOVICI" ARAD | C75: ARAD | D75: RURAL | E75: 8 | F75: 9.0625 | G75: 1 | H75: 5.9 | I75: 1 | J75: 9.05 | K75: =A75&"||"&B75 -> Chimie organică||LICEUL TEOLOGIC BAPTIST "ALEXA POPOVICI" ARAD
A76: Chimie organică | B76: LICEUL TEORETIC "ADAM MULLER GUTTENBRUNN" ARAD | C76: ARAD | D76: URBAN | E76: 3 | F76: 9.0166667 | K76: =A76&"||"&B76 -> Chimie organică||LICEUL TEORETIC "ADAM MULLER GUTTENBRUNN" ARAD
A77: Chimie organică | B77: LICEUL TEORETIC "GHEORGHE LAZĂR" PECICA | C77: PECICA | D77: URBAN | E77: 1 | F77: 9.75 | K77: =A77&"||"&B77 -> Chimie organică||LICEUL TEORETIC "GHEORGHE LAZĂR" PECICA
A78: Chimie organică | B78: LICEUL TEORETIC PÂNCOTA | C78: PÂNCOTA | D78: URBAN | E78: 2 | F78: 5.925 | I78: 2 | J78: 6.75 | K78: =A78&"||"&B78 -> Chimie organică||LICEUL TEORETIC PÂNCOTA
A79: Chimie organică | B79: LICEUL TEORETIC SEBIŞ | C79: SEBIŞ | D79: RURAL | E79: 1 | F79: 6.95 | G79: 1 | H79: 7.55 | K79: =A79&"||"&B79 -> Chimie organică||LICEUL TEORETIC SEBIŞ
A80: Economie | B80: COLEGIUL NAŢIONAL "PREPARANDIA-DIMITRIE ŢICHINDEAL" ARAD | C80: ARAD | D80: URBAN | E80: 1 | F80: 9 | G80: 1 | H80: 7.5 | K80: =A80&"||"&B80 -> Economie||COLEGIUL NAŢIONAL "PREPARANDIA-DIMITRIE ŢICHINDEAL" ARAD
A81: Economie | B81: COLEGIUL"CSIKY GERGELY" ARAD | C81: ARAD | D81: URBAN | E81: 1 | F81: 6.5 | K81: =A81&"||"&B81 -> Economie||COLEGIUL"CSIKY GERGELY" ARAD
A82: Economie | B82: LICEUL TEORETIC SEBIŞ | C82: SEBIŞ | D82: RURAL | I82: 1 | J82: 4.5 | K82: =A82&"||"&B82 -> Economie||LICEUL TEORETIC SEBIŞ
A83: Filosofie | B83: COLEGIUL NAŢIONAL "ELENA GHIBA BIRTA" ARAD | C83: ARAD | D83: URBAN | G83: 1 | H83: 10 | K83: =A83&"||"&B83 -> Filosofie||COLEGIUL NAŢIONAL "ELENA GHIBA BIRTA" ARAD
A84: Filosofie | B84: COLEGIUL NAŢIONAL "MOISE NICOARĂ" ARAD | C84: ARAD | D84: URBAN | E84: 2 | F84: 9.4 | K84: =A84&"||"&B84 -> Filosofie||COLEGIUL NAŢIONAL "MOISE NICOARĂ" ARAD
A85: Filosofie | B85: COLEGIUL PARTICULAR "VASILE GOLDIŞ" ARAD | C85: ARAD | D85: URBAN | E85: 1 | F85: 7.55 | K85: =A85&"||"&B85 -> Filosofie||COLEGIUL PARTICULAR "VASILE GOLDIŞ" ARAD
A86: Filosofie | B86: LICEUL TEORETIC "ADAM MULLER GUTTENBRUNN" ARAD | C86: ARAD | D86: URBAN | E86: 1 | F86: 5.5 | G86: 1 | H86: 8.65 | K86: =A86&"||"&B86 -> Filosofie||LICEUL TEORETIC "ADAM MULLER GUTTENBRUNN" ARAD
A87: Filosofie | B87: LICEUL TEORETIC SEBIŞ | C87: SEBIŞ | D87: RURAL | G87: 1 | H87: 7.75 | K87: =A87&"||"&B87 -> Filosofie||LICEUL TEORETIC SEBIŞ
A88: Fizică TEH | B88: LICEUL "ATANASIE MARIENESCU" LIPOVA | C88: LIPOVA | D88: URBAN | G88: 1 | H88: 5.35 | I88: 1 | J88: 5.35 | K88: =A88&"||"&B88 -> Fizică TEH||LICEUL "ATANASIE MARIENESCU" LIPOVA
A89: Fizică TEH | B89: LICEUL TEHNOLOGIC "AUREL VLAICU" ARAD | C89: ARAD | D89: RURAL | E89: 1 | F89: 1.75 | G89: 2 | H89: 4.55 | K89: =A89&"||"&B89 -> Fizică TEH||LICEUL TEHNOLOGIC "AUREL VLAICU" ARAD
A90: Fizică TEH | B90: LICEUL TEHNOLOGIC "REGINA MARIA" ARAD | C90: ARAD | D90: URBAN | I90: 9 | J90: 4.9833333 | K90: =A90&"||"&B90 -> Fizică TEH||LICEUL TEHNOLOGIC "REGINA MARIA" ARAD
A91: Fizică TEH | B91: LICEUL TEHNOLOGIC "STEFAN HELL" SÂNTANA | C91: SÂNTANA | D91: URBAN | G91: 1 | H91: 1.6 | I91: 1 | J91: 2.05 | K91: =A91&"||"&B91 -> Fizică TEH||LICEUL TEHNOLOGIC "STEFAN HELL" SÂNTANA
A92: Fizică TEH | B92: LICEUL TEHNOLOGIC DE ELECTRONICĂ ŞI AUTOMATIZĂRI "CAIUS IACOB" ARAD | C92: ARAD | D92: URBAN | E92: 21 | F92: 6.7571429 | G92: 3 | H92: 4.8166667 | K92: =A92&"||"&B92 -> Fizică TEH||LICEUL TEHNOLOGIC DE ELECTRONICĂ ŞI AUTOMATIZĂRI "CAIUS IACOB" ARAD
A93: Fizică TEH | B93: LICEUL TEHNOLOGIC DE INDUSTRIE ALIMENTARĂ ARAD | C93: ARAD | D93: URBAN | I93: 1 | J93: 9.7 | K93: =A93&"||"&B93 -> Fizică TEH||LICEUL TEHNOLOGIC DE INDUSTRIE ALIMENTARĂ ARAD
A94: Fizică TEH | B94: LICEUL TEHNOLOGIC DE TRANSPORTURI AUTO "HENRI COANDĂ" ARAD | C94: ARAD | D94: RURAL | G94: 1 | H94: 6.3 | K94: =A94&"||"&B94 -> Fizică TEH||LICEUL TEHNOLOGIC DE TRANSPORTURI AUTO "HENRI COANDĂ" ARAD
A95: Fizică TEH | B95: LICEUL TEHNOLOGIC DE ȘTIINȚE APLICATE ARAD | C95: ARAD | D95: URBAN | I95: 2 | J95: 8.75 | K95: =A95&"||"&B95 -> Fizică TEH||LICEUL TEHNOLOGIC DE ȘTIINȚE APLICATE ARAD
A96: Fizică TEO | B96: COLEGIUL "MIHAI VITEAZUL" INEU | C96: INEU | D96: RURAL | E96: 12 | F96: 9.4833333 | G96: 4 | H96: 9.625 | I96: 12 | J96: 8.5333333 | K96: =A96&"||"&B96 -> Fizică TEO||COLEGIUL "MIHAI VITEAZUL" INEU
A97: Fizică TEO | B97: COLEGIUL NAŢIONAL "ELENA GHIBA BIRTA" ARAD | C97: ARAD | D97: URBAN | E97: 2 | F97: 8.725 | I97: 5 | J97: 8.31 | K97: =A97&"||"&B97 -> Fizică TEO||COLEGIUL NAŢIONAL "ELENA GHIBA BIRTA" ARAD
A98: Fizică TEO | B98: COLEGIUL NAŢIONAL "MOISE NICOARĂ" ARAD | C98: ARAD | D98: URBAN | E98: 25 | F98: 9.47 | G98: 21 | H98: 9.1904762 | I98: 35 | J98: 9.3 | K98: =A98&"||"&B98 -> Fizică TEO||COLEGIUL NAŢIONAL "MOISE NICOARĂ" ARAD
A99: Fizică TEO | B99: COLEGIUL NAŢIONAL "PREPARANDIA-DIMITRIE ŢICHINDEAL" ARAD | C99: ARAD | D99: URBAN | G99: 1 | H99: 10 | I99: 1 | J99: 7.75 | K99: =A99&"||"&B99 -> Fizică TEO||COLEGIUL NAŢIONAL "PREPARANDIA-DIMITRIE ŢICHINDEAL" ARAD
A100: Fizică TEO | B100: COLEGIUL NAŢIONAL "VASILE GOLDIŞ" ARAD | C100: ARAD | D100: URBAN | E100: 14 | F100: 8.8857143 | G100: 6 | H100: 7.9833333 | I100: 19 | J100: 8.8236842 | K100: =A100&"||"&B100 -> Fizică TEO||COLEGIUL NAŢIONAL "VASILE GOLDIŞ" ARAD
...

Sheet Date_Materna
A1: Limba | B1: Unitate | C1: Localitate | D1: Mediu | E1: Nr_2024 | F1: Medie_2024 | G1: Nr_2025 | H1: Medie_2025 | I1: Nr_2026 | J1: Medie_2026 | K1: Cheie
A2: Limba germană | B2: LICEUL TEORETIC "ADAM MULLER GUTTENBRUNN" ARAD | C2: ARAD | D2: URBAN | E2: 36 | F2: 7.3208333 | G2: 17 | H2: 7.1647059 | I2: 38 | J2: 6.7394737 | K2: =A2&"||"&B2 -> Limba germană||LICEUL TEORETIC "ADAM MULLER GUTTENBRUNN" ARAD
A3: Limba maghiară | B3: COLEGIUL"CSIKY GERGELY" ARAD | C3: ARAD | D3: RURAL | E3: 36 | F3: 7.0472222 | G3: 43 | H3: 7.4976744 | I3: 50 | J3: 7.908 | K3: =A3&"||"&B3 -> Limba maghiară||COLEGIUL"CSIKY GERGELY" ARAD
A4: Limba slovacă | B4: LICEUL TEORETIC "JOZEF GREGOR TAJOVSKY" NĂDLAC | C4: NĂDLAC | D4: URBAN | E4: 14 | F4: 9.1785714 | G4: 6 | H4: 7.975 | I4: 18 | J4: 7.9138889 | K4: =A4&"||"&B4 -> Limba slovacă||LICEUL TEORETIC "JOZEF GREGOR TAJOVSKY" NĂDLAC

Sheet Evoluție Proba C
A1: Evoluția mediei la Proba C (obligatorie în funcție de profil), pe fiecare disciplină și unitate, 2024→2026. Unitățile sunt afișate doar la disciplinele la care au avut candidați. "-" = nicio prezență la acea disciplină în acel an, la acea unitate.
A4: Istorie
A5: Loc | B5: Unitate | C5: Localitate | D5: Mediu | E5: Nr 2024 | F5: Medie 2024 | G5: Nr 2025 | H5: Medie 2025 | I5: Nr 2026 | J5: Medie 2026 | K5: Δ total 24→26
A6: 1 | B6: COLEGIUL NAŢIONAL "MOISE NICOARĂ" ARAD | C6: ARAD | D6: URBAN | E6: =IFERROR(IF(ISBLANK(INDEX(Date_ProbaC!$E:$E,MATCH("Istorie"&"||"&$B6,Date_ProbaC!$K:$K,0))),"-",INDEX(Date_ProbaC!$E:$E,MATCH("Istorie"&"||"&$B6,Date_ProbaC!$K:$K,0))),"-") -> 33 | F6: =IFERROR(IF(ISBLANK(INDEX(Date_ProbaC!$F:$F,MATCH("Istorie"&"||"&$B6,Date_ProbaC!$K:$K,0))),"-",INDEX(Date_ProbaC!$F:$F,MATCH("Istorie"&"||"&$B6,Date_ProbaC!$K:$K,0))),"-") -> 9.2151515 | G6: =IFERROR(IF(ISBLANK(INDEX(Date_ProbaC!$G:$G,MATCH("Istorie"&"||"&$B6,Date_ProbaC!$K:$K,0))),"-",INDEX(Date_ProbaC!$G:$G,MATCH("Istorie"&"||"&$B6,Date_ProbaC!$K:$K,0))),"-") -> 31 | H6: =IFERROR(IF(ISBLANK(INDEX(Date_ProbaC!$H:$H,MATCH("Istorie"&"||"&$B6,Date_ProbaC!$K:$K,0))),"-",INDEX(Date_ProbaC!$H:$H,MATCH("Istorie"&"||"&$B6,Date_ProbaC!$K:$K,0))),"-") -> 9.416129 | I6: =IFERROR(IF(ISBLANK(INDEX(Date_ProbaC!$I:$I,MATCH("Istorie"&"||"&$B6,Date_ProbaC!$K:$K,0))),"-",INDEX(Date_ProbaC!$I:$I,MATCH("Istorie"&"||"&$B6,Date_ProbaC!$K:$K,0))),"-") -> 30 | J6: =IFERROR(IF(ISBLANK(INDEX(Date_ProbaC!$J:$J,MATCH("Istorie"&"||"&$B6,Date_ProbaC!$K:$K,0))),"-",INDEX(Date_ProbaC!$J:$J,MATCH("Istorie"&"||"&$B6,Date_ProbaC!$K:$K,0))),"-") -> 9.6416667 | K6: =IFERROR(ROUND(J6-F6,2),"-") -> 0.43
A7: 2 | B7: LICEUL TEOLOGIC BAPTIST "ALEXA POPOVICI" ARAD | C7: ARAD | D7: URBAN | E7: =IFERROR(IF(ISBLANK(INDEX(Date_ProbaC!$E:$E,MATCH("Istorie"&"||"&$B7,Date_ProbaC!$K:$K,0))),"-",INDEX(Date_ProbaC!$E:$E,MATCH("Istorie"&"||"&$B7,Date_ProbaC!$K:$K,0))),"-") -> 30 | F7: =IFERROR(IF(ISBLANK(INDEX(Date_ProbaC!$F:$F,MATCH("Istorie"&"||"&$B7,Date_ProbaC!$K:$K,0))),"-",INDEX(Date_ProbaC!$F:$F,MATCH("Istorie"&"||"&$B7,Date_ProbaC!$K:$K,0))),"-") -> 8.295 | G7: =IFERROR(IF(ISBLANK(INDEX(Date_ProbaC!$G:$G,MATCH("Istorie"&"||"&$B7,Date_ProbaC!$K:$K,0))),"-",INDEX(Date_ProbaC!$G:$G,MATCH("Istorie"&"||"&$B7,Date_ProbaC!$K:$K,0))),"-") -> 29 | H7: =IFERROR(IF(ISBLANK(INDEX(Date_ProbaC!$H:$H,MATCH("Istorie"&"||"&$B7,Date_ProbaC!$K:$K,0))),"-",INDEX(Date_ProbaC!$H:$H,MATCH("Istorie"&"||"&$B7,Date_ProbaC!$K:$K,0))),"-") -> 8.4482759 | I7: =IFERROR(IF(ISBLANK(INDEX(Date_ProbaC!$I:$I,MATCH("Istorie"&"||"&$B7,Date_ProbaC!$K:$K,0))),"-",INDEX(Date_ProbaC!$I:$I,MATCH("Istorie"&"||"&$B7,Date_ProbaC!$K:$K,0))),"-") -> 25 | J7: =IFERROR(IF(ISBLANK(INDEX(Date_ProbaC!$J:$J,MATCH("Istorie"&"||"&$B7,Date_ProbaC!$K:$K,0))),"-",INDEX(Date_ProbaC!$J:$J,MATCH("Istorie"&"||"&$B7,Date_ProbaC!$K:$K,0))),"-") -> 9.03 | K7: =IFERROR(ROUND(J7-F7,2),"-") -> 0.73
A8: 3 | B8: COLEGIUL NAŢIONAL "ELENA GHIBA BIRTA" ARAD | C8: ARAD | D8: URBAN | E8: =IFERROR(IF(ISBLANK(INDEX(Date_ProbaC!$E:$E,MATCH("Istorie"&"||"&$B8,Date_ProbaC!$K:$K,0))),"-",INDEX(Date_ProbaC!$E:$E,MATCH("Istorie"&"||"&$B8,Date_ProbaC!$K:$K,0))),"-") -> 70 | F8: =IFERROR(IF(ISBLANK(INDEX(Date_ProbaC!$F:$F,MATCH("Istorie"&"||"&$B8,Date_ProbaC!$K:$K,0))),"-",INDEX(Date_ProbaC!$F:$F,MATCH("Istorie"&"||"&$B8,Date_ProbaC!$K:$K,0))),"-") -> 8.5585714 | G8: =IFERROR(IF(ISBLANK(INDEX(Date_ProbaC!$G:$G,MATCH("Istorie"&"||"&$B8,Date_ProbaC!$K:$K,0))),"-",INDEX(Date_ProbaC!$G:$G,MATCH("Istorie"&"||"&$B8,Date_ProbaC!$K:$K,0))),"-") -> 65 | H8: =IFERROR(IF(ISBLANK(INDEX(Date_ProbaC!$H:$H,MATCH("Istorie"&"||"&$B8,Date_ProbaC!$K:$K,0))),"-",INDEX(Date_ProbaC!$H:$H,MATCH("Istorie"&"||"&$B8,Date_ProbaC!$K:$K,0))),"-") -> 8.1661538 | I8: =IFERROR(IF(ISBLANK(INDEX(Date_ProbaC!$I:$I,MATCH("Istorie"&"||"&$B8,Date_ProbaC!$K:$K,0))),"-",INDEX(Date_ProbaC!$I:$I,MATCH("Istorie"&"||"&$B8,Date_ProbaC!$K:$K,0))),"-") -> 63 | J8: =IFERROR(IF(ISBLANK(INDEX(Date_ProbaC!$J:$J,MATCH("Istorie"&"||"&$B8,Date_ProbaC!$K:$K,0))),"-",INDEX(Date_ProbaC!$J:$J,MATCH("Istorie"&"||"&$B8,Date_ProbaC!$K:$K,0))),"-") -> 8.9650794 | K8: =IFERROR(ROUND(J8-F8,2),"-") -> 0.41
A9: 4 | B9: COLEGIUL NAŢIONAL "PREPARANDIA-DIMITRIE ŢICHINDEAL" ARAD | C9: ARAD | D9: URBAN | E9: =IFERROR(IF(ISBLANK(INDEX(Date_ProbaC!$E:$E,MATCH("Istorie"&"||"&$B9,Date_ProbaC!$K:$K,0))),"-",INDEX(Date_ProbaC!$E:$E,MATCH("Istorie"&"||"&$B9,Date_ProbaC!$K:$K,0))),"-") -> 33 | F9: =IFERROR(IF(ISBLANK(INDEX(Date_ProbaC!$F:$F,MATCH("Istorie"&"||"&$B9,Date_ProbaC!$K:$K,0))),"-",INDEX(Date_ProbaC!$F:$F,MATCH("Istorie"&"||"&$B9,Date_ProbaC!$K:$K,0))),"-") -> 8.9075758 | G9: =IFERROR(IF(ISBLANK(INDEX(Date_ProbaC!$G:$G,MATCH("Istorie"&"||"&$B9,Date_ProbaC!$K:$K,0))),"-",INDEX(Date_ProbaC!$G:$G,MATCH("Istorie"&"||"&$B9,Date_ProbaC!$K:$K,0))),"-") -> 53 | H9: =IFERROR(IF(ISBLANK(INDEX(Date_ProbaC!$H:$H,MATCH("Istorie"&"||"&$B9,Date_ProbaC!$K:$K,0))),"-",INDEX(Date_ProbaC!$H:$H,MATCH("Istorie"&"||"&$B9,Date_ProbaC!$K:$K,0))),"-") -> 8.4679245 | I9: =IFERROR(IF(ISBLANK(INDEX(Date_ProbaC!$I:$I,MATCH("Istorie"&"||"&$B9,Date_ProbaC!$K:$K,0))),"-",INDEX(Date_ProbaC!$I:$I,MATCH("Istorie"&"||"&$B9,Date_ProbaC!$K:$K,0))),"-") -> 53 | J9: =IFERROR(IF(ISBLANK(INDEX(Date_ProbaC!$J:$J,MATCH("Istorie"&"||"&$B9,Date_ProbaC!$K:$K,0))),"-",INDEX(Date_ProbaC!$J:$J,MATCH("Istorie"&"||"&$B9,Date_ProbaC!$K:$K,0))),"-") -> 8.9518868 | K9: =IFERROR(ROUND(J9-F9,2),"-") -> 0.04
A10: 5 | B10: COLEGIUL NAŢIONAL "VASILE GOLDIŞ" ARAD | C10: ARAD | D10: URBAN | E10: =IFERROR(IF(ISBLANK(INDEX(Date_ProbaC!$E:$E,MATCH("Istorie"&"||"&$B10,Date_ProbaC!$K:$K,0))),"-",INDEX(Date_ProbaC!$E:$E,MATCH("Istorie"&"||"&$B10,Date_ProbaC!$K:$K,0))),"-") -> 65 | F10: =IFERROR(IF(ISBLANK(INDEX(Date_ProbaC!$F:$F,MATCH("Istorie"&"||"&$B10,Date_ProbaC!$K:$K,0))),"-",INDEX(Date_ProbaC!$F:$F,MATCH("Istorie"&"||"&$B10,Date_ProbaC!$K:$K,0))),"-") -> 8.0792308 | G10: =IFERROR(IF(ISBLANK(INDEX(Date_ProbaC!$G:$G,MATCH("Istorie"&"||"&$B10,Date_ProbaC!$K:$K,0))),"-",INDEX(Date_ProbaC!$G:$G,MATCH("Istorie"&"||"&$B10,Date_ProbaC!$K:$K,0))),"-") -> 58 | H10: =IFERROR(IF(ISBLANK(INDEX(Date_ProbaC!$H:$H,MATCH("Istorie"&"||"&$B10,Date_ProbaC!$K:$K,0))),"-",INDEX(Date_ProbaC!$H:$H,MATCH("Istorie"&"||"&$B10,Date_ProbaC!$K:$K,0))),"-") -> 8.2336207 | I10: =IFERROR(IF(ISBLANK(INDEX(Date_ProbaC!$I:$I,MATCH("Istorie"&"||"&$B10,Date_ProbaC!$K:$K,0))),"-",INDEX(Date_ProbaC!$I:$I,MATCH("Istorie"&"||"&$B10,Date_ProbaC!$K:$K,0))),"-") -> 64 | J10: =IFERROR(IF(ISBLANK(INDEX(Date_ProbaC!$J:$J,MATCH("Istorie"&"||"&$B10,Date_ProbaC!$K:$K,0))),"-",INDEX(Date_ProbaC!$J:$J,MATCH("Istorie"&"||"&$B10,Date_ProbaC!$K:$K,0))),"-") -> 8.5070313 | K10: =IFERROR(ROUND(J10-F10,2),"-") -> 0.43
A11: 6 | B11: COLEGIUL "MIHAI VITEAZUL" INEU | C11: INEU | D11: RURAL | E11: =IFERROR(IF(ISBLANK(INDEX(Date_ProbaC!$E:$E,MATCH("Istorie"&"||"&$B11,Date_ProbaC!$K:$K,0))),"-",INDEX(Date_ProbaC!$E:$E,MATCH("Istorie"&"||"&$B11,Date_ProbaC!$K:$K,0))),"-") -> 34 | F11: =IFERROR(IF(ISBLANK(INDEX(Date_ProbaC!$F:$F,MATCH("Istorie"&"||"&$B11,Date_ProbaC!$K:$K,0))),"-",INDEX(Date_ProbaC!$F:$F,MATCH("Istorie"&"||"&$B11,Date_ProbaC!$K:$K,0))),"-") -> 7.6426471 | G11: =IFERROR(IF(ISBLANK(INDEX(Date_ProbaC!$G:$G,MATCH("Istorie"&"||"&$B11,Date_ProbaC!$K:$K,0))),"-",INDEX(Date_ProbaC!$G:$G,MATCH("Istorie"&"||"&$B11,Date_ProbaC!$K:$K,0))),"-") -> 32 | H11: =IFERROR(IF(ISBLANK(INDEX(Date_ProbaC!$H:$H,MATCH("Istorie"&"||"&$B11,Date_ProbaC!$K:$K,0))),"-",INDEX(Date_ProbaC!$H:$H,MATCH("Istorie"&"||"&$B11,Date_ProbaC!$K:$K,0))),"-") -> 7.54375 | I11: =IFERROR(IF(ISBLANK(INDEX(Date_ProbaC!$I:$I,MATCH("Istorie"&"||"&$B11,Date_ProbaC!$K:$K,0))),"-",INDEX(Date_ProbaC!$I:$I,MATCH("Istorie"&"||"&$B11,Date_ProbaC!$K:$K,0))),"-") -> 31 | J11: =IFERROR(IF(ISBLANK(INDEX(Date_ProbaC!$J:$J,MATCH("Istorie"&"||"&$B11,Date_ProbaC!$K:$K,0))),"-",INDEX(Date_ProbaC!$J:$J,MATCH("Istorie"&"||"&$B11,Date_ProbaC!$K:$K,0))),"-") -> 8.366129 | K11: =IFERROR(ROUND(J11-F11,2),"-") -> 0.72
A12: 7 | B12: LICEUL TEORETIC "ADAM MULLER GUTTENBRUNN" ARAD | C12: ARAD | D12: URBAN | E12: =IFERROR(IF(ISBLANK(INDEX(Date_ProbaC!$E:$E,MATCH("Istorie"&"||"&$B12,Date_ProbaC!$K:$K,0))),"-",INDEX(Date_ProbaC!$E:$E,MATCH("Istorie"&"||"&$B12,Date_ProbaC!$K:$K,0))),"-") -> 52 | F12: =IFERROR(IF(ISBLANK(INDEX(Date_ProbaC!$F:$F,MATCH("Istorie"&"||"&$B12,Date_ProbaC!$K:$K,0))),"-",INDEX(Date_ProbaC!$F:$F,MATCH("Istorie"&"||"&$B12,Date_ProbaC!$K:$K,0))),"-") -> 7.6144231 | G12: =IFERROR(IF(ISBLANK(INDEX(Date_ProbaC!$G:$G,MATCH("Istorie"&"||"&$B12,Date_ProbaC!$K:$K,0))),"-",INDEX(Date_ProbaC!$G:$G,MATCH("Istorie"&"||"&$B12,Date_ProbaC!$K:$K,0))),"-") -> 36 | H12: =IFERROR(IF(ISBLANK(INDEX(Date_ProbaC!$H:$H,MATCH("Istorie"&"||"&$B12,Date_ProbaC!$K:$K,0))),"-",INDEX(Date_ProbaC!$H:$H,MATCH("Istorie"&"||"&$B12,Date_ProbaC!$K:$K,0))),"-") -> 7.8972222 | I12: =IFERROR(IF(ISBLANK(INDEX(Date_ProbaC!$I:$I,MATCH("Istorie"&"||"&$B12,Date_ProbaC!$K:$K,0))),"-",INDEX(Date_ProbaC!$I:$I,MATCH("Istorie"&"||"&$B12,Date_ProbaC!$K:$K,0))),"-") -> 60 | J12: =IFERROR(IF(ISBLANK(INDEX(Date_ProbaC!$J:$J,MATCH("Istorie"&"||"&$B12,Date_ProbaC!$K:$K,0))),"-",INDEX(Date_ProbaC!$J:$J,MATCH("Istorie"&"||"&$B12,Date_ProbaC!$K:$K,0))),"-") -> 8.1983333 | K12: =IFERROR(ROUND(J12-F12,2),"-") -> 0.58
A13: 8 | B13: COLEGIUL"CSIKY GERGELY" ARAD | C13: ARAD | D13: RURAL | E13: =IFERROR(IF(ISBLANK(INDEX(Date_ProbaC!$E:$E,MATCH("Istorie"&"||"&$B13,Date_ProbaC!$K:$K,0))),"-",INDEX(Date_ProbaC!$E:$E,MATCH("Istorie"&"||"&$B13,Date_ProbaC!$K:$K,0))),"-") -> 2 | F13: =IFERROR(IF(ISBLANK(INDEX(Date_ProbaC!$F:$F,MATCH("Istorie"&"||"&$B13,Date_ProbaC!$K:$K,0))),"-",INDEX(Date_ProbaC!$F:$F,MATCH("Istorie"&"||"&$B13,Date_ProbaC!$K:$K,0))),"-") -> 5.7 | G13: =IFERROR(IF(ISBLANK(INDEX(Date_ProbaC!$G:$G,MATCH("Istorie"&"||"&$B13,Date_ProbaC!$K:$K,0))),"-",INDEX(Date_ProbaC!$G:$G,MATCH("Istorie"&"||"&$B13,Date_ProbaC!$K:$K,0))),"-") -> - | H13: =IFERROR(IF(ISBLANK(INDEX(Date_ProbaC!$H:$H,MATCH("Istorie"&"||"&$B13,Date_ProbaC!$K:$K,0))),"-",INDEX(Date_ProbaC!$H:$H,MATCH("Istorie"&"||"&$B13,Date_ProbaC!$K:$K,0))),"-") -> - | I13: =IFERROR(IF(ISBLANK(INDEX(Date_ProbaC!$I:$I,MATCH("Istorie"&"||"&$B13,Date_ProbaC!$K:$K,0))),"-",INDEX(Date_ProbaC!$I:$I,MATCH("Istorie"&"||"&$B13,Date_ProbaC!$K:$K,0))),"-") -> 9 | J13: =IFERROR(IF(ISBLANK(INDEX(Date_ProbaC!$J:$J,MATCH("Istorie"&"||"&$B13,Date_ProbaC!$K:$K,0))),"-",INDEX(Date_ProbaC!$J:$J,MATCH("Istorie"&"||"&$B13,Date_ProbaC!$K:$K,0))),"-") -> 8.1777778 | K13: =IFERROR(ROUND(J13-F13,2),"-") -> 2.48
A14: 9 | B14: LICEUL TEORETIC SEBIŞ | C14: SEBIŞ | D14: RURAL | E14: =IFERROR(IF(ISBLANK(INDEX(Date_ProbaC!$E:$E,MATCH("Istorie"&"||"&$B14,Date_ProbaC!$K:$K,0))),"-",INDEX(Date_ProbaC!$E:$E,MATCH("Istorie"&"||"&$B14,Date_ProbaC!$K:$K,0))),"-") -> 31 | F14: =IFERROR(IF(ISBLANK(INDEX(Date_ProbaC!$F:$F,MATCH("Istorie"&"||"&$B14,Date_ProbaC!$K:$K,0))),"-",INDEX(Date_ProbaC!$F:$F,MATCH("Istorie"&"||"&$B14,Date_ProbaC!$K:$K,0))),"-") -> 7.8774194 | G14: =IFERROR(IF(ISBLANK(INDEX(Date_ProbaC!$G:$G,MATCH("Istorie"&"||"&$B14,Date_ProbaC!$K:$K,0))),"-",INDEX(Date_ProbaC!$G:$G,MATCH("Istorie"&"||"&$B14,Date_ProbaC!$K:$K,0))),"-") -> 30 | H14: =IFERROR(IF(ISBLANK(INDEX(Date_ProbaC!$H:$H,MATCH("Istorie"&"||"&$B14,Date_ProbaC!$K:$K,0))),"-",INDEX(Date_ProbaC!$H:$H,MATCH("Istorie"&"||"&$B14,Date_ProbaC!$K:$K,0))),"-") -> 7.745 | I14: =IFERROR(IF(ISBLANK(INDEX(Date_ProbaC!$I:$I,MATCH("Istorie"&"||"&$B14,Date_ProbaC!$K:$K,0))),"-",INDEX(Date_ProbaC!$I:$I,MATCH("Istorie"&"||"&$B14,Date_ProbaC!$K:$K,0))),"-") -> 32 | J14: =IFERROR(IF(ISBLANK(INDEX(Date_ProbaC!$J:$J,MATCH("Istorie"&"||"&$B14,Date_ProbaC!$K:$K,0))),"-",INDEX(Date_ProbaC!$J:$J,MATCH("Istorie"&"||"&$B14,Date_ProbaC!$K:$K,0))),"-") -> 8.0296875 | K14: =IFERROR(ROUND(J14-F14,2),"-") -> 0.15
A15: 10 | B15: LICEUL TEORETIC "MIHAI VELICIU" CHIŞINEU CRIŞ | C15: CHIŞINEU-CRIŞ | D15: RURAL | E15: =IFERROR(IF(ISBLANK(INDEX(Date_ProbaC!$E:$E,MATCH("Istorie"&"||"&$B15,Date_ProbaC!$K:$K,0))),"-",INDEX(Date_ProbaC!$E:$E,MATCH("Istorie"&"||"&$B15,Date_ProbaC!$K:$K,0))),"-") -> 32 | F15: =IFERROR(IF(ISBLANK(INDEX(Date_ProbaC!$F:$F,MATCH("Istorie"&"||"&$B15,Date_ProbaC!$K:$K,0))),"-",INDEX(Date_ProbaC!$F:$F,MATCH("Istorie"&"||"&$B15,Date_ProbaC!$K:$K,0))),"-") -> 7.9765625 | G15: =IFERROR(IF(ISBLANK(INDEX(Date_ProbaC!$G:$G,MATCH("Istorie"&"||"&$B15,Date_ProbaC!$K:$K,0))),"-",INDEX(Date_ProbaC!$G:$G,MATCH("Istorie"&"||"&$B15,Date_ProbaC!$K:$K,0))),"-") -> 30 | H15: =IFERROR(IF(ISBLANK(INDEX(Date_ProbaC!$H:$H,MATCH("Istorie"&"||"&$B15,Date_ProbaC!$K:$K,0))),"-",INDEX(Date_ProbaC!$H:$H,MATCH("Istorie"&"||"&$B15,Date_ProbaC!$K:$K,0))),"-") -> 7.1116667 | I15: =IFERROR(IF(ISBLANK(INDEX(Date_ProbaC!$I:$I,MATCH("Istorie"&"||"&$B15,Date_ProbaC!$K:$K,0))),"-",INDEX(Date_ProbaC!$I:$I,MATCH("Istorie"&"||"&$B15,Date_ProbaC!$K:$K,0))),"-") -> 54 | J15: =IFERROR(IF(ISBLANK(INDEX(Date_ProbaC!$J:$J,MATCH("Istorie"&"||"&$B15,Date_ProbaC!$K:$K,0))),"-",INDEX(Date_ProbaC!$J:$J,MATCH("Istorie"&"||"&$B15,Date_ProbaC!$K:$K,0))),"-") -> 7.4481481 | K15: =IFERROR(ROUND(J15-F15,2),"-") -> -0.53
A16: 11 | B16: COLEGIUL DE ARTE "SABIN DRĂGOI" ARAD | C16: ARAD | D16: URBAN | E16: =IFERROR(IF(ISBLANK(INDEX(Date_ProbaC!$E:$E,MATCH("Istorie"&"||"&$B16,Date_ProbaC!$K:$K,0))),"-",INDEX(Date_ProbaC!$E:$E,MATCH("Istorie"&"||"&$B16,Date_ProbaC!$K:$K,0))),"-") -> 120 | F16: =IFERROR(IF(ISBLANK(INDEX(Date_ProbaC!$F:$F,MATCH("Istorie"&"||"&$B16,Date_ProbaC!$K:$K,0))),"-",INDEX(Date_ProbaC!$F:$F,MATCH("Istorie"&"||"&$B16,Date_ProbaC!$K:$K,0))),"-") -> 6.7875 | G16: =IFERROR(IF(ISBLANK(INDEX(Date_ProbaC!$G:$G,MATCH("Istorie"&"||"&$B16,Date_ProbaC!$K:$K,0))),"-",INDEX(Date_ProbaC!$G:$G,MATCH("Istorie"&"||"&$B16,Date_ProbaC!$K:$K,0))),"-") -> 105 | H16: =IFERROR(IF(ISBLANK(INDEX(Date_ProbaC!$H:$H,MATCH("Istorie"&"||"&$B16,Date_ProbaC!$K:$K,0))),"-",INDEX(Date_ProbaC!$H:$H,MATCH("Istorie"&"||"&$B16,Date_ProbaC!$K:$K,0))),"-") -> 6.6290476 | I16: =IFERROR(IF(ISBLANK(INDEX(Date_ProbaC!$I:$I,MATCH("Istorie"&"||"&$B16,Date_ProbaC!$K:$K,0))),"-",INDEX(Date_ProbaC!$I:$I,MATCH("Istorie"&"||"&$B16,Date_ProbaC!$K:$K,0))),"-") -> 124 | J16: =IFERROR(IF(ISBLANK(INDEX(Date_ProbaC!$J:$J,MATCH("Istorie"&"||"&$B16,Date_ProbaC!$K:$K,0))),"-",INDEX(Date_ProbaC!$J:$J,MATCH("Istorie"&"||"&$B16,Date_ProbaC!$K:$K,0))),"-") -> 6.8193548 | K16: =IFERROR(ROUND(J16-F16,2),"-") -> 0.03
A17: 12 | B17: LICEUL "IOAN BUTEANU" GURAHONŢ | C17: GURAHONŢ | D17: RURAL | E17: =IFERROR(IF(ISBLANK(INDEX(Date_ProbaC!$E:$E,MATCH("Istorie"&"||"&$B17,Date_ProbaC!$K:$K,0))),"-",INDEX(Date_ProbaC!$E:$E,MATCH("Istorie"&"||"&$B17,Date_ProbaC!$K:$K,0))),"-") -> 33 | F17: =IFERROR(IF(ISBLANK(INDEX(Date_ProbaC!$F:$F,MATCH("Istorie"&"||"&$B17,Date_ProbaC!$K:$K,0))),"-",INDEX(Date_ProbaC!$F:$F,MATCH("Istorie"&"||"&$B17,Date_ProbaC!$K:$K,0))),"-") -> 7.1469697 | G17: =IFERROR(IF(ISBLANK(INDEX(Date_ProbaC!$G:$G,MATCH("Istorie"&"||"&$B17,Date_ProbaC!$K:$K,0))),"-",INDEX(Date_ProbaC!$G:$G,MATCH("Istorie"&"||"&$B17,Date_ProbaC!$K:$K,0))),"-") -> 34 | H17: =IFERROR(IF(ISBLANK(INDEX(Date_ProbaC!$H:$H,MATCH("Istorie"&"||"&$B17,Date_ProbaC!$K:$K,0))),"-",INDEX(Date_ProbaC!$H:$H,MATCH("Istorie"&"||"&$B17,Date_ProbaC!$K:$K,0))),"-") -> 7.6102941 | I17: =IFERROR(IF(ISBLANK(INDEX(Date_ProbaC!$I:$I,MATCH("Istorie"&"||"&$B17,Date_ProbaC!$K:$K,0))),"-",INDEX(Date_ProbaC!$I:$I,MATCH("Istorie"&"||"&$B17,Date_ProbaC!$K:$K,0))),"-") -> 28 | J17: =IFERROR(IF(ISBLANK(INDEX(Date_ProbaC!$J:$J,MATCH("Istorie"&"||"&$B17,Date_ProbaC!$K:$K,0))),"-",INDEX(Date_ProbaC!$J:$J,MATCH("Istorie"&"||"&$B17,Date_ProbaC!$K:$K,0))),"-") -> 6.7910714 | K17: =IFERROR(ROUND(J17-F17,2),"-") -> -0.36
... A27: 22 | B27: LICEUL SPECIAL "SFÂNTA MARIA" ARAD | C27: ARAD | D27: RURAL | E27: =IFERROR(IF(ISBLANK(INDEX(Date_ProbaC!$E:$E,MATCH("Istorie"&"||"&$B27,Date_ProbaC!$K:$K,0))),"-",INDEX(Date_ProbaC!$E:$E,MATCH("Istorie"&"||"&$B27,Date_ProbaC!$K:$K,0))),"-") -> 2 | F27: =IFERROR(IF(ISBLANK(INDEX(Date_ProbaC!$F:$F,MATCH("Istorie"&"||"&$B27,Date_ProbaC!$K:$K,0))),"-",INDEX(Date_ProbaC!$F:$F,MATCH("Istorie"&"||"&$B27,Date_ProbaC!$K:$K,0))),"-") -> 7.375 | G27: =IFERROR(IF(ISBLANK(INDEX(Date_ProbaC!$G:$G,MATCH("Istorie"&"||"&$B27,Date_ProbaC!$K:$K,0))),"-",INDEX(Date_ProbaC!$G:$G,MATCH("Istorie"&"||"&$B27,Date_ProbaC!$K:$K,0))),"-") -> - | H27: =IFERROR(IF(ISBLANK(INDEX(Date_ProbaC!$H:$H,MATCH("Istorie"&"||"&$B27,Date_ProbaC!$K:$K,0))),"-",INDEX(Date_ProbaC!$H:$H,MATCH("Istorie"&"||"&$B27,Date_ProbaC!$K:$K,0))),"-") -> - | I27: =IFERROR(IF(ISBLANK(INDEX(Date_ProbaC!$I:$I,MATCH("Istorie"&"||"&$B27,Date_ProbaC!$K:$K,0))),"-",INDEX(Date_ProbaC!$I:$I,MATCH("Istorie"&"||"&$B27,Date_ProbaC!$K:$K,0))),"-") -> - | J27: =IFERROR(IF(ISBLANK(INDEX(Date_ProbaC!$J:$J,MATCH("Istorie"&"||"&$B27,Date_ProbaC!$K:$K,0))),"-",INDEX(Date_ProbaC!$J:$J,MATCH("Istorie"&"||"&$B27,Date_ProbaC!$K:$K,0))),"-") -> - | K27: =IFERROR(ROUND(J27-F27,2),"-") -> -
A28: Matematică MATE-INFO
A29: Loc | B29: Unitate | C29: Localitate | D29: Mediu | E29: Nr 2024 | F29: Medie 2024 | G29: Nr 2025 | H29: Medie 2025 | I29: Nr 2026 | J29: Medie 2026 | K29: Δ total 24→26
A30: 1 | B30: COLEGIUL NAŢIONAL "PREPARANDIA-DIMITRIE ŢICHINDEAL" ARAD | C30: ARAD | D30: URBAN | E30: =IFERROR(IF(ISBLANK(INDEX(Date_ProbaC!$E:$E,MATCH("Matematică MATE-INFO"&"||"&$B30,Date_ProbaC!$K:$K,0))),"-",INDEX(Date_ProbaC!$E:$E,MATCH("Matematică MATE-INFO"&"||"&$B30,Date_ProbaC!$K:$K,0))),"-") -> 29 | F30: =IFERROR(IF(ISBLANK(INDEX(Date_ProbaC!$F:$F,MATCH("Matematică MATE-INFO"&"||"&$B30,Date_ProbaC!$K:$K,0))),"-",INDEX(Date_ProbaC!$F:$F,MATCH("Matematică MATE-INFO"&"||"&$B30,Date_ProbaC!$K:$K,0))),"-") -> 9.4862069 | G30: =IFERROR(IF(ISBLANK(INDEX(Date_ProbaC!$G:$G,MATCH("Matematică MATE-INFO"&"||"&$B30,Date_ProbaC!$K:$K,0))),"-",INDEX(Date_ProbaC!$G:$G,MATCH("Matematică MATE-INFO"&"||"&$B30,Date_ProbaC!$K:$K,0))),"-") -> 34 | H30: =IFERROR(IF(ISBLANK(INDEX(Date_ProbaC!$H:$H,MATCH("Matematică MATE-INFO"&"||"&$B30,Date_ProbaC!$K:$K,0))),"-",INDEX(Date_ProbaC!$H:$H,MATCH("Matematică MATE-INFO"&"||"&$B30,Date_ProbaC!$K:$K,0))),"-") -> 9.1588235 | I30: =IFERROR(IF(ISBLANK(INDEX(Date_ProbaC!$I:$I,MATCH("Matematică MATE-INFO"&"||"&$B30,Date_ProbaC!$K:$K,0))),"-",INDEX(Date_ProbaC!$I:$I,MATCH("Matematică MATE-INFO"&"||"&$B30,Date_ProbaC!$K:$K,0))),"-") -> 30 | J30: =IFERROR(IF(ISBLANK(INDEX(Date_ProbaC!$J:$J,MATCH("Matematică MATE-INFO"&"||"&$B30,Date_ProbaC!$K:$K,0))),"-",INDEX(Date_ProbaC!$J:$J,MATCH("Matematică MATE-INFO"&"||"&$B30,Date_ProbaC!$K:$K,0))),"-") -> 9.5333333 | K30: =IFERROR(ROUND(J30-F30,2),"-") -> 0.05
A31: 2 | B31: COLEGIUL NAŢIONAL "MOISE NICOARĂ" ARAD | C31: ARAD | D31: URBAN | E31: =IFERROR(IF(ISBLANK(INDEX(Date_ProbaC!$E:$E,MATCH("Matematică MATE-INFO"&"||"&$B31,Date_ProbaC!$K:$K,0))),"-",INDEX(Date_ProbaC!$E:$E,MATCH("Matematică MATE-INFO"&"||"&$B31,Date_ProbaC!$K:$K,0))),"-") -> 51 | F31: =IFERROR(IF(ISBLANK(INDEX(Date_ProbaC!$F:$F,MATCH("Matematică MATE-INFO"&"||"&$B31,Date_ProbaC!$K:$K,0))),"-",INDEX(Date_ProbaC!$F:$F,MATCH("Matematică MATE-INFO"&"||"&$B31,Date_ProbaC!$K:$K,0))),"-") -> 9.4676471 | G31: =IFERROR(IF(ISBLANK(INDEX(Date_ProbaC!$G:$G,MATCH("Matematică MATE-INFO"&"||"&$B31,Date_ProbaC!$K:$K,0))),"-",INDEX(Date_ProbaC!$G:$G,MATCH("Matematică MATE-INFO"&"||"&$B31,Date_ProbaC!$K:$K,0))),"-") -> 49 | H31: =IFERROR(IF(ISBLANK(INDEX(Date_ProbaC!$H:$H,MATCH("Matematică MATE-INFO"&"||"&$B31,Date_ProbaC!$K:$K,0))),"-",INDEX(Date_ProbaC!$H:$H,MATCH("Matematică MATE-INFO"&"||"&$B31,Date_ProbaC!$K:$K,0))),"-") -> 8.9714286 | I31: =IFERROR(IF(ISBLANK(INDEX(Date_ProbaC!$I:$I,MATCH("Matematică MATE-INFO"&"||"&$B31,Date_ProbaC!$K:$K,0))),"-",INDEX(Date_ProbaC!$I:$I,MATCH("Matematică MATE-INFO"&"||"&$B31,Date_ProbaC!$K:$K,0))),"-") -> 52 | J31: =IFERROR(IF(ISBLANK(INDEX(Date_ProbaC!$J:$J,MATCH("Matematică MATE-INFO"&"||"&$B31,Date_ProbaC!$K:$K,0))),"-",INDEX(Date_ProbaC!$J:$J,MATCH("Matematică MATE-INFO"&"||"&$B31,Date_ProbaC!$K:$K,0))),"-") -> 8.9548077 | K31: =IFERROR(ROUND(J31-F31,2),"-") -> -0.51
A32: 3 | B32: LICEUL TEORETIC "MIHAI VELICIU" CHIŞINEU CRIŞ | C32: CHIŞINEU-CRIŞ | D32: RURAL | E32: =IFERROR(IF(ISBLANK(INDEX(Date_ProbaC!$E:$E,MATCH("Matematică MATE-INFO"&"||"&$B32,Date_ProbaC!$K:$K,0))),"-",INDEX(Date_ProbaC!$E:$E,MATCH("Matematică MATE-INFO"&"||"&$B32,Date_ProbaC!$K:$K,0))),"-") -> 28 | F32: =IFERROR(IF(ISBLANK(INDEX(Date_ProbaC!$F:$F,MATCH("Matematică MATE-INFO"&"||"&$B32,Date_ProbaC!$K:$K,0))),"-",INDEX(Date_ProbaC!$F:$F,MATCH("Matematică MATE-INFO"&"||"&$B32,Date_ProbaC!$K:$K,0))),"-") -> 8.2892857 | G32: =IFERROR(IF(ISBLANK(INDEX(Date_ProbaC!$G:$G,MATCH("Matematică MATE-INFO"&"||"&$B32,Date_ProbaC!$K:$K,0))),"-",INDEX(Date_ProbaC!$G:$G,MATCH("Matematică MATE-INFO"&"||"&$B32,Date_ProbaC!$K:$K,0))),"-") -> 16 | H32: =IFERROR(IF(ISBLANK(INDEX(Date_ProbaC!$H:$H,MATCH("Matematică MATE-INFO"&"||"&$B32,Date_ProbaC!$K:$K,0))),"-",INDEX(Date_ProbaC!$H:$H,MATCH("Matematică MATE-INFO"&"||"&$B32,Date_ProbaC!$K:$K,0))),"-") -> 7.771875 | I32: =IFERROR(IF(ISBLANK(INDEX(Date_ProbaC!$I:$I,MATCH("Matematică MATE-INFO"&"||"&$B32,Date_ProbaC!$K:$K,0))),"-",INDEX(Date_ProbaC!$I:$I,MATCH("Matematică MATE-INFO"&"||"&$B32,Date_ProbaC!$K:$K,0))),"-") -> 30 | J32: =IFERROR(IF(ISBLANK(INDEX(Date_ProbaC!$J:$J,MATCH("Matematică MATE-INFO"&"||"&$B32,Date_ProbaC!$K:$K,0))),"-",INDEX(Date_ProbaC!$J:$J,MATCH("Matematică MATE-INFO"&"||"&$B32,Date_ProbaC!$K:$K,0))),"-") -> 8.4466667 | K32: =IFERROR(ROUND(J32-F32,2),"-") -> 0.16
A33: 4 | B33: COLEGIUL "MIHAI VITEAZUL" INEU | C33: INEU | D33: RURAL | E33: =IFERROR(IF(ISBLANK(INDEX(Date_ProbaC!$E:$E,MATCH("Matematică MATE-INFO"&"||"&$B33,Date_ProbaC!$K:$K,0))),"-",INDEX(Date_ProbaC!$E:$E,MATCH("Matematică MATE-INFO"&"||"&$B33,Date_ProbaC!$K:$K,0))),"-") -> 28 | F33: =IFERROR(IF(ISBLANK(INDEX(Date_ProbaC!$F:$F,MATCH("Matematică MATE-INFO"&"||"&$B33,Date_ProbaC!$K:$K,0))),"-",INDEX(Date_ProbaC!$F:$F,MATCH("Matematică MATE-INFO"&"||"&$B33,Date_ProbaC!$K:$K,0))),"-") -> 8.6160714 | G33: =IFERROR(IF(ISBLANK(INDEX(Date_ProbaC!$G:$G,MATCH("Matematică MATE-INFO"&"||"&$B33,Date_ProbaC!$K:$K,0))),"-",INDEX(Date_ProbaC!$G:$G,MATCH("Matematică MATE-INFO"&"||"&$B33,Date_ProbaC!$K:$K,0))),"-") -> 17 | H33: =IFERROR(IF(ISBLANK(INDEX(Date_ProbaC!$H:$H,MATCH("Matematică MATE-INFO"&"||"&$B33,Date_ProbaC!$K:$K,0))),"-",INDEX(Date_ProbaC!$H:$H,MATCH("Matematică MATE-INFO"&"||"&$B33,Date_ProbaC!$K:$K,0))),"-") -> 9.0117647 | I33: =IFERROR(IF(ISBLANK(INDEX(Date_ProbaC!$I:$I,MATCH("Matematică MATE-INFO"&"||"&$B33,Date_ProbaC!$K:$K,0))),"-",INDEX(Date_ProbaC!$I:$I,MATCH("Matematică MATE-INFO"&"||"&$B33,Date_ProbaC!$K:$K,0))),"-") -> 25 | J33: =IFERROR(IF(ISBLANK(INDEX(Date_ProbaC!$J:$J,MATCH("Matematică MATE-INFO"&"||"&$B33,Date_ProbaC!$K:$K,0))),"-",INDEX(Date_ProbaC!$J:$J,MATCH("Matematică MATE-INFO"&"||"&$B33,Date_ProbaC!$K:$K,0))),"-") -> 8.336 | K33: =IFERROR(ROUND(J33-F33,2),"-") -> -0.28
A34: 5 | B34: COLEGIUL NAŢIONAL "VASILE GOLDIŞ" ARAD | C34: ARAD | D34: URBAN | E34: =IFERROR(IF(ISBLANK(INDEX(Date_ProbaC!$E:$E,MATCH("Matematică MATE-INFO"&"||"&$B34,Date_ProbaC!$K:$K,0))),"-",INDEX(Date_ProbaC!$E:$E,MATCH("Matematică MATE-INFO"&"||"&$B34,Date_ProbaC!$K:$K,0))),"-") -> 63 | F34: =IFERROR(IF(ISBLANK(INDEX(Date_ProbaC!$F:$F,MATCH("Matematică MATE-INFO"&"||"&$B34,Date_ProbaC!$K:$K,0))),"-",INDEX(Date_ProbaC!$F:$F,MATCH("Matematică MATE-INFO"&"||"&$B34,Date_ProbaC!$K:$K,0))),"-") -> 7.7 | G34: =IFERROR(IF(ISBLANK(INDEX(Date_ProbaC!$G:$G,MATCH("Matematică MATE-INFO"&"||"&$B34,Date_ProbaC!$K:$K,0))),"-",INDEX(Date_ProbaC!$G:$G,MATCH("Matematică MATE-INFO"&"||"&$B34,Date_ProbaC!$K:$K,0))),"-") -> 34 | H34: =IFERROR(IF(ISBLANK(INDEX(Date_ProbaC!$H:$H,MATCH("Matematică MATE-INFO"&"||"&$B34,Date_ProbaC!$K:$K,0))),"-",INDEX(Date_ProbaC!$H:$H,MATCH("Matematică MATE-INFO"&"||"&$B34,Date_ProbaC!$K:$K,0))),"-") -> 7.3529412 | I34: =IFERROR(IF(ISBLANK(INDEX(Date_ProbaC!$I:$I,MATCH("Matematică MATE-INFO"&"||"&$B34,Date_ProbaC!$K:$K,0))),"-",INDEX(Date_ProbaC!$I:$I,MATCH("Matematică MATE-INFO"&"||"&$B34,Date_ProbaC!$K:$K,0))),"-") -> 49 | J34: =IFERROR(IF(ISBLANK(INDEX(Date_ProbaC!$J:$J,MATCH("Matematică MATE-INFO"&"||"&$B34,Date_ProbaC!$K:$K,0))),"-",INDEX(Date_ProbaC!$J:$J,MATCH("Matematică MATE-INFO"&"||"&$B34,Date_ProbaC!$K:$K,0))),"-") -> 7.627551 | K34: =IFERROR(ROUND(J34-F34,2),"-") -> -0.07
A35: 6 | B35: LICEUL NAŢIONAL DE INFORMATICĂ ARAD | C35: ARAD | D35: RURAL | E35: =IFERROR(IF(ISBLANK(INDEX(Date_ProbaC!$E:$E,MATCH("Matematică MATE-INFO"&"||"&$B35,Date_ProbaC!$K:$K,0))),"-",INDEX(Date_ProbaC!$E:$E,MATCH("Matematică MATE-INFO"&"||"&$B35,Date_ProbaC!$K:$K,0))),"-") -> 83 | F35: =IFERROR(IF(ISBLANK(INDEX(Date_ProbaC!$F:$F,MATCH("Matematică MATE-INFO"&"||"&$B35,Date_ProbaC!$K:$K,0))),"-",INDEX(Date_ProbaC!$F:$F,MATCH("Matematică MATE-INFO"&"||"&$B35,Date_ProbaC!$K:$K,0))),"-") -> 7.5650602 | G35: =IFERROR(IF(ISBLANK(INDEX(Date_ProbaC!$G:$G,MATCH("Matematică MATE-INFO"&"||"&$B35,Date_ProbaC!$K:$K,0))),"-",INDEX(Date_ProbaC!$G:$G,MATCH("Matematică MATE-INFO"&"||"&$B35,Date_ProbaC!$K:$K,0))),"-") -> 59 | H35: =IFERROR(IF(ISBLANK(INDEX(Date_ProbaC!$H:$H,MATCH("Matematică MATE-INFO"&"||"&$B35,Date_ProbaC!$K:$K,0))),"-",INDEX(Date_ProbaC!$H:$H,MATCH("Matematică MATE-INFO"&"||"&$B35,Date_ProbaC!$K:$K,0))),"-") -> 6.4932203 | I35: =IFERROR(IF(ISBLANK(INDEX(Date_ProbaC!$I:$I,MATCH("Matematică MATE-INFO"&"||"&$B35,Date_ProbaC!$K:$K,0))),"-",INDEX(Date_ProbaC!$I:$I,MATCH("Matematică MATE-INFO"&"||"&$B35,Date_ProbaC!$K:$K,0))),"-") -> 87 | J35: =IFERROR(IF(ISBLANK(INDEX(Date_ProbaC!$J:$J,MATCH("Matematică MATE-INFO"&"||"&$B35,Date_ProbaC!$K:$K,0))),"-",INDEX(Date_ProbaC!$J:$J,MATCH("Matematică MATE-INFO"&"||"&$B35,Date_ProbaC!$K:$K,0))),"-") -> 6.608046 | K35: =IFERROR(ROUND(J35-F35,2),"-") -> -0.96
A36: 7 | B36: COLEGIUL"CSIKY GERGELY" ARAD | C36: ARAD | D36: RURAL | E36: =IFERROR(IF(ISBLANK(INDEX(Date_ProbaC!$E:$E,MATCH("Matematică MATE-INFO"&"||"&$B36,Date_ProbaC!$K:$K,0))),"-",INDEX(Date_ProbaC!$E:$E,MATCH("Matematică MATE-INFO"&"||"&$B36,Date_ProbaC!$K:$K,0))),"-") -> 4 | F36: =IFERROR(IF(ISBLANK(INDEX(Date_ProbaC!$F:$F,MATCH("Matematică MATE-INFO"&"||"&$B36,Date_ProbaC!$K:$K,0))),"-",INDEX(Date_ProbaC!$F:$F,MATCH("Matematică MATE-INFO"&"||"&$B36,Date_ProbaC!$K:$K,0))),"-") -> 8.1 | G36: =IFERROR(IF(ISBLANK(INDEX(Date_ProbaC!$G:$G,MATCH("Matematică MATE-INFO"&"||"&$B36,Date_ProbaC!$K:$K,0))),"-",INDEX(Date_ProbaC!$G:$G,MATCH("Matematică MATE-INFO"&"||"&$B36,Date_ProbaC!$K:$K,0))),"-") -> 9 | H36: =IFERROR(IF(ISBLANK(INDEX(Date_ProbaC!$H:$H,MATCH("Matematică MATE-INFO"&"||"&$B36,Date_ProbaC!$K:$K,0))),"-",INDEX(Date_ProbaC!$H:$H,MATCH("Matematică MATE-INFO"&"||"&$B36,Date_ProbaC!$K:$K,0))),"-") -> 8.1611111 | I36: =IFERROR(IF(ISBLANK(INDEX(Date_ProbaC!$I:$I,MATCH("Matematică MATE-INFO"&"||"&$B36,Date_ProbaC!$K:$K,0))),"-",INDEX(Date_ProbaC!$I:$I,MATCH("Matematică MATE-INFO"&"||"&$B36,Date_ProbaC!$K:$K,0))),"-") -> 7 | J36: =IFERROR(IF(ISBLANK(INDEX(Date_ProbaC!$J:$J,MATCH("Matematică MATE-INFO"&"||"&$B36,Date_ProbaC!$K:$K,0))),"-",INDEX(Date_ProbaC!$J:$J,MATCH("Matematică MATE-INFO"&"||"&$B36,Date_ProbaC!$K:$K,0))),"-") -> 6.5714286 | K36: =IFERROR(ROUND(J36-F36,2),"-") -> -1.53
A37: 8 | B37: COLEGIUL NAŢIONAL "ELENA GHIBA BIRTA" ARAD | C37: ARAD | D37: URBAN | E37: =IFERROR(IF(ISBLANK(INDEX(Date_ProbaC!$E:$E,MATCH("Matematică MATE-INFO"&"||"&$B37,Date_ProbaC!$K:$K,0))),"-",INDEX(Date_ProbaC!$E:$E,MATCH("Matematică MATE-INFO"&"||"&$B37,Date_ProbaC!$K:$K,0))),"-") -> 65 | F37: =IFERROR(IF(ISBLANK(INDEX(Date_ProbaC!$F:$F,MATCH("Matematică MATE-INFO"&"||"&$B37,Date_ProbaC!$K:$K,0))),"-",INDEX(Date_ProbaC!$F:$F,MATCH("Matematică MATE-INFO"&"||"&$B37,Date_ProbaC!$K:$K,0))),"-") -> 7.4084615 | G37: =IFERROR(IF(ISBLANK(INDEX(Date_ProbaC!$G:$G,MATCH("Matematică MATE-INFO"&"||"&$B37,Date_ProbaC!$K:$K,0))),"-",INDEX(Date_ProbaC!$G:$G,MATCH("Matematică MATE-INFO"&"||"&$B37,Date_ProbaC!$K:$K,0))),"-") -> 40 | H37: =IFERROR(IF(ISBLANK(INDEX(Date_ProbaC!$H:$H,MATCH("Matematică MATE-INFO"&"||"&$B37,Date_ProbaC!$K:$K,0))),"-",INDEX(Date_ProbaC!$H:$H,MATCH("Matematică MATE-INFO"&"||"&$B37,Date_ProbaC!$K:$K,0))),"-") -> 6.38125 | I37: =IFERROR(IF(ISBLANK(INDEX(Date_ProbaC!$I:$I,MATCH("Matematică MATE-INFO"&"||"&$B37,Date_ProbaC!$K:$K,0))),"-",INDEX(Date_ProbaC!$I:$I,MATCH("Matematică MATE-INFO"&"||"&$B37,Date_ProbaC!$K:$K,0))),"-") -> 49 | J37: =IFERROR(IF(ISBLANK(INDEX(Date_ProbaC!$J:$J,MATCH("Matematică MATE-INFO"&"||"&$B37,Date_ProbaC!$K:$K,0))),"-",INDEX(Date_ProbaC!$J:$J,MATCH("Matematică MATE-INFO"&"||"&$B37,Date_ProbaC!$K:$K,0))),"-") -> 6.294898 | K37: =IFERROR(ROUND(J37-F37,2),"-") -> -1.11
A38: 9 | B38: LICEUL TEORETIC PÂNCOTA | C38: PÂNCOTA | D38: RURAL | E38: =IFERROR(IF(ISBLANK(INDEX(Date_ProbaC!$E:$E,MATCH("Matematică MATE-INFO"&"||"&$B38,Date_ProbaC!$K:$K,0))),"-",INDEX(Date_ProbaC!$E:$E,MATCH("Matematică MATE-INFO"&"||"&$B38,Date_ProbaC!$K:$K,0))),"-") -> 27 | F38: =IFERROR(IF(ISBLANK(INDEX(Date_ProbaC!$F:$F,MATCH("Matematică MATE-INFO"&"||"&$B38,Date_ProbaC!$K:$K,0))),"-",INDEX(Date_ProbaC!$F:$F,MATCH("Matematică MATE-INFO"&"||"&$B38,Date_ProbaC!$K:$K,0))),"-") -> 5.6333333 | G38: =IFERROR(IF(ISBLANK(INDEX(Date_ProbaC!$G:$G,MATCH("Matematică MATE-INFO"&"||"&$B38,Date_ProbaC!$K:$K,0))),"-",INDEX(Date_ProbaC!$G:$G,MATCH("Matematică MATE-INFO"&"||"&$B38,Date_ProbaC!$K:$K,0))),"-") -> 20 | H38: =IFERROR(IF(ISBLANK(INDEX(Date_ProbaC!$H:$H,MATCH("Matematică MATE-INFO"&"||"&$B38,Date_ProbaC!$K:$K,0))),"-",INDEX(Date_ProbaC!$H:$H,MATCH("Matematică MATE-INFO"&"||"&$B38,Date_ProbaC!$K:$K,0))),"-") -> 5.63 | I38: =IFERROR(IF(ISBLANK(INDEX(Date_ProbaC!$I:$I,MATCH("Matematică MATE-INFO"&"||"&$B38,Date_ProbaC!$K:$K,0))),"-",INDEX(Date_ProbaC!$I:$I,MATCH("Matematică MATE-INFO"&"||"&$B38,Date_ProbaC!$K:$K,0))),"-") -> 27 | J38: =IFERROR(IF(ISBLANK(INDEX(Date_ProbaC!$J:$J,MATCH("Matematică MATE-INFO"&"||"&$B38,Date_ProbaC!$K:$K,0))),"-",INDEX(Date_ProbaC!$J:$J,MATCH("Matematică MATE-INFO"&"||"&$B38,Date_ProbaC!$K:$K,0))),"-") -> 6.2907407 | K38: =IFERROR(ROUND(J38-F38,2),"-") -> 0.66
A39: 10 | B39: LICEUL "IOAN BUTEANU" GURAHONŢ | C39: GURAHONŢ | D39: RURAL | E39: =IFERROR(IF(ISBLANK(INDEX(Date_ProbaC!$E:$E,MATCH("Matematică MATE-INFO"&"||"&$B39,Date_ProbaC!$K:$K,0))),"-",INDEX(Date_ProbaC!$E:$E,MATCH("Matematică MATE-INFO"&"||"&$B39,Date_ProbaC!$K:$K,0))),"-") -> 15 | F39: =IFERROR(IF(ISBLANK(INDEX(Date_ProbaC!$F:$F,MATCH("Matematică MATE-INFO"&"||"&$B39,Date_ProbaC!$K:$K,0))),"-",INDEX(Date_ProbaC!$F:$F,MATCH("Matematică MATE-INFO"&"||"&$B39,Date_ProbaC!$K:$K,0))),"-") -> 7.02 | G39: =IFERROR(IF(ISBLANK(INDEX(Date_ProbaC!$G:$G,MATCH("Matematică MATE-INFO"&"||"&$B39,Date_ProbaC!$K:$K,0))),"-",INDEX(Date_ProbaC!$G:$G,MATCH("Matematică MATE-INFO"&"||"&$B39,Date_ProbaC!$K:$K,0))),"-") -> 1 | H39: =IFERROR(IF(ISBLANK(INDEX(Date_ProbaC!$H:$H,MATCH("Matematică MATE-INFO"&"||"&$B39,Date_ProbaC!$K:$K,0))),"-",INDEX(Date_ProbaC!$H:$H,MATCH("Matematică MATE-INFO"&"||"&$B39,Date_ProbaC!$K:$K,0))),"-") -> 8.15 | I39: =IFERROR(IF(ISBLANK(INDEX(Date_ProbaC!$I:$I,MATCH("Matematică MATE-INFO"&"||"&$B39,Date_ProbaC!$K:$K,0))),"-",INDEX(Date_ProbaC!$I:$I,MATCH("Matematică MATE-INFO"&"||"&$B39,Date_ProbaC!$K:$K,0))),"-") -> 16 | J39: =IFERROR(IF(ISBLANK(INDEX(Date_ProbaC!$J:$J,MATCH("Matematică MATE-INFO"&"||"&$B39,Date_ProbaC!$K:$K,0))),"-",INDEX(Date_ProbaC!$J:$J,MATCH("Matematică MATE-INFO"&"||"&$B39,Date_ProbaC!$K:$K,0))),"-") -> 6.275 | K39: =IFERROR(ROUND(J39-F39,2),"-") -> -0.74
A40: 11 | B40: LICEUL "ATANASIE MARIENESCU" LIPOVA | C40: LIPOVA | D40: URBAN | E40: =IFERROR(IF(ISBLANK(INDEX(Date_ProbaC!$E:$E,MATCH("Matematică MATE-INFO"&"||"&$B40,Date_ProbaC!$K:$K,0))),"-",INDEX(Date_ProbaC!$E:$E,MATCH("Matematică MATE-INFO"&"||"&$B40,Date_ProbaC!$K:$K,0))),"-") -> 24 | F40: =IFERROR(IF(ISBLANK(INDEX(Date_ProbaC!$F:$F,MATCH("Matematică MATE-INFO"&"||"&$B40,Date_ProbaC!$K:$K,0))),"-",INDEX(Date_ProbaC!$F:$F,MATCH("Matematică MATE-INFO"&"||"&$B40,Date_ProbaC!$K:$K,0))),"-") -> 4.875 | G40: =IFERROR(IF(ISBLANK(INDEX(Date_ProbaC!$G:$G,MATCH("Matematică MATE-INFO"&"||"&$B40,Date_ProbaC!$K:$K,0))),"-",INDEX(Date_ProbaC!$G:$G,MATCH("Matematică MATE-INFO"&"||"&$B40,Date_ProbaC!$K:$K,0))),"-") -> 28 | H40: =IFERROR(IF(ISBLANK(INDEX(Date_ProbaC!$H:$H,MATCH("Matematică MATE-INFO"&"||"&$B40,Date_ProbaC!$K:$K,0))),"-",INDEX(Date_ProbaC!$H:$H,MATCH("Matematică MATE-INFO"&"||"&$B40,Date_ProbaC!$K:$K,0))),"-") -> 3.4267857 | I40: =IFERROR(IF(ISBLANK(INDEX(Date_ProbaC!$I:$I,MATCH("Matematică MATE-INFO"&"||"&$B40,Date_ProbaC!$K:$K,0))),"-",INDEX(Date_ProbaC!$I:$I,MATCH("Matematică MATE-INFO"&"||"&$B40,Date_ProbaC!$K:$K,0))),"-") -> 17 | J40: =IFERROR(IF(ISBLANK(INDEX(Date_ProbaC!$J:$J,MATCH("Matematică MATE-INFO"&"||"&$B40,Date_ProbaC!$K:$K,0))),"-",INDEX(Date_ProbaC!$J:$J,MATCH("Matematică MATE-INFO"&"||"&$B40,Date_ProbaC!$K:$K,0))),"-") -> 6.0294118 | K40: =IFERROR(ROUND(J40-F40,2),"-") -> 1.15
A41: 12 | B41: LICEUL TEORETIC SEBIŞ | C41: SEBIŞ | D41: RURAL | E41: =IFERROR(IF(ISBLANK(INDEX(Date_ProbaC!$E:$E,MATCH("Matematică MATE-INFO"&"||"&$B41,Date_ProbaC!$K:$K,0))),"-",INDEX(Date_ProbaC!$E:$E,MATCH("Matematică MATE-INFO"&"||"&$B41,Date_ProbaC!$K:$K,0))),"-") -> 29 | F41: =IFERROR(IF(ISBLANK(INDEX(Date_ProbaC!$F:$F,MATCH("Matematică MATE-INFO"&"||"&$B41,Date_ProbaC!$K:$K,0))),"-",INDEX(Date_ProbaC!$F:$F,MATCH("Matematică MATE-INFO"&"||"&$B41,Date_ProbaC!$K:$K,0))),"-") -> 8.3396552 | G41: =IFERROR(IF(ISBLANK(INDEX(Date_ProbaC!$G:$G,MATCH("Matematică MATE-INFO"&"||"&$B41,Date_ProbaC!$K:$K,0))),"-",INDEX(Date_ProbaC!$G:$G,MATCH("Matematică MATE-INFO"&"||"&$B41,Date_ProbaC!$K:$K,0))),"-") -> 18 | H41: =IFERROR(IF(ISBLANK(INDEX(Date_ProbaC!$H:$H,MATCH("Matematică MATE-INFO"&"||"&$B41,Date_ProbaC!$K:$K,0))),"-",INDEX(Date_ProbaC!$H:$H,MATCH("Matematică MATE-INFO"&"||"&$B41,Date_ProbaC!$K:$K,0))),"-") -> 8.2444444 | I41: =IFERROR(IF(ISBLANK(INDEX(Date_ProbaC!$I:$I,MATCH("Matematică MATE-INFO"&"||"&$B41,Date_ProbaC!$K:$K,0))),"-",INDEX(Date_ProbaC!$I:$I,MATCH("Matematică MATE-INFO"&"||"&$B41,Date_ProbaC!$K:$K,0))),"-") -> 20 | J41: =IFERROR(IF(ISBLANK(INDEX(Date_ProbaC!$J:$J,MATCH("Matematică MATE-INFO"&"||"&$B41,Date_ProbaC!$K:$K,0))),"-",INDEX(Date_ProbaC!$J:$J,MATCH("Matematică MATE-INFO"&"||"&$B41,Date_ProbaC!$K:$K,0))),"-") -> 6.0075 | K41: =IFERROR(ROUND(J41-F41,2),"-") -> -2.33
... A45: 16 | B45: LICEUL TEHNOLOGIC DE TRANSPORTURI AUTO "HENRI COANDĂ" ARAD | C45: ARAD | D45: RURAL | E45: =IFERROR(IF(ISBLANK(INDEX(Date_ProbaC!$E:$E,MATCH("Matematică MATE-INFO"&"||"&$B45,Date_ProbaC!$K:$K,0))),"-",INDEX(Date_ProbaC!$E:$E,MATCH("Matematică MATE-INFO"&"||"&$B45,Date_ProbaC!$K:$K,0))),"-") -> 1 | F45: =IFERROR(IF(ISBLANK(INDEX(Date_ProbaC!$F:$F,MATCH("Matematică MATE-INFO"&"||"&$B45,Date_ProbaC!$K:$K,0))),"-",INDEX(Date_ProbaC!$F:$F,MATCH("Matematică MATE-INFO"&"||"&$B45,Date_ProbaC!$K:$K,0))),"-") -> 5.05 | G45: =IFERROR(IF(ISBLANK(INDEX(Date_ProbaC!$G:$G,MATCH("Matematică MATE-INFO"&"||"&$B45,Date_ProbaC!$K:$K,0))),"-",INDEX(Date_ProbaC!$G:$G,MATCH("Matematică MATE-INFO"&"||"&$B45,Date_ProbaC!$K:$K,0))),"-") -> - | H45: =IFERROR(IF(ISBLANK(INDEX(Date_ProbaC!$H:$H,MATCH("Matematică MATE-INFO"&"||"&$B45,Date_ProbaC!$K:$K,0))),"-",INDEX(Date_ProbaC!$H:$H,MATCH("Matematică MATE-INFO"&"||"&$B45,Date_ProbaC!$K:$K,0))),"-") -> - | I45: =IFERROR(IF(ISBLANK(INDEX(Date_ProbaC!$I:$I,MATCH("Matematică MATE-INFO"&"||"&$B45,Date_ProbaC!$K:$K,0))),"-",INDEX(Date_ProbaC!$I:$I,MATCH("Matematică MATE-INFO"&"||"&$B45,Date_ProbaC!$K:$K,0))),"-") -> - | J45: =IFERROR(IF(ISBLANK(INDEX(Date_ProbaC!$J:$J,MATCH("Matematică MATE-INFO"&"||"&$B45,Date_ProbaC!$K:$K,0))),"-",INDEX(Date_ProbaC!$J:$J,MATCH("Matematică MATE-INFO"&"||"&$B45,Date_ProbaC!$K:$K,0))),"-") -> - | K45: =IFERROR(ROUND(J45-F45,2),"-") -> -
A46: Matematică PED
A47: Loc | B47: Unitate | C47: Localitate | D47: Mediu | E47: Nr 2024 | F47: Medie 2024 | G47: Nr 2025 | H47: Medie 2025 | I47: Nr 2026 | J47: Medie 2026 | K47: Δ total 24→26
A48: 1 | B48: COLEGIUL NAŢIONAL "PREPARANDIA-DIMITRIE ŢICHINDEAL" ARAD | C48: ARAD | D48: URBAN | E48: =IFERROR(IF(ISBLANK(INDEX(Date_ProbaC!$E:$E,MATCH("Matematică PED"&"||"&$B48,Date_ProbaC!$K:$K,0))),"-",INDEX(Date_ProbaC!$E:$E,MATCH("Matematică PED"&"||"&$B48,Date_ProbaC!$K:$K,0))),"-") -> 59 | F48: =IFERROR(IF(ISBLANK(INDEX(Date_ProbaC!$F:$F,MATCH("Matematică PED"&"||"&$B48,Date_ProbaC!$K:$K,0))),"-",INDEX(Date_ProbaC!$F:$F,MATCH("Matematică PED"&"||"&$B48,Date_ProbaC!$K:$K,0))),"-") -> 8.720339 | G48: =IFERROR(IF(ISBLANK(INDEX(Date_ProbaC!$G:$G,MATCH("Matematică PED"&"||"&$B48,Date_ProbaC!$K:$K,0))),"-",INDEX(Date_ProbaC!$G:$G,MATCH("Matematică PED"&"||"&$B48,Date_ProbaC!$K:$K,0))),"-") -> 47 | H48: =IFERROR(IF(ISBLANK(INDEX(Date_ProbaC!$H:$H,MATCH("Matematică PED"&"||"&$B48,Date_ProbaC!$K:$K,0))),"-",INDEX(Date_ProbaC!$H:$H,MATCH("Matematică PED"&"||"&$B48,Date_ProbaC!$K:$K,0))),"-") -> 9.0382979 | I48: =IFERROR(IF(ISBLANK(INDEX(Date_ProbaC!$I:$I,MATCH("Matematică PED"&"||"&$B48,Date_ProbaC!$K:$K,0))),"-",INDEX(Date_ProbaC!$I:$I,MATCH("Matematică PED"&"||"&$B48,Date_ProbaC!$K:$K,0))),"-") -> 46 | J48: =IFERROR(IF(ISBLANK(INDEX(Date_ProbaC!$J:$J,MATCH("Matematică PED"&"||"&$B48,Date_ProbaC!$K:$K,0))),"-",INDEX(Date_ProbaC!$J:$J,MATCH("Matematică PED"&"||"&$B48,Date_ProbaC!$K:$K,0))),"-") -> 9.1934783 | K48: =IFERROR(ROUND(J48-F48,2),"-") -> 0.47
A49: Matematică ST-NAT
A50: Loc | B50: Unitate | C50: Localitate | D50: Mediu | E50: Nr 2024 | F50: Medie 2024 | G50: Nr 2025 | H50: Medie 2025 | I50: Nr 2026 | J50: Medie 2026 | K50: Δ total 24→26
A51: 1 | B51: COLEGIUL NAŢIONAL "MOISE NICOARĂ" ARAD | C51: ARAD | D51: URBAN | E51: =IFERROR(IF(ISBLANK(INDEX(Date_ProbaC!$E:$E,MATCH("Matematică ST-NAT"&"||"&$B51,Date_ProbaC!$K:$K,0))),"-",INDEX(Date_ProbaC!$E:$E,MATCH("Matematică ST-NAT"&"||"&$B51,Date_ProbaC!$K:$K,0))),"-") -> 89 | F51: =IFERROR(IF(ISBLANK(INDEX(Date_ProbaC!$F:$F,MATCH("Matematică ST-NAT"&"||"&$B51,Date_ProbaC!$K:$K,0))),"-",INDEX(Date_ProbaC!$F:$F,MATCH("Matematică ST-NAT"&"||"&$B51,Date_ProbaC!$K:$K,0))),"-") -> 9.0039326 | G51: =IFERROR(IF(ISBLANK(INDEX(Date_ProbaC!$G:$G,MATCH("Matematică ST-NAT"&"||"&$B51,Date_ProbaC!$K:$K,0))),"-",INDEX(Date_ProbaC!$G:$G,MATCH("Matematică ST-NAT"&"||"&$B51,Date_ProbaC!$K:$K,0))),"-") -> 85 | H51: =IFERROR(IF(ISBLANK(INDEX(Date_ProbaC!$H:$H,MATCH("Matematică ST-NAT"&"||"&$B51,Date_ProbaC!$K:$K,0))),"-",INDEX(Date_ProbaC!$H:$H,MATCH("Matematică ST-NAT"&"||"&$B51,Date_ProbaC!$K:$K,0))),"-") -> 8.6858824 | I51: =IFERROR(IF(ISBLANK(INDEX(Date_ProbaC!$I:$I,MATCH("Matematică ST-NAT"&"||"&$B51,Date_ProbaC!$K:$K,0))),"-",INDEX(Date_ProbaC!$I:$I,MATCH("Matematică ST-NAT"&"||"&$B51,Date_ProbaC!$K:$K,0))),"-") -> 80 | J51: =IFERROR(IF(ISBLANK(INDEX(Date_ProbaC!$J:$J,MATCH("Matematică ST-NAT"&"||"&$B51,Date_ProbaC!$K:$K,0))),"-",INDEX(Date_ProbaC!$J:$J,MATCH("Matematică ST-NAT"&"||"&$B51,Date_ProbaC!$K:$K,0))),"-") -> 8.480625 | K51: =IFERROR(ROUND(J51-F51,2),"-") -> -0.52
A52: 2 | B52: LICEUL TEOLOGIC BAPTIST "ALEXA POPOVICI" ARAD | C52: ARAD | D52: URBAN | E52: =IFERROR(IF(ISBLANK(INDEX(Date_ProbaC!$E:$E,MATCH("Matematică ST-NAT"&"||"&$B52,Date_ProbaC!$K:$K,0))),"-",INDEX(Date_ProbaC!$E:$E,MATCH("Matematică ST-NAT"&"||"&$B52,Date_ProbaC!$K:$K,0))),"-") -> 29 | F52: =IFERROR(IF(ISBLANK(INDEX(Date_ProbaC!$F:$F,MATCH("Matematică ST-NAT"&"||"&$B52,Date_ProbaC!$K:$K,0))),"-",INDEX(Date_ProbaC!$F:$F,MATCH("Matematică ST-NAT"&"||"&$B52,Date_ProbaC!$K:$K,0))),"-") -> 8.9362069 | G52: =IFERROR(IF(ISBLANK(INDEX(Date_ProbaC!$G:$G,MATCH("Matematică ST-NAT"&"||"&$B52,Date_ProbaC!$K:$K,0))),"-",INDEX(Date_ProbaC!$G:$G,MATCH("Matematică ST-NAT"&"||"&$B52,Date_ProbaC!$K:$K,0))),"-") -> 22 | H52: =IFERROR(IF(ISBLANK(INDEX(Date_ProbaC!$H:$H,MATCH("Matematică ST-NAT"&"||"&$B52,Date_ProbaC!$K:$K,0))),"-",INDEX(Date_ProbaC!$H:$H,MATCH("Matematică ST-NAT"&"||"&$B52,Date_ProbaC!$K:$K,0))),"-") -> 8.2977273 | I52: =IFERROR(IF(ISBLANK(INDEX(Date_ProbaC!$I:$I,MATCH("Matematică ST-NAT"&"||"&$B52,Date_ProbaC!$K:$K,0))),"-",INDEX(Date_ProbaC!$I:$I,MATCH("Matematică ST-NAT"&"||"&$B52,Date_ProbaC!$K:$K,0))),"-") -> 27 | J52: =IFERROR(IF(ISBLANK(INDEX(Date_ProbaC!$J:$J,MATCH("Matematică ST-NAT"&"||"&$B52,Date_ProbaC!$K:$K,0))),"-",INDEX(Date_ProbaC!$J:$J,MATCH("Matematică ST-NAT"&"||"&$B52,Date_ProbaC!$K:$K,0))),"-") -> 8.3074074 | K52: =IFERROR(ROUND(J52-F52,2),"-") -> -0.63
A53: 3 | B53: COLEGIUL NAŢIONAL "VASILE GOLDIŞ" ARAD | C53: ARAD | D53: URBAN | E53: =IFERROR(IF(ISBLANK(INDEX(Date_ProbaC!$E:$E,MATCH("Matematică ST-NAT"&"||"&$B53,Date_ProbaC!$K:$K,0))),"-",INDEX(Date_ProbaC!$E:$E,MATCH("Matematică ST-NAT"&"||"&$B53,Date_ProbaC!$K:$K,0))),"-") -> 31 | F53: =IFERROR(IF(ISBLANK(INDEX(Date_ProbaC!$F:$F,MATCH("Matematică ST-NAT"&"||"&$B53,Date_ProbaC!$K:$K,0))),"-",INDEX(Date_ProbaC!$F:$F,MATCH("Matematică ST-NAT"&"||"&$B53,Date_ProbaC!$K:$K,0))),"-") -> 8.9677419 | G53: =IFERROR(IF(ISBLANK(INDEX(Date_ProbaC!$G:$G,MATCH("Matematică ST-NAT"&"||"&$B53,Date_ProbaC!$K:$K,0))),"-",INDEX(Date_ProbaC!$G:$G,MATCH("Matematică ST-NAT"&"||"&$B53,Date_ProbaC!$K:$K,0))),"-") -> 30 | H53: =IFERROR(IF(ISBLANK(INDEX(Date_ProbaC!$H:$H,MATCH("Matematică ST-NAT"&"||"&$B53,Date_ProbaC!$K:$K,0))),"-",INDEX(Date_ProbaC!$H:$H,MATCH("Matematică ST-NAT"&"||"&$B53,Date_ProbaC!$K:$K,0))),"-") -> 8.4183333 | I53: =IFERROR(IF(ISBLANK(INDEX(Date_ProbaC!$I:$I,MATCH("Matematică ST-NAT"&"||"&$B53,Date_ProbaC!$K:$K,0))),"-",INDEX(Date_ProbaC!$I:$I,MATCH("Matematică ST-NAT"&"||"&$B53,Date_ProbaC!$K:$K,0))),"-") -> 29 | J53: =IFERROR(IF(ISBLANK(INDEX(Date_ProbaC!$J:$J,MATCH("Matematică ST-NAT"&"||"&$B53,Date_ProbaC!$K:$K,0))),"-",INDEX(Date_ProbaC!$J:$J,MATCH("Matematică ST-NAT"&"||"&$B53,Date_ProbaC!$K:$K,0))),"-") -> 8.0896552 | K53: =IFERROR(ROUND(J53-F53,2),"-") -> -0.88
A54: 4 | B54: COLEGIUL"CSIKY GERGELY" ARAD | C54: ARAD | D54: RURAL | E54: =IFERROR(IF(ISBLANK(INDEX(Date_ProbaC!$E:$E,MATCH("Matematică ST-NAT"&"||"&$B54,Date_ProbaC!$K:$K,0))),"-",INDEX(Date_ProbaC!$E:$E,MATCH("Matematică ST-NAT"&"||"&$B54,Date_ProbaC!$K:$K,0))),"-") -> 7 | F54: =IFERROR(IF(ISBLANK(INDEX(Date_ProbaC!$F:$F,MATCH("Matematică ST-NAT"&"||"&$B54,Date_ProbaC!$K:$K,0))),"-",INDEX(Date_ProbaC!$F:$F,MATCH("Matematică ST-NAT"&"||"&$B54,Date_ProbaC!$K:$K,0))),"-") -> 7.9071429 | G54: =IFERROR(IF(ISBLANK(INDEX(Date_ProbaC!$G:$G,MATCH("Matematică ST-NAT"&"||"&$B54,Date_ProbaC!$K:$K,0))),"-",INDEX(Date_ProbaC!$G:$G,MATCH("Matematică ST-NAT"&"||"&$B54,Date_ProbaC!$K:$K,0))),"-") -> 11 | H54: =IFERROR(IF(ISBLANK(INDEX(Date_ProbaC!$H:$H,MATCH("Matematică ST-NAT"&"||"&$B54,Date_ProbaC!$K:$K,0))),"-",INDEX(Date_ProbaC!$H:$H,MATCH("Matematică ST-NAT"&"||"&$B54,Date_ProbaC!$K:$K,0))),"-") -> 7.6318182 | I54: =IFERROR(IF(ISBLANK(INDEX(Date_ProbaC!$I:$I,MATCH("Matematică ST-NAT"&"||"&$B54,Date_ProbaC!$K:$K,0))),"-",INDEX(Date_ProbaC!$I:$I,MATCH("Matematică ST-NAT"&"||"&$B54,Date_ProbaC!$K:$K,0))),"-") -> 13 | J54: =IFERROR(IF(ISBLANK(INDEX(Date_ProbaC!$J:$J,MATCH("Matematică ST-NAT"&"||"&$B54,Date_ProbaC!$K:$K,0))),"-",INDEX(Date_ProbaC!$J:$J,MATCH("Matematică ST-NAT"&"||"&$B54,Date_ProbaC!$K:$K,0))),"-") -> 6.9615385 | K54: =IFERROR(ROUND(J54-F54,2),"-") -> -0.95
A55: 5 | B55: COLEGIUL NAŢIONAL "ELENA GHIBA BIRTA" ARAD | C55: ARAD | D55: URBAN | E55: =IFERROR(IF(ISBLANK(INDEX(Date_ProbaC!$E:$E,MATCH("Matematică ST-NAT"&"||"&$B55,Date_ProbaC!$K:$K,0))),"-",INDEX(Date_ProbaC!$E:$E,MATCH("Matematică ST-NAT"&"||"&$B55,Date_ProbaC!$K:$K,0))),"-") -> 30 | F55: =IFERROR(IF(ISBLANK(INDEX(Date_ProbaC!$F:$F,MATCH("Matematică ST-NAT"&"||"&$B55,Date_ProbaC!$K:$K,0))),"-",INDEX(Date_ProbaC!$F:$F,MATCH("Matematică ST-NAT"&"||"&$B55,Date_ProbaC!$K:$K,0))),"-") -> 7.4816667 | G55: =IFERROR(IF(ISBLANK(INDEX(Date_ProbaC!$G:$G,MATCH("Matematică ST-NAT"&"||"&$B55,Date_ProbaC!$K:$K,0))),"-",INDEX(Date_ProbaC!$G:$G,MATCH("Matematică ST-NAT"&"||"&$B55,Date_ProbaC!$K:$K,0))),"-") -> 20 | H55: =IFERROR(IF(ISBLANK(INDEX(Date_ProbaC!$H:$H,MATCH("Matematică ST-NAT"&"||"&$B55,Date_ProbaC!$K:$K,0))),"-",INDEX(Date_ProbaC!$H:$H,MATCH("Matematică ST-NAT"&"||"&$B55,Date_ProbaC!$K:$K,0))),"-") -> 6.2425 | I55: =IFERROR(IF(ISBLANK(INDEX(Date_ProbaC!$I:$I,MATCH("Matematică ST-NAT"&"||"&$B55,Date_ProbaC!$K:$K,0))),"-",INDEX(Date_ProbaC!$I:$I,MATCH("Matematică ST-NAT"&"||"&$B55,Date_ProbaC!$K:$K,0))),"-") -> 59 | J55: =IFERROR(IF(ISBLANK(INDEX(Date_ProbaC!$J:$J,MATCH("Matematică ST-NAT"&"||"&$B55,Date_ProbaC!$K:$K,0))),"-",INDEX(Date_ProbaC!$J:$J,MATCH("Matematică ST-NAT"&"||"&$B55,Date_ProbaC!$K:$K,0))),"-") -> 6.7652542 | K55: =IFERROR(ROUND(J55-F55,2),"-") -> -0.72
A56: 6 | B56: LICEUL TEORETIC SEBIŞ | C56: SEBIŞ | D56: RURAL | E56: =IFERROR(IF(ISBLANK(INDEX(Date_ProbaC!$E:$E,MATCH("Matematică ST-NAT"&"||"&$B56,Date_ProbaC!$K:$K,0))),"-",INDEX(Date_ProbaC!$E:$E,MATCH("Matematică ST-NAT"&"||"&$B56,Date_ProbaC!$K:$K,0))),"-") -> 30 | F56: =IFERROR(IF(ISBLANK(INDEX(Date_ProbaC!$F:$F,MATCH("Matematică ST-NAT"&"||"&$B56,Date_ProbaC!$K:$K,0))),"-",INDEX(Date_ProbaC!$F:$F,MATCH("Matematică ST-NAT"&"||"&$B56,Date_ProbaC!$K:$K,0))),"-") -> 5.6333333 | G56: =IFERROR(IF(ISBLANK(INDEX(Date_ProbaC!$G:$G,MATCH("Matematică ST-NAT"&"||"&$B56,Date_ProbaC!$K:$K,0))),"-",INDEX(Date_ProbaC!$G:$G,MATCH("Matematică ST-NAT"&"||"&$B56,Date_ProbaC!$K:$K,0))),"-") -> 22 | H56: =IFERROR(IF(ISBLANK(INDEX(Date_ProbaC!$H:$H,MATCH("Matematică ST-NAT"&"||"&$B56,Date_ProbaC!$K:$K,0))),"-",INDEX(Date_ProbaC!$H:$H,MATCH("Matematică ST-NAT"&"||"&$B56,Date_ProbaC!$K:$K,0))),"-") -> 5.1522727 | I56: =IFERROR(IF(ISBLANK(INDEX(Date_ProbaC!$I:$I,MATCH("Matematică ST-NAT"&"||"&$B56,Date_ProbaC!$K:$K,0))),"-",INDEX(Date_ProbaC!$I:$I,MATCH("Matematică ST-NAT"&"||"&$B56,Date_ProbaC!$K:$K,0))),"-") -> 33 | J56: =IFERROR(IF(ISBLANK(INDEX(Date_ProbaC!$J:$J,MATCH("Matematică ST-NAT"&"||"&$B56,Date_ProbaC!$K:$K,0))),"-",INDEX(Date_ProbaC!$J:$J,MATCH("Matematică ST-NAT"&"||"&$B56,Date_ProbaC!$K:$K,0))),"-") -> 6.6560606 | K56: =IFERROR(ROUND(J56-F56,2),"-") -> 1.02
A57: 7 | B57: COLEGIUL "MIHAI VITEAZUL" INEU | C57: INEU | D57: RURAL | E57: =IFERROR(IF(ISBLANK(INDEX(Date_ProbaC!$E:$E,MATCH("Matematică ST-NAT"&"||"&$B57,Date_ProbaC!$K:$K,0))),"-",INDEX(Date_ProbaC!$E:$E,MATCH("Matematică ST-NAT"&"||"&$B57,Date_ProbaC!$K:$K,0))),"-") -> 29 | F57: =IFERROR(IF(ISBLANK(INDEX(Date_ProbaC!$F:$F,MATCH("Matematică ST-NAT"&"||"&$B57,Date_ProbaC!$K:$K,0))),"-",INDEX(Date_ProbaC!$F:$F,MATCH("Matematică ST-NAT"&"||"&$B57,Date_ProbaC!$K:$K,0))),"-") -> 7.4396552 | G57: =IFERROR(IF(ISBLANK(INDEX(Date_ProbaC!$G:$G,MATCH("Matematică ST-NAT"&"||"&$B57,Date_ProbaC!$K:$K,0))),"-",INDEX(Date_ProbaC!$G:$G,MATCH("Matematică ST-NAT"&"||"&$B57,Date_ProbaC!$K:$K,0))),"-") -> 15 | H57: =IFERROR(IF(ISBLANK(INDEX(Date_ProbaC!$H:$H,MATCH("Matematică ST-NAT"&"||"&$B57,Date_ProbaC!$K:$K,0))),"-",INDEX(Date_ProbaC!$H:$H,MATCH("Matematică ST-NAT"&"||"&$B57,Date_ProbaC!$K:$K,0))),"-") -> 5.9 | I57: =IFERROR(IF(ISBLANK(INDEX(Date_ProbaC!$I:$I,MATCH("Matematică ST-NAT"&"||"&$B57,Date_ProbaC!$K:$K,0))),"-",INDEX(Date_ProbaC!$I:$I,MATCH("Matematică ST-NAT"&"||"&$B57,Date_ProbaC!$K:$K,0))),"-") -> 23 | J57: =IFERROR(IF(ISBLANK(INDEX(Date_ProbaC!$J:$J,MATCH("Matematică ST-NAT"&"||"&$B57,Date_ProbaC!$K:$K,0))),"-",INDEX(Date_ProbaC!$J:$J,MATCH("Matematică ST-NAT"&"||"&$B57,Date_ProbaC!$K:$K,0))),"-") -> 6.6434783 | K57: =IFERROR(ROUND(J57-F57,2),"-") -> -0.8
A58: 8 | B58: LICEUL TEHNOLOGIC "ION CREANGĂ" CURTICI | C58: CURTICI | D58: URBAN | E58: =IFERROR(IF(ISBLANK(INDEX(Date_ProbaC!$E:$E,MATCH("Matematică ST-NAT"&"||"&$B58,Date_ProbaC!$K:$K,0))),"-",INDEX(Date_ProbaC!$E:$E,MATCH("Matematică ST-NAT"&"||"&$B58,Date_ProbaC!$K:$K,0))),"-") -> - | F58: =IFERROR(IF(ISBLANK(INDEX(Date_ProbaC!$F:$F,MATCH("Matematică ST-NAT"&"||"&$B58,Date_ProbaC!$K:$K,0))),"-",INDEX(Date_ProbaC!$F:$F,MATCH("Matematică ST-NAT"&"||"&$B58,Date_ProbaC!$K:$K,0))),"-") -> - | G58: =IFERROR(IF(ISBLANK(INDEX(Date_ProbaC!$G:$G,MATCH("Matematică ST-NAT"&"||"&$B58,Date_ProbaC!$K:$K,0))),"-",INDEX(Date_ProbaC!$G:$G,MATCH("Matematică ST-NAT"&"||"&$B58,Date_ProbaC!$K:$K,0))),"-") -> 1 | H58: =IFERROR(IF(ISBLANK(INDEX(Date_ProbaC!$H:$H,MATCH("Matematică ST-NAT"&"||"&$B58,Date_ProbaC!$K:$K,0))),"-",INDEX(Date_ProbaC!$H:$H,MATCH("Matematică ST-NAT"&"||"&$B58,Date_ProbaC!$K:$K,0))),"-") -> 5.15 | I58: =IFERROR(IF(ISBLANK(INDEX(Date_ProbaC!$I:$I,MATCH("Matematică ST-NAT"&"||"&$B58,Date_ProbaC!$K:$K,0))),"-",INDEX(Date_ProbaC!$I:$I,MATCH("Matematică ST-NAT"&"||"&$B58,Date_ProbaC!$K:$K,0))),"-") -> 18 | J58: =IFERROR(IF(ISBLANK(INDEX(Date_ProbaC!$J:$J,MATCH("Matematică ST-NAT"&"||"&$B58,Date_ProbaC!$K:$K,0))),"-",INDEX(Date_ProbaC!$J:$J,MATCH("Matematică ST-NAT"&"||"&$B58,Date_ProbaC!$K:$K,0))),"-") -> 6.625 | K58: =IFERROR(ROUND(J58-F58,2),"-") -> -
A59: 9 | B59: LICEUL TEORETIC "ADAM MULLER GUTTENBRUNN" ARAD | C59: ARAD | D59: URBAN | E59: =IFERROR(IF(ISBLANK(INDEX(Date_ProbaC!$E:$E,MATCH("Matematică ST-NAT"&"||"&$B59,Date_ProbaC!$K:$K,0))),"-",INDEX(Date_ProbaC!$E:$E,MATCH("Matematică ST-NAT"&"||"&$B59,Date_ProbaC!$K:$K,0))),"-") -> 54 | F59: =IFERROR(IF(ISBLANK(INDEX(Date_ProbaC!$F:$F,MATCH("Matematică ST-NAT"&"||"&$B59,Date_ProbaC!$K:$K,0))),"-",INDEX(Date_ProbaC!$F:$F,MATCH("Matematică ST-NAT"&"||"&$B59,Date_ProbaC!$K:$K,0))),"-") -> 6.3138889 | G59: =IFERROR(IF(ISBLANK(INDEX(Date_ProbaC!$G:$G,MATCH("Matematică ST-NAT"&"||"&$B59,Date_ProbaC!$K:$K,0))),"-",INDEX(Date_ProbaC!$G:$G,MATCH("Matematică ST-NAT"&"||"&$B59,Date_ProbaC!$K:$K,0))),"-") -> 8 | H59: =IFERROR(IF(ISBLANK(INDEX(Date_ProbaC!$H:$H,MATCH("Matematică ST-NAT"&"||"&$B59,Date_ProbaC!$K:$K,0))),"-",INDEX(Date_ProbaC!$H:$H,MATCH("Matematică ST-NAT"&"||"&$B59,Date_ProbaC!$K:$K,0))),"-") -> 7.8375 | I59: =IFERROR(IF(ISBLANK(INDEX(Date_ProbaC!$I:$I,MATCH("Matematică ST-NAT"&"||"&$B59,Date_ProbaC!$K:$K,0))),"-",INDEX(Date_ProbaC!$I:$I,MATCH("Matematică ST-NAT"&"||"&$B59,Date_ProbaC!$K:$K,0))),"-") -> 37 | J59: =IFERROR(IF(ISBLANK(INDEX(Date_ProbaC!$J:$J,MATCH("Matematică ST-NAT"&"||"&$B59,Date_ProbaC!$K:$K,0))),"-",INDEX(Date_ProbaC!$J:$J,MATCH("Matematică ST-NAT"&"||"&$B59,Date_ProbaC!$K:$K,0))),"-") -> 6.2405405 | K59: =IFERROR(ROUND(J59-F59,2),"-") -> -0.07
A60: 10 | B60: LICEUL TEORETIC "MIHAI VELICIU" CHIŞINEU CRIŞ | C60: CHIŞINEU-CRIŞ | D60: RURAL | E60: =IFERROR(IF(ISBLANK(INDEX(Date_ProbaC!$E:$E,MATCH("Matematică ST-NAT"&"||"&$B60,Date_ProbaC!$K:$K,0))),"-",INDEX(Date_ProbaC!$E:$E,MATCH("Matematică ST-NAT"&"||"&$B60,Date_ProbaC!$K:$K,0))),"-") -> 34 | F60: =IFERROR(IF(ISBLANK(INDEX(Date_ProbaC!$F:$F,MATCH("Matematică ST-NAT"&"||"&$B60,Date_ProbaC!$K:$K,0))),"-",INDEX(Date_ProbaC!$F:$F,MATCH("Matematică ST-NAT"&"||"&$B60,Date_ProbaC!$K:$K,0))),"-") -> 6.4735294 | G60: =IFERROR(IF(ISBLANK(INDEX(Date_ProbaC!$G:$G,MATCH("Matematică ST-NAT"&"||"&$B60,Date_ProbaC!$K:$K,0))),"-",INDEX(Date_ProbaC!$G:$G,MATCH("Matematică ST-NAT"&"||"&$B60,Date_ProbaC!$K:$K,0))),"-") -> 19 | H60: =IFERROR(IF(ISBLANK(INDEX(Date_ProbaC!$H:$H,MATCH("Matematică ST-NAT"&"||"&$B60,Date_ProbaC!$K:$K,0))),"-",INDEX(Date_ProbaC!$H:$H,MATCH("Matematică ST-NAT"&"||"&$B60,Date_ProbaC!$K:$K,0))),"-") -> 3.4026316 | I60: =IFERROR(IF(ISBLANK(INDEX(Date_ProbaC!$I:$I,MATCH("Matematică ST-NAT"&"||"&$B60,Date_ProbaC!$K:$K,0))),"-",INDEX(Date_ProbaC!$I:$I,MATCH("Matematică ST-NAT"&"||"&$B60,Date_ProbaC!$K:$K,0))),"-") -> 21 | J60: =IFERROR(IF(ISBLANK(INDEX(Date_ProbaC!$J:$J,MATCH("Matematică ST-NAT"&"||"&$B60,Date_ProbaC!$K:$K,0))),"-",INDEX(Date_ProbaC!$J:$J,MATCH("Matematică ST-NAT"&"||"&$B60,Date_ProbaC!$K:$K,0))),"-") -> 5.2904762 | K60: =IFERROR(ROUND(J60-F60,2),"-") -> -1.18
A61: 11 | B61: LICEUL TEHNOLOGIC DE INDUSTRIE ALIMENTARĂ ARAD | C61: ARAD | D61: URBAN | E61: =IFERROR(IF(ISBLANK(INDEX(Date_ProbaC!$E:$E,MATCH("Matematică ST-NAT"&"||"&$B61,Date_ProbaC!$K:$K,0))),"-",INDEX(Date_ProbaC!$E:$E,MATCH("Matematică ST-NAT"&"||"&$B61,Date_ProbaC!$K:$K,0))),"-") -> - | F61: =IFERROR(IF(ISBLANK(INDEX(Date_ProbaC!$F:$F,MATCH("Matematică ST-NAT"&"||"&$B61,Date_ProbaC!$K:$K,0))),"-",INDEX(Date_ProbaC!$F:$F,MATCH("Matematică ST-NAT"&"||"&$B61,Date_ProbaC!$K:$K,0))),"-") -> - | G61: =IFERROR(IF(ISBLANK(INDEX(Date_ProbaC!$G:$G,MATCH("Matematică ST-NAT"&"||"&$B61,Date_ProbaC!$K:$K,0))),"-",INDEX(Date_ProbaC!$G:$G,MATCH("Matematică ST-NAT"&"||"&$B61,Date_ProbaC!$K:$K,0))),"-") -> 4 | H61: =IFERROR(IF(ISBLANK(INDEX(Date_ProbaC!$H:$H,MATCH("Matematică ST-NAT"&"||"&$B61,Date_ProbaC!$K:$K,0))),"-",INDEX(Date_ProbaC!$H:$H,MATCH("Matematică ST-NAT"&"||"&$B61,Date_ProbaC!$K:$K,0))),"-") -> 3.8375 | I61: =IFERROR(IF(ISBLANK(INDEX(Date_ProbaC!$I:$I,MATCH("Matematică ST-NAT"&"||"&$B61,Date_ProbaC!$K:$K,0))),"-",INDEX(Date_ProbaC!$I:$I,MATCH("Matematică ST-NAT"&"||"&$B61,Date_ProbaC!$K:$K,0))),"-") -> 4 | J61: =IFERROR(IF(ISBLANK(INDEX(Date_ProbaC!$J:$J,MATCH("Matematică ST-NAT"&"||"&$B61,Date_ProbaC!$K:$K,0))),"-",INDEX(Date_ProbaC!$J:$J,MATCH("Matematică ST-NAT"&"||"&$B61,Date_ProbaC!$K:$K,0))),"-") -> 4.8375 | K61: =IFERROR(ROUND(J61-F61,2),"-") -> -
A62: 12 | B62: LICEUL TEORETIC CERMEI | C62: CERMEI | D62: RURAL | E62: =IFERROR(IF(ISBLANK(INDEX(Date_ProbaC!$E:$E,MATCH("Matematică ST-NAT"&"||"&$B62,Date_ProbaC!$K:$K,0))),"-",INDEX(Date_ProbaC!$E:$E,MATCH("Matematică ST-NAT"&"||"&$B62,Date_ProbaC!$K:$K,0))),"-") -> 17 | F62: =IFERROR(IF(ISBLANK(INDEX(Date_ProbaC!$F:$F,MATCH("Matematică ST-NAT"&"||"&$B62,Date_ProbaC!$K:$K,0))),"-",INDEX(Date_ProbaC!$F:$F,MATCH("Matematică ST-NAT"&"||"&$B62,Date_ProbaC!$K:$K,0))),"-") -> 4.5294118 | G62: =IFERROR(IF(ISBLANK(INDEX(Date_ProbaC!$G:$G,MATCH("Matematică ST-NAT"&"||"&$B62,Date_ProbaC!$K:$K,0))),"-",INDEX(Date_ProbaC!$G:$G,MATCH("Matematică ST-NAT"&"||"&$B62,Date_ProbaC!$K:$K,0))),"-") -> 15 | H62: =IFERROR(IF(ISBLANK(INDEX(Date_ProbaC!$H:$H,MATCH("Matematică ST-NAT"&"||"&$B62,Date_ProbaC!$K:$K,0))),"-",INDEX(Date_ProbaC!$H:$H,MATCH("Matematică ST-NAT"&"||"&$B62,Date_ProbaC!$K:$K,0))),"-") -> 4.3433333 | I62: =IFERROR(IF(ISBLANK(INDEX(Date_ProbaC!$I:$I,MATCH("Matematică ST-NAT"&"||"&$B62,Date_ProbaC!$K:$K,0))),"-",INDEX(Date_ProbaC!$I:$I,MATCH("Matematică ST-NAT"&"||"&$B62,Date_ProbaC!$K:$K,0))),"-") -> 2 | J62: =IFERROR(IF(ISBLANK(INDEX(Date_ProbaC!$J:$J,MATCH("Matematică ST-NAT"&"||"&$B62,Date_ProbaC!$K:$K,0))),"-",INDEX(Date_ProbaC!$J:$J,MATCH("Matematică ST-NAT"&"||"&$B62,Date_ProbaC!$K:$K,0))),"-") -> 3.55 | K62: =IFERROR(ROUND(J62-F62,2),"-") -> -0.98
A63: Matematică TEHN
A64: Loc | B64: Unitate | C64: Localitate | D64: Mediu | E64: Nr 2024 | F64: Medie 2024 | G64: Nr 2025 | H64: Medie 2025 | I64: Nr 2026 | J64: Medie 2026 | K64: Δ total 24→26
A65: 1 | B65: LICEUL TEORETIC PÂNCOTA | C65: PÂNCOTA | D65: RURAL | E65: =IFERROR(IF(ISBLANK(INDEX(Date_ProbaC!$E:$E,MATCH("Matematică TEHN"&"||"&$B65,Date_ProbaC!$K:$K,0))),"-",INDEX(Date_ProbaC!$E:$E,MATCH("Matematică TEHN"&"||"&$B65,Date_ProbaC!$K:$K,0))),"-") -> 3 | F65: =IFERROR(IF(ISBLANK(INDEX(Date_ProbaC!$F:$F,MATCH("Matematică TEHN"&"||"&$B65,Date_ProbaC!$K:$K,0))),"-",INDEX(Date_ProbaC!$F:$F,MATCH("Matematică TEHN"&"||"&$B65,Date_ProbaC!$K:$K,0))),"-") -> 6.2 | G65: =IFERROR(IF(ISBLANK(INDEX(Date_ProbaC!$G:$G,MATCH("Matematică TEHN"&"||"&$B65,Date_ProbaC!$K:$K,0))),"-",INDEX(Date_ProbaC!$G:$G,MATCH("Matematică TEHN"&"||"&$B65,Date_ProbaC!$K:$K,0))),"-") -> - | H65: =IFERROR(IF(ISBLANK(INDEX(Date_ProbaC!$H:$H,MATCH("Matematică TEHN"&"||"&$B65,Date_ProbaC!$K:$K,0))),"-",INDEX(Date_ProbaC!$H:$H,MATCH("Matematică TEHN"&"||"&$B65,Date_ProbaC!$K:$K,0))),"-") -> - | I65: =IFERROR(IF(ISBLANK(INDEX(Date_ProbaC!$I:$I,MATCH("Matematică TEHN"&"||"&$B65,Date_ProbaC!$K:$K,0))),"-",INDEX(Date_ProbaC!$I:$I,MATCH("Matematică TEHN"&"||"&$B65,Date_ProbaC!$K:$K,0))),"-") -> 1 | J65: =IFERROR(IF(ISBLANK(INDEX(Date_ProbaC!$J:$J,MATCH("Matematică TEHN"&"||"&$B65,Date_ProbaC!$K:$K,0))),"-",INDEX(Date_ProbaC!$J:$J,MATCH("Matematică TEHN"&"||"&$B65,Date_ProbaC!$K:$K,0))),"-") -> 8.65 | K65: =IFERROR(ROUND(J65-F65,2),"-") -> 2.45
A66: 2 | B66: LICEUL TEHNOLOGIC UCECOM "SPIRU HARET" ARAD | C66: ARAD | D66: RURAL | E66: =IFERROR(IF(ISBLANK(INDEX(Date_ProbaC!$E:$E,MATCH("Matematică TEHN"&"||"&$B66,Date_ProbaC!$K:$K,0))),"-",INDEX(Date_ProbaC!$E:$E,MATCH("Matematică TEHN"&"||"&$B66,Date_ProbaC!$K:$K,0))),"-") -> - | F66: =IFERROR(IF(ISBLANK(INDEX(Date_ProbaC!$F:$F,MATCH("Matematică TEHN"&"||"&$B66,Date_ProbaC!$K:$K,0))),"-",INDEX(Date_ProbaC!$F:$F,MATCH("Matematică TEHN"&"||"&$B66,Date_ProbaC!$K:$K,0))),"-") -> - | G66: =IFERROR(IF(ISBLANK(INDEX(Date_ProbaC!$G:$G,MATCH("Matematică TEHN"&"||"&$B66,Date_ProbaC!$K:$K,0))),"-",INDEX(Date_ProbaC!$G:$G,MATCH("Matematică TEHN"&"||"&$B66,Date_ProbaC!$K:$K,0))),"-") -> - | H66: =IFERROR(IF(ISBLANK(INDEX(Date_ProbaC!$H:$H,MATCH("Matematică TEHN"&"||"&$B66,Date_ProbaC!$K:$K,0))),"-",INDEX(Date_ProbaC!$H:$H,MATCH("Matematică TEHN"&"||"&$B66,Date_ProbaC!$K:$K,0))),"-") -> - | I66: =IFERROR(IF(ISBLANK(INDEX(Date_ProbaC!$I:$I,MATCH("Matematică TEHN"&"||"&$B66,Date_ProbaC!$K:$K,0))),"-",INDEX(Date_ProbaC!$I:$I,MATCH("Matematică TEHN"&"||"&$B66,Date_ProbaC!$K:$K,0))),"-") -> 3 | J66: =IFERROR(IF(ISBLANK(INDEX(Date_ProbaC!$J:$J,MATCH("Matematică TEHN"&"||"&$B66,Date_ProbaC!$K:$K,0))),"-",INDEX(Date_ProbaC!$J:$J,MATCH("Matematică TEHN"&"||"&$B66,Date_ProbaC!$K:$K,0))),"-") -> 7.3 | K66: =IFERROR(ROUND(J66-F66,2),"-") -> -
A67: 3 | B67: COLEGIUL ECONOMIC ARAD | C67: ARAD | D67: URBAN | E67: =IFERROR(IF(ISBLANK(INDEX(Date_ProbaC!$E:$E,MATCH("Matematică TEHN"&"||"&$B67,Date_ProbaC!$K:$K,0))),"-",INDEX(Date_ProbaC!$E:$E,MATCH("Matematică TEHN"&"||"&$B67,Date_ProbaC!$K:$K,0))),"-") -> 149 | F67: =IFERROR(IF(ISBLANK(INDEX(Date_ProbaC!$F:$F,MATCH("Matematică TEHN"&"||"&$B67,Date_ProbaC!$K:$K,0))),"-",INDEX(Date_ProbaC!$F:$F,MATCH("Matematică TEHN"&"||"&$B67,Date_ProbaC!$K:$K,0))),"-") -> 7.6966443 | G67: =IFERROR(IF(ISBLANK(INDEX(Date_ProbaC!$G:$G,MATCH("Matematică TEHN"&"||"&$B67,Date_ProbaC!$K:$K,0))),"-",INDEX(Date_ProbaC!$G:$G,MATCH("Matematică TEHN"&"||"&$B67,Date_ProbaC!$K:$K,0))),"-") -> 120 | H67: =IFERROR(IF(ISBLANK(INDEX(Date_ProbaC!$H:$H,MATCH("Matematică TEHN"&"||"&$B67,Date_ProbaC!$K:$K,0))),"-",INDEX(Date_ProbaC!$H:$H,MATCH("Matematică TEHN"&"||"&$B67,Date_ProbaC!$K:$K,0))),"-") -> 6.6008333 | I67: =IFERROR(IF(ISBLANK(INDEX(Date_ProbaC!$I:$I,MATCH("Matematică TEHN"&"||"&$B67,Date_ProbaC!$K:$K,0))),"-",INDEX(Date_ProbaC!$I:$I,MATCH("Matematică TEHN"&"||"&$B67,Date_ProbaC!$K:$K,0))),"-") -> 162 | J67: =IFERROR(IF(ISBLANK(INDEX(Date_ProbaC!$J:$J,MATCH("Matematică TEHN"&"||"&$B67,Date_ProbaC!$K:$K,0))),"-",INDEX(Date_ProbaC!$J:$J,MATCH("Matematică TEHN"&"||"&$B67,Date_ProbaC!$K:$K,0))),"-") -> 6.9314815 | K67: =IFERROR(ROUND(J67-F67,2),"-") -> -0.77
A68: 4 | B68: COLEGIUL"CSIKY GERGELY" ARAD | C68: ARAD | D68: RURAL | E68: =IFERROR(IF(ISBLANK(INDEX(Date_ProbaC!$E:$E,MATCH("Matematică TEHN"&"||"&$B68,Date_ProbaC!$K:$K,0))),"-",INDEX(Date_ProbaC!$E:$E,MATCH("Matematică TEHN"&"||"&$B68,Date_ProbaC!$K:$K,0))),"-") -> 22 | F68: =IFERROR(IF(ISBLANK(INDEX(Date_ProbaC!$F:$F,MATCH("Matematică TEHN"&"||"&$B68,Date_ProbaC!$K:$K,0))),"-",INDEX(Date_ProbaC!$F:$F,MATCH("Matematică TEHN"&"||"&$B68,Date_ProbaC!$K:$K,0))),"-") -> 6.5363636 | G68: =IFERROR(IF(ISBLANK(INDEX(Date_ProbaC!$G:$G,MATCH("Matematică TEHN"&"||"&$B68,Date_ProbaC!$K:$K,0))),"-",INDEX(Date_ProbaC!$G:$G,MATCH("Matematică TEHN"&"||"&$B68,Date_ProbaC!$K:$K,0))),"-") -> 23 | H68: =IFERROR(IF(ISBLANK(INDEX(Date_ProbaC!$H:$H,MATCH("Matematică TEHN"&"||"&$B68,Date_ProbaC!$K:$K,0))),"-",INDEX(Date_ProbaC!$H:$H,MATCH("Matematică TEHN"&"||"&$B68,Date_ProbaC!$K:$K,0))),"-") -> 6.3456522 | I68: =IFERROR(IF(ISBLANK(INDEX(Date_ProbaC!$I:$I,MATCH("Matematică TEHN"&"||"&$B68,Date_ProbaC!$K:$K,0))),"-",INDEX(Date_ProbaC!$I:$I,MATCH("Matematică TEHN"&"||"&$B68,Date_ProbaC!$K:$K,0))),"-") -> 21 | J68: =IFERROR(IF(ISBLANK(INDEX(Date_ProbaC!$J:$J,MATCH("Matematică TEHN"&"||"&$B68,Date_ProbaC!$K:$K,0))),"-",INDEX(Date_ProbaC!$J:$J,MATCH("Matematică TEHN"&"||"&$B68,Date_ProbaC!$K:$K,0))),"-") -> 6.3595238 | K68: =IFERROR(ROUND(J68-F68,2),"-") -> -0.18
A69: 5 | B69: LICEUL TEHNOLOGIC DE INDUSTRIE ALIMENTARĂ ARAD | C69: ARAD | D69: URBAN | E69: =IFERROR(IF(ISBLANK(INDEX(Date_ProbaC!$E:$E,MATCH("Matematică TEHN"&"||"&$B69,Date_ProbaC!$K:$K,0))),"-",INDEX(Date_ProbaC!$E:$E,MATCH("Matematică TEHN"&"||"&$B69,Date_ProbaC!$K:$K,0))),"-") -> 95 | F69: =IFERROR(IF(ISBLANK(INDEX(Date_ProbaC!$F:$F,MATCH("Matematică TEHN"&"||"&$B69,Date_ProbaC!$K:$K,0))),"-",INDEX(Date_ProbaC!$F:$F,MATCH("Matematică TEHN"&"||"&$B69,Date_ProbaC!$K:$K,0))),"-") -> 6.3784211 | G69: =IFERROR(IF(ISBLANK(INDEX(Date_ProbaC!$G:$G,MATCH("Matematică TEHN"&"||"&$B69,Date_ProbaC!$K:$K,0))),"-",INDEX(Date_ProbaC!$G:$G,MATCH("Matematică TEHN"&"||"&$B69,Date_ProbaC!$K:$K,0))),"-") -> 78 | H69: =IFERROR(IF(ISBLANK(INDEX(Date_ProbaC!$H:$H,MATCH("Matematică TEHN"&"||"&$B69,Date_ProbaC!$K:$K,0))),"-",INDEX(Date_ProbaC!$H:$H,MATCH("Matematică TEHN"&"||"&$B69,Date_ProbaC!$K:$K,0))),"-") -> 5.5621795 | I69: =IFERROR(IF(ISBLANK(INDEX(Date_ProbaC!$I:$I,MATCH("Matematică TEHN"&"||"&$B69,Date_ProbaC!$K:$K,0))),"-",INDEX(Date_ProbaC!$I:$I,MATCH("Matematică TEHN"&"||"&$B69,Date_ProbaC!$K:$K,0))),"-") -> 96 | J69: =IFERROR(IF(ISBLANK(INDEX(Date_ProbaC!$J:$J,MATCH("Matematică TEHN"&"||"&$B69,Date_ProbaC!$K:$K,0))),"-",INDEX(Date_ProbaC!$J:$J,MATCH("Matematică TEHN"&"||"&$B69,Date_ProbaC!$K:$K,0))),"-") -> 6.3171875 | K69: =IFERROR(ROUND(J69-F69,2),"-") -> -0.06
A70: 6 | B70: LICEUL "SEVER BOCU" LIPOVA | C70: LIPOVA | D70: URBAN | E70: =IFERROR(IF(ISBLANK(INDEX(Date_ProbaC!$E:$E,MATCH("Matematică TEHN"&"||"&$B70,Date_ProbaC!$K:$K,0))),"-",INDEX(Date_ProbaC!$E:$E,MATCH("Matematică TEHN"&"||"&$B70,Date_ProbaC!$K:$K,0))),"-") -> 32 | F70: =IFERROR(IF(ISBLANK(INDEX(Date_ProbaC!$F:$F,MATCH("Matematică TEHN"&"||"&$B70,Date_ProbaC!$K:$K,0))),"-",INDEX(Date_ProbaC!$F:$F,MATCH("Matematică TEHN"&"||"&$B70,Date_ProbaC!$K:$K,0))),"-") -> 6.871875 | G70: =IFERROR(IF(ISBLANK(INDEX(Date_ProbaC!$G:$G,MATCH("Matematică TEHN"&"||"&$B70,Date_ProbaC!$K:$K,0))),"-",INDEX(Date_ProbaC!$G:$G,MATCH("Matematică TEHN"&"||"&$B70,Date_ProbaC!$K:$K,0))),"-") -> 25 | H70: =IFERROR(IF(ISBLANK(INDEX(Date_ProbaC!$H:$H,MATCH("Matematică TEHN"&"||"&$B70,Date_ProbaC!$K:$K,0))),"-",INDEX(Date_ProbaC!$H:$H,MATCH("Matematică TEHN"&"||"&$B70,Date_ProbaC!$K:$K,0))),"-") -> 6.306 | I70: =IFERROR(IF(ISBLANK(INDEX(Date_ProbaC!$I:$I,MATCH("Matematică TEHN"&"||"&$B70,Date_ProbaC!$K:$K,0))),"-",INDEX(Date_ProbaC!$I:$I,MATCH("Matematică TEHN"&"||"&$B70,Date_ProbaC!$K:$K,0))),"-") -> 34 | J70: =IFERROR(IF(ISBLANK(INDEX(Date_ProbaC!$J:$J,MATCH("Matematică TEHN"&"||"&$B70,Date_ProbaC!$K:$K,0))),"-",INDEX(Date_ProbaC!$J:$J,MATCH("Matematică TEHN"&"||"&$B70,Date_ProbaC!$K:$K,0))),"-") -> 5.9426471 | K70: =IFERROR(ROUND(J70-F70,2),"-") -> -0.93
A71: 7 | B71: LICEUL TEHNOLOGIC ”REGELE MIHAI I” SĂVÂRŞIN | C71: SĂVÂRŞIN | D71: RURAL | E71: =IFERROR(IF(ISBLANK(INDEX(Date_ProbaC!$E:$E,MATCH("Matematică TEHN"&"||"&$B71,Date_ProbaC!$K:$K,0))),"-",INDEX(Date_ProbaC!$E:$E,MATCH("Matematică TEHN"&"||"&$B71,Date_ProbaC!$K:$K,0))),"-") -> 24 | F71: =IFERROR(IF(ISBLANK(INDEX(Date_ProbaC!$F:$F,MATCH("Matematică TEHN"&"||"&$B71,Date_ProbaC!$K:$K,0))),"-",INDEX(Date_ProbaC!$F:$F,MATCH("Matematică TEHN"&"||"&$B71,Date_ProbaC!$K:$K,0))),"-") -> 6.1979167 | G71: =IFERROR(IF(ISBLANK(INDEX(Date_ProbaC!$G:$G,MATCH("Matematică TEHN"&"||"&$B71,Date_ProbaC!$K:$K,0))),"-",INDEX(Date_ProbaC!$G:$G,MATCH("Matematică TEHN"&"||"&$B71,Date_ProbaC!$K:$K,0))),"-") -> 21 | H71: =IFERROR(IF(ISBLANK(INDEX(Date_ProbaC!$H:$H,MATCH("Matematică TEHN"&"||"&$B71,Date_ProbaC!$K:$K,0))),"-",INDEX(Date_ProbaC!$H:$H,MATCH("Matematică TEHN"&"||"&$B71,Date_ProbaC!$K:$K,0))),"-") -> 4.7952381 | I71: =IFERROR(IF(ISBLANK(INDEX(Date_ProbaC!$I:$I,MATCH("Matematică TEHN"&"||"&$B71,Date_ProbaC!$K:$K,0))),"-",INDEX(Date_ProbaC!$I:$I,MATCH("Matematică TEHN"&"||"&$B71,Date_ProbaC!$K:$K,0))),"-") -> 22 | J71: =IFERROR(IF(ISBLANK(INDEX(Date_ProbaC!$J:$J,MATCH("Matematică TEHN"&"||"&$B71,Date_ProbaC!$K:$K,0))),"-",INDEX(Date_ProbaC!$J:$J,MATCH("Matematică TEHN"&"||"&$B71,Date_ProbaC!$K:$K,0))),"-") -> 5.5272727 | K71: =IFERROR(ROUND(J71-F71,2),"-") -> -0.67
A72: 8 | B72: COLEGIUL PARTICULAR "VASILE GOLDIŞ" ARAD | C72: ARAD | D72: URBAN | E72: =IFERROR(IF(ISBLANK(INDEX(Date_ProbaC!$E:$E,MATCH("Matematică TEHN"&"||"&$B72,Date_ProbaC!$K:$K,0))),"-",INDEX(Date_ProbaC!$E:$E,MATCH("Matematică TEHN"&"||"&$B72,Date_ProbaC!$K:$K,0))),"-") -> 18 | F72: =IFERROR(IF(ISBLANK(INDEX(Date_ProbaC!$F:$F,MATCH("Matematică TEHN"&"||"&$B72,Date_ProbaC!$K:$K,0))),"-",INDEX(Date_ProbaC!$F:$F,MATCH("Matematică TEHN"&"||"&$B72,Date_ProbaC!$K:$K,0))),"-") -> 6.8777778 | G72: =IFERROR(IF(ISBLANK(INDEX(Date_ProbaC!$G:$G,MATCH("Matematică TEHN"&"||"&$B72,Date_ProbaC!$K:$K,0))),"-",INDEX(Date_ProbaC!$G:$G,MATCH("Matematică TEHN"&"||"&$B72,Date_ProbaC!$K:$K,0))),"-") -> 6 | H72: =IFERROR(IF(ISBLANK(INDEX(Date_ProbaC!$H:$H,MATCH("Matematică TEHN"&"||"&$B72,Date_ProbaC!$K:$K,0))),"-",INDEX(Date_ProbaC!$H:$H,MATCH("Matematică TEHN"&"||"&$B72,Date_ProbaC!$K:$K,0))),"-") -> 5.0833333 | I72: =IFERROR(IF(ISBLANK(INDEX(Date_ProbaC!$I:$I,MATCH("Matematică TEHN"&"||"&$B72,Date_ProbaC!$K:$K,0))),"-",INDEX(Date_ProbaC!$I:$I,MATCH("Matematică TEHN"&"||"&$B72,Date_ProbaC!$K:$K,0))),"-") -> 15 | J72: =IFERROR(IF(ISBLANK(INDEX(Date_ProbaC!$J:$J,MATCH("Matematică TEHN"&"||"&$B72,Date_ProbaC!$K:$K,0))),"-",INDEX(Date_ProbaC!$J:$J,MATCH("Matematică TEHN"&"||"&$B72,Date_ProbaC!$K:$K,0))),"-") -> 5.3266667 | K72: =IFERROR(ROUND(J72-F72,2),"-") -> -1.55
A73: 9 | B73: LICEUL TEHNOLOGIC "ION CREANGĂ" CURTICI | C73: CURTICI | D73: URBAN | E73: =IFERROR(IF(ISBLANK(INDEX(Date_ProbaC!$E:$E,MATCH("Matematică TEHN"&"||"&$B73,Date_ProbaC!$K:$K,0))),"-",INDEX(Date_ProbaC!$E:$E,MATCH("Matematică TEHN"&"||"&$B73,Date_ProbaC!$K:$K,0))),"-") -> 24 | F73: =IFERROR(IF(ISBLANK(INDEX(Date_ProbaC!$F:$F,MATCH("Matematică TEHN"&"||"&$B73,Date_ProbaC!$K:$K,0))),"-",INDEX(Date_ProbaC!$F:$F,MATCH("Matematică TEHN"&"||"&$B73,Date_ProbaC!$K:$K,0))),"-") -> 7.1229167 | G73: =IFERROR(IF(ISBLANK(INDEX(Date_ProbaC!$G:$G,MATCH("Matematică TEHN"&"||"&$B73,Date_ProbaC!$K:$K,0))),"-",INDEX(Date_ProbaC!$G:$G,MATCH("Matematică TEHN"&"||"&$B73,Date_ProbaC!$K:$K,0))),"-") -> 20 | H73: =IFERROR(IF(ISBLANK(INDEX(Date_ProbaC!$H:$H,MATCH("Matematică TEHN"&"||"&$B73,Date_ProbaC!$K:$K,0))),"-",INDEX(Date_ProbaC!$H:$H,MATCH("Matematică TEHN"&"||"&$B73,Date_ProbaC!$K:$K,0))),"-") -> 5.9175 | I73: =IFERROR(IF(ISBLANK(INDEX(Date_ProbaC!$I:$I,MATCH("Matematică TEHN"&"||"&$B73,Date_ProbaC!$K:$K,0))),"-",INDEX(Date_ProbaC!$I:$I,MATCH("Matematică TEHN"&"||"&$B73,Date_ProbaC!$K:$K,0))),"-") -> 3 | J73: =IFERROR(IF(ISBLANK(INDEX(Date_ProbaC!$J:$J,MATCH("Matematică TEHN"&"||"&$B73,Date_ProbaC!$K:$K,0))),"-",INDEX(Date_ProbaC!$J:$J,MATCH("Matematică TEHN"&"||"&$B73,Date_ProbaC!$K:$K,0))),"-") -> 5.2666667 | K73: =IFERROR(ROUND(J73-F73,2),"-") -> -1.86
A74: 10 | B74: LICEUL TEHNOLOGIC "REGINA MARIA" ARAD | C74: ARAD | D74: URBAN | E74: =IFERROR(IF(ISBLANK(INDEX(Date_ProbaC!$E:$E,MATCH("Matematică TEHN"&"||"&$B74,Date_ProbaC!$K:$K,0))),"-",INDEX(Date_ProbaC!$E:$E,MATCH("Matematică TEHN"&"||"&$B74,Date_ProbaC!$K:$K,0))),"-") -> 5 | F74: =IFERROR(IF(ISBLANK(INDEX(Date_ProbaC!$F:$F,MATCH("Matematică TEHN"&"||"&$B74,Date_ProbaC!$K:$K,0))),"-",INDEX(Date_ProbaC!$F:$F,MATCH("Matematică TEHN"&"||"&$B74,Date_ProbaC!$K:$K,0))),"-") -> 5.34 | G74: =IFERROR(IF(ISBLANK(INDEX(Date_ProbaC!$G:$G,MATCH("Matematică TEHN"&"||"&$B74,Date_ProbaC!$K:$K,0))),"-",INDEX(Date_ProbaC!$G:$G,MATCH("Matematică TEHN"&"||"&$B74,Date_ProbaC!$K:$K,0))),"-") -> 11 | H74: =IFERROR(IF(ISBLANK(INDEX(Date_ProbaC!$H:$H,MATCH("Matematică TEHN"&"||"&$B74,Date_ProbaC!$K:$K,0))),"-",INDEX(Date_ProbaC!$H:$H,MATCH("Matematică TEHN"&"||"&$B74,Date_ProbaC!$K:$K,0))),"-") -> 5.2454545 | I74: =IFERROR(IF(ISBLANK(INDEX(Date_ProbaC!$I:$I,MATCH("Matematică TEHN"&"||"&$B74,Date_ProbaC!$K:$K,0))),"-",INDEX(Date_ProbaC!$I:$I,MATCH("Matematică TEHN"&"||"&$B74,Date_ProbaC!$K:$K,0))),"-") -> 67 | J74: =IFERROR(IF(ISBLANK(INDEX(Date_ProbaC!$J:$J,MATCH("Matematică TEHN"&"||"&$B74,Date_ProbaC!$K:$K,0))),"-",INDEX(Date_ProbaC!$J:$J,MATCH("Matematică TEHN"&"||"&$B74,Date_ProbaC!$K:$K,0))),"-") -> 5.2119403 | K74: =IFERROR(ROUND(J74-F74,2),"-") -> -0.13
A75: 11 | B75: LICEUL TEHNOLOGIC VINGA | C75: VINGA | D75: RURAL | E75: =IFERROR(IF(ISBLANK(INDEX(Date_ProbaC!$E:$E,MATCH("Matematică TEHN"&"||"&$B75,Date_ProbaC!$K:$K,0))),"-",INDEX(Date_ProbaC!$E:$E,MATCH("Matematică TEHN"&"||"&$B75,Date_ProbaC!$K:$K,0))),"-") -> 12 | F75: =IFERROR(IF(ISBLANK(INDEX(Date_ProbaC!$F:$F,MATCH("Matematică TEHN"&"||"&$B75,Date_ProbaC!$K:$K,0))),"-",INDEX(Date_ProbaC!$F:$F,MATCH("Matematică TEHN"&"||"&$B75,Date_ProbaC!$K:$K,0))),"-") -> 5.4916667 | G75: =IFERROR(IF(ISBLANK(INDEX(Date_ProbaC!$G:$G,MATCH("Matematică TEHN"&"||"&$B75,Date_ProbaC!$K:$K,0))),"-",INDEX(Date_ProbaC!$G:$G,MATCH("Matematică TEHN"&"||"&$B75,Date_ProbaC!$K:$K,0))),"-") -> 20 | H75: =IFERROR(IF(ISBLANK(INDEX(Date_ProbaC!$H:$H,MATCH("Matematică TEHN"&"||"&$B75,Date_ProbaC!$K:$K,0))),"-",INDEX(Date_ProbaC!$H:$H,MATCH("Matematică TEHN"&"||"&$B75,Date_ProbaC!$K:$K,0))),"-") -> 6.155 | I75: =IFERROR(IF(ISBLANK(INDEX(Date_ProbaC!$I:$I,MATCH("Matematică TEHN"&"||"&$B75,Date_ProbaC!$K:$K,0))),"-",INDEX(Date_ProbaC!$I:$I,MATCH("Matematică TEHN"&"||"&$B75,Date_ProbaC!$K:$K,0))),"-") -> 19 | J75: =IFERROR(IF(ISBLANK(INDEX(Date_ProbaC!$J:$J,MATCH("Matematică TEHN"&"||"&$B75,Date_ProbaC!$K:$K,0))),"-",INDEX(Date_ProbaC!$J:$J,MATCH("Matematică TEHN"&"||"&$B75,Date_ProbaC!$K:$K,0))),"-") -> 5.1289474 | K75: =IFERROR(ROUND(J75-F75,2),"-") -> -0.36
A76: 12 | B76: LICEUL TEHNOLOGIC DE ȘTIINȚE APLICATE ARAD | C76: ARAD | D76: URBAN | E76: =IFERROR(IF(ISBLANK(INDEX(Date_ProbaC!$E:$E,MATCH("Matematică TEHN"&"||"&$B76,Date_ProbaC!$K:$K,0))),"-",INDEX(Date_ProbaC!$E:$E,MATCH("Matematică TEHN"&"||"&$B76,Date_ProbaC!$K:$K,0))),"-") -> 10 | F76: =IFERROR(IF(ISBLANK(INDEX(Date_ProbaC!$F:$F,MATCH("Matematică TEHN"&"||"&$B76,Date_ProbaC!$K:$K,0))),"-",INDEX(Date_ProbaC!$F:$F,MATCH("Matematică TEHN"&"||"&$B76,Date_ProbaC!$K:$K,0))),"-") -> 5.19 | G76: =IFERROR(IF(ISBLANK(INDEX(Date_ProbaC!$G:$G,MATCH("Matematică TEHN"&"||"&$B76,Date_ProbaC!$K:$K,0))),"-",INDEX(Date_ProbaC!$G:$G,MATCH("Matematică TEHN"&"||"&$B76,Date_ProbaC!$K:$K,0))),"-") -> 16 | H76: =IFERROR(IF(ISBLANK(INDEX(Date_ProbaC!$H:$H,MATCH("Matematică TEHN"&"||"&$B76,Date_ProbaC!$K:$K,0))),"-",INDEX(Date_ProbaC!$H:$H,MATCH("Matematică TEHN"&"||"&$B76,Date_ProbaC!$K:$K,0))),"-") -> 4.184375 | I76: =IFERROR(IF(ISBLANK(INDEX(Date_ProbaC!$I:$I,MATCH("Matematică TEHN"&"||"&$B76,Date_ProbaC!$K:$K,0))),"-",INDEX(Date_ProbaC!$I:$I,MATCH("Matematică TEHN"&"||"&$B76,Date_ProbaC!$K:$K,0))),"-") -> 100 | J76: =IFERROR(IF(ISBLANK(INDEX(Date_ProbaC!$J:$J,MATCH("Matematică TEHN"&"||"&$B76,Date_ProbaC!$K:$K,0))),"-",INDEX(Date_ProbaC!$J:$J,MATCH("Matematică TEHN"&"||"&$B76,Date_ProbaC!$K:$K,0))),"-") -> 5.127 | K76: =IFERROR(ROUND(J76-F76,2),"-") -> -0.06
... A93: 29 | B93: LICEUL TEHNOLOGIC DE TRANSPORTURI AUTO "HENRI COANDĂ" ARAD | C93: ARAD | D93: RURAL | E93: =IFERROR(IF(ISBLANK(INDEX(Date_ProbaC!$E:$E,MATCH("Matematică TEHN"&"||"&$B93,Date_ProbaC!$K:$K,0))),"-",INDEX(Date_ProbaC!$E:$E,MATCH("Matematică TEHN"&"||"&$B93,Date_ProbaC!$K:$K,0))),"-") -> 21 | F93: =IFERROR(IF(ISBLANK(INDEX(Date_ProbaC!$F:$F,MATCH("Matematică TEHN"&"||"&$B93,Date_ProbaC!$K:$K,0))),"-",INDEX(Date_ProbaC!$F:$F,MATCH("Matematică TEHN"&"||"&$B93,Date_ProbaC!$K:$K,0))),"-") -> 4.4214286 | G93: =IFERROR(IF(ISBLANK(INDEX(Date_ProbaC!$G:$G,MATCH("Matematică TEHN"&"||"&$B93,Date_ProbaC!$K:$K,0))),"-",INDEX(Date_ProbaC!$G:$G,MATCH("Matematică TEHN"&"||"&$B93,Date_ProbaC!$K:$K,0))),"-") -> 12 | H93: =IFERROR(IF(ISBLANK(INDEX(Date_ProbaC!$H:$H,MATCH("Matematică TEHN"&"||"&$B93,Date_ProbaC!$K:$K,0))),"-",INDEX(Date_ProbaC!$H:$H,MATCH("Matematică TEHN"&"||"&$B93,Date_ProbaC!$K:$K,0))),"-") -> 4.625 | I93: =IFERROR(IF(ISBLANK(INDEX(Date_ProbaC!$I:$I,MATCH("Matematică TEHN"&"||"&$B93,Date_ProbaC!$K:$K,0))),"-",INDEX(Date_ProbaC!$I:$I,MATCH("Matematică TEHN"&"||"&$B93,Date_ProbaC!$K:$K,0))),"-") -> - | J93: =IFERROR(IF(ISBLANK(INDEX(Date_ProbaC!$J:$J,MATCH("Matematică TEHN"&"||"&$B93,Date_ProbaC!$K:$K,0))),"-",INDEX(Date_ProbaC!$J:$J,MATCH("Matematică TEHN"&"||"&$B93,Date_ProbaC!$K:$K,0))),"-") -> - | K93: =IFERROR(ROUND(J93-F93,2),"-") -> -

Sheet Evoluție Proba D
A1: Evoluția mediei la Proba D (disciplina la alegere), pe fiecare disciplină și unitate, 2024→2026. Denumirile de disciplină au fost normalizate (ex.: "Chimie anorganică TEH/TEO Nivel I/II" → "Chimie anorganică") pentru a permite comparația între ani; vezi fila Metodologie.
A4: Anatomie și fiziologie umană, genetică și ecologie umană
A5: Loc | B5: Unitate | C5: Localitate | D5: Mediu | E5: Nr 2024 | F5: Medie 2024 | G5: Nr 2025 | H5: Medie 2025 | I5: Nr 2026 | J5: Medie 2026 | K5: Δ total 24→26
A6: 1 | B6: COLEGIUL NAŢIONAL "PREPARANDIA-DIMITRIE ŢICHINDEAL" ARAD | C6: ARAD | D6: URBAN | E6: =IFERROR(IF(ISBLANK(INDEX(Date_ProbaD!$E:$E,MATCH("Anatomie și fiziologie umană, genetică și ecologie umană"&"||"&$B6,Date_ProbaD!$K:$K,0))),"-",INDEX(Date_ProbaD!$E:$E,MATCH("Anatomie și fiziologie umană, genetică și ecologie umană"&"||"&$B6,Date_ProbaD!$K:$K,0))),"-") -> 6 | F6: =IFERROR(IF(ISBLANK(INDEX(Date_ProbaD!$F:$F,MATCH("Anatomie și fiziologie umană, genetică și ecologie umană"&"||"&$B6,Date_ProbaD!$K:$K,0))),"-",INDEX(Date_ProbaD!$F:$F,MATCH("Anatomie și fiziologie umană, genetică și ecologie umană"&"||"&$B6,Date_ProbaD!$K:$K,0))),"-") -> 9.1166667 | G6: =IFERROR(IF(ISBLANK(INDEX(Date_ProbaD!$G:$G,MATCH("Anatomie și fiziologie umană, genetică și ecologie umană"&"||"&$B6,Date_ProbaD!$K:$K,0))),"-",INDEX(Date_ProbaD!$G:$G,MATCH("Anatomie și fiziologie umană, genetică și ecologie umană"&"||"&$B6,Date_ProbaD!$K:$K,0))),"-") -> 5 | H6: =IFERROR(IF(ISBLANK(INDEX(Date_ProbaD!$H:$H,MATCH("Anatomie și fiziologie umană, genetică și ecologie umană"&"||"&$B6,Date_ProbaD!$K:$K,0))),"-",INDEX(Date_ProbaD!$H:$H,MATCH("Anatomie și fiziologie umană, genetică și ecologie umană"&"||"&$B6,Date_ProbaD!$K:$K,0))),"-") -> 8.52 | I6: =IFERROR(IF(ISBLANK(INDEX(Date_ProbaD!$I:$I,MATCH("Anatomie și fiziologie umană, genetică și ecologie umană"&"||"&$B6,Date_ProbaD!$K:$K,0))),"-",INDEX(Date_ProbaD!$I:$I,MATCH("Anatomie și fiziologie umană, genetică și ecologie umană"&"||"&$B6,Date_ProbaD!$K:$K,0))),"-") -> 5 | J6: =IFERROR(IF(ISBLANK(INDEX(Date_ProbaD!$J:$J,MATCH("Anatomie și fiziologie umană, genetică și ecologie umană"&"||"&$B6,Date_ProbaD!$K:$K,0))),"-",INDEX(Date_ProbaD!$J:$J,MATCH("Anatomie și fiziologie umană, genetică și ecologie umană"&"||"&$B6,Date_ProbaD!$K:$K,0))),"-") -> 9.31 | K6: =IFERROR(ROUND(J6-F6,2),"-") -> 0.19
A7: 2 | B7: COLEGIUL NAŢIONAL "MOISE NICOARĂ" ARAD | C7: ARAD | D7: URBAN | E7: =IFERROR(IF(ISBLANK(INDEX(Date_ProbaD!$E:$E,MATCH("Anatomie și fiziologie umană, genetică și ecologie umană"&"||"&$B7,Date_ProbaD!$K:$K,0))),"-",INDEX(Date_ProbaD!$E:$E,MATCH("Anatomie și fiziologie umană, genetică și ecologie umană"&"||"&$B7,Date_ProbaD!$K:$K,0))),"-") -> 45 | F7: =IFERROR(IF(ISBLANK(INDEX(Date_ProbaD!$F:$F,MATCH("Anatomie și fiziologie umană, genetică și ecologie umană"&"||"&$B7,Date_ProbaD!$K:$K,0))),"-",INDEX(Date_ProbaD!$F:$F,MATCH("Anatomie și fiziologie umană, genetică și ecologie umană"&"||"&$B7,Date_ProbaD!$K:$K,0))),"-") -> 8.7 | G7: =IFERROR(IF(ISBLANK(INDEX(Date_ProbaD!$G:$G,MATCH("Anatomie și fiziologie umană, genetică și ecologie umană"&"||"&$B7,Date_ProbaD!$K:$K,0))),"-",INDEX(Date_ProbaD!$G:$G,MATCH("Anatomie și fiziologie umană, genetică și ecologie umană"&"||"&$B7,Date_ProbaD!$K:$K,0))),"-") -> 36 | H7: =IFERROR(IF(ISBLANK(INDEX(Date_ProbaD!$H:$H,MATCH("Anatomie și fiziologie umană, genetică și ecologie umană"&"||"&$B7,Date_ProbaD!$K:$K,0))),"-",INDEX(Date_ProbaD!$H:$H,MATCH("Anatomie și fiziologie umană, genetică și ecologie umană"&"||"&$B7,Date_ProbaD!$K:$K,0))),"-") -> 8.7166667 | I7: =IFERROR(IF(ISBLANK(INDEX(Date_ProbaD!$I:$I,MATCH("Anatomie și fiziologie umană, genetică și ecologie umană"&"||"&$B7,Date_ProbaD!$K:$K,0))),"-",INDEX(Date_ProbaD!$I:$I,MATCH("Anatomie și fiziologie umană, genetică și ecologie umană"&"||"&$B7,Date_ProbaD!$K:$K,0))),"-") -> 52 | J7: =IFERROR(IF(ISBLANK(INDEX(Date_ProbaD!$J:$J,MATCH("Anatomie și fiziologie umană, genetică și ecologie umană"&"||"&$B7,Date_ProbaD!$K:$K,0))),"-",INDEX(Date_ProbaD!$J:$J,MATCH("Anatomie și fiziologie umană, genetică și ecologie umană"&"||"&$B7,Date_ProbaD!$K:$K,0))),"-") -> 9.1913462 | K7: =IFERROR(ROUND(J7-F7,2),"-") -> 0.49
A8: 3 | B8: LICEUL TEOLOGIC BAPTIST "ALEXA POPOVICI" ARAD | C8: ARAD | D8: RURAL | E8: =IFERROR(IF(ISBLANK(INDEX(Date_ProbaD!$E:$E,MATCH("Anatomie și fiziologie umană, genetică și ecologie umană"&"||"&$B8,Date_ProbaD!$K:$K,0))),"-",INDEX(Date_ProbaD!$E:$E,MATCH("Anatomie și fiziologie umană, genetică și ecologie umană"&"||"&$B8,Date_ProbaD!$K:$K,0))),"-") -> 17 | F8: =IFERROR(IF(ISBLANK(INDEX(Date_ProbaD!$F:$F,MATCH("Anatomie și fiziologie umană, genetică și ecologie umană"&"||"&$B8,Date_ProbaD!$K:$K,0))),"-",INDEX(Date_ProbaD!$F:$F,MATCH("Anatomie și fiziologie umană, genetică și ecologie umană"&"||"&$B8,Date_ProbaD!$K:$K,0))),"-") -> 9.3735294 | G8: =IFERROR(IF(ISBLANK(INDEX(Date_ProbaD!$G:$G,MATCH("Anatomie și fiziologie umană, genetică și ecologie umană"&"||"&$B8,Date_ProbaD!$K:$K,0))),"-",INDEX(Date_ProbaD!$G:$G,MATCH("Anatomie și fiziologie umană, genetică și ecologie umană"&"||"&$B8,Date_ProbaD!$K:$K,0))),"-") -> 19 | H8: =IFERROR(IF(ISBLANK(INDEX(Date_ProbaD!$H:$H,MATCH("Anatomie și fiziologie umană, genetică și ecologie umană"&"||"&$B8,Date_ProbaD!$K:$K,0))),"-",INDEX(Date_ProbaD!$H:$H,MATCH("Anatomie și fiziologie umană, genetică și ecologie umană"&"||"&$B8,Date_ProbaD!$K:$K,0))),"-") -> 9.1026316 | I8: =IFERROR(IF(ISBLANK(INDEX(Date_ProbaD!$I:$I,MATCH("Anatomie și fiziologie umană, genetică și ecologie umană"&"||"&$B8,Date_ProbaD!$K:$K,0))),"-",INDEX(Date_ProbaD!$I:$I,MATCH("Anatomie și fiziologie umană, genetică și ecologie umană"&"||"&$B8,Date_ProbaD!$K:$K,0))),"-") -> 20 | J8: =IFERROR(IF(ISBLANK(INDEX(Date_ProbaD!$J:$J,MATCH("Anatomie și fiziologie umană, genetică și ecologie umană"&"||"&$B8,Date_ProbaD!$K:$K,0))),"-",INDEX(Date_ProbaD!$J:$J,MATCH("Anatomie și fiziologie umană, genetică și ecologie umană"&"||"&$B8,Date_ProbaD!$K:$K,0))),"-") -> 8.795 | K8: =IFERROR(ROUND(J8-F8,2),"-") -> -0.58
A9: 4 | B9: COLEGIUL"CSIKY GERGELY" ARAD | C9: ARAD | D9: URBAN | E9: =IFERROR(IF(ISBLANK(INDEX(Date_ProbaD!$E:$E,MATCH("Anatomie și fiziologie umană, genetică și ecologie umană"&"||"&$B9,Date_ProbaD!$K:$K,0))),"-",INDEX(Date_ProbaD!$E:$E,MATCH("Anatomie și fiziologie umană, genetică și ecologie umană"&"||"&$B9,Date_ProbaD!$K:$K,0))),"-") -> 4 | F9: =IFERROR(IF(ISBLANK(INDEX(Date_ProbaD!$F:$F,MATCH("Anatomie și fiziologie umană, genetică și ecologie umană"&"||"&$B9,Date_ProbaD!$K:$K,0))),"-",INDEX(Date_ProbaD!$F:$F,MATCH("Anatomie și fiziologie umană, genetică și ecologie umană"&"||"&$B9,Date_ProbaD!$K:$K,0))),"-") -> 9.0875 | G9: =IFERROR(IF(ISBLANK(INDEX(Date_ProbaD!$G:$G,MATCH("Anatomie și fiziologie umană, genetică și ecologie umană"&"||"&$B9,Date_ProbaD!$K:$K,0))),"-",INDEX(Date_ProbaD!$G:$G,MATCH("Anatomie și fiziologie umană, genetică și ecologie umană"&"||"&$B9,Date_ProbaD!$K:$K,0))),"-") -> 10 | H9: =IFERROR(IF(ISBLANK(INDEX(Date_ProbaD!$H:$H,MATCH("Anatomie și fiziologie umană, genetică și ecologie umană"&"||"&$B9,Date_ProbaD!$K:$K,0))),"-",INDEX(Date_ProbaD!$H:$H,MATCH("Anatomie și fiziologie umană, genetică și ecologie umană"&"||"&$B9,Date_ProbaD!$K:$K,0))),"-") -> 9.495 | I9: =IFERROR(IF(ISBLANK(INDEX(Date_ProbaD!$I:$I,MATCH("Anatomie și fiziologie umană, genetică și ecologie umană"&"||"&$B9,Date_ProbaD!$K:$K,0))),"-",INDEX(Date_ProbaD!$I:$I,MATCH("Anatomie și fiziologie umană, genetică și ecologie umană"&"||"&$B9,Date_ProbaD!$K:$K,0))),"-") -> 12 | J9: =IFERROR(IF(ISBLANK(INDEX(Date_ProbaD!$J:$J,MATCH("Anatomie și fiziologie umană, genetică și ecologie umană"&"||"&$B9,Date_ProbaD!$K:$K,0))),"-",INDEX(Date_ProbaD!$J:$J,MATCH("Anatomie și fiziologie umană, genetică și ecologie umană"&"||"&$B9,Date_ProbaD!$K:$K,0))),"-") -> 8.4625 | K9: =IFERROR(ROUND(J9-F9,2),"-") -> -0.63
A10: 5 | B10: COLEGIUL "MIHAI VITEAZUL" INEU | C10: INEU | D10: RURAL | E10: =IFERROR(IF(ISBLANK(INDEX(Date_ProbaD!$E:$E,MATCH("Anatomie și fiziologie umană, genetică și ecologie umană"&"||"&$B10,Date_ProbaD!$K:$K,0))),"-",INDEX(Date_ProbaD!$E:$E,MATCH("Anatomie și fiziologie umană, genetică și ecologie umană"&"||"&$B10,Date_ProbaD!$K:$K,0))),"-") -> 37 | F10: =IFERROR(IF(ISBLANK(INDEX(Date_ProbaD!$F:$F,MATCH("Anatomie și fiziologie umană, genetică și ecologie umană"&"||"&$B10,Date_ProbaD!$K:$K,0))),"-",INDEX(Date_ProbaD!$F:$F,MATCH("Anatomie și fiziologie umană, genetică și ecologie umană"&"||"&$B10,Date_ProbaD!$K:$K,0))),"-") -> 8.7297297 | G10: =IFERROR(IF(ISBLANK(INDEX(Date_ProbaD!$G:$G,MATCH("Anatomie și fiziologie umană, genetică și ecologie umană"&"||"&$B10,Date_ProbaD!$K:$K,0))),"-",INDEX(Date_ProbaD!$G:$G,MATCH("Anatomie și fiziologie umană, genetică și ecologie umană"&"||"&$B10,Date_ProbaD!$K:$K,0))),"-") -> 26 | H10: =IFERROR(IF(ISBLANK(INDEX(Date_ProbaD!$H:$H,MATCH("Anatomie și fiziologie umană, genetică și ecologie umană"&"||"&$B10,Date_ProbaD!$K:$K,0))),"-",INDEX(Date_ProbaD!$H:$H,MATCH("Anatomie și fiziologie umană, genetică și ecologie umană"&"||"&$B10,Date_ProbaD!$K:$K,0))),"-") -> 8.3730769 | I10: =IFERROR(IF(ISBLANK(INDEX(Date_ProbaD!$I:$I,MATCH("Anatomie și fiziologie umană, genetică și ecologie umană"&"||"&$B10,Date_ProbaD!$K:$K,0))),"-",INDEX(Date_ProbaD!$I:$I,MATCH("Anatomie și fiziologie umană, genetică și ecologie umană"&"||"&$B10,Date_ProbaD!$K:$K,0))),"-") -> 32 | J10: =IFERROR(IF(ISBLANK(INDEX(Date_ProbaD!$J:$J,MATCH("Anatomie și fiziologie umană, genetică și ecologie umană"&"||"&$B10,Date_ProbaD!$K:$K,0))),"-",INDEX(Date_ProbaD!$J:$J,MATCH("Anatomie și fiziologie umană, genetică și ecologie umană"&"||"&$B10,Date_ProbaD!$K:$K,0))),"-") -> 8.20625 | K10: =IFERROR(ROUND(J10-F10,2),"-") -> -0.52
A11: 6 | B11: COLEGIUL NAŢIONAL "VASILE GOLDIŞ" ARAD | C11: ARAD | D11: URBAN | E11: =IFERROR(IF(ISBLANK(INDEX(Date_ProbaD!$E:$E,MATCH("Anatomie și fiziologie umană, genetică și ecologie umană"&"||"&$B11,Date_ProbaD!$K:$K,0))),"-",INDEX(Date_ProbaD!$E:$E,MATCH("Anatomie și fiziologie umană, genetică și ecologie umană"&"||"&$B11,Date_ProbaD!$K:$K,0))),"-") -> 31 | F11: =IFERROR(IF(ISBLANK(INDEX(Date_ProbaD!$F:$F,MATCH("Anatomie și fiziologie umană, genetică și ecologie umană"&"||"&$B11,Date_ProbaD!$K:$K,0))),"-",INDEX(Date_ProbaD!$F:$F,MATCH("Anatomie și fiziologie umană, genetică și ecologie umană"&"||"&$B11,Date_ProbaD!$K:$K,0))),"-") -> 8.2983871 | G11: =IFERROR(IF(ISBLANK(INDEX(Date_ProbaD!$G:$G,MATCH("Anatomie și fiziologie umană, genetică și ecologie umană"&"||"&$B11,Date_ProbaD!$K:$K,0))),"-",INDEX(Date_ProbaD!$G:$G,MATCH("Anatomie și fiziologie umană, genetică și ecologie umană"&"||"&$B11,Date_ProbaD!$K:$K,0))),"-") -> 17 | H11: =IFERROR(IF(ISBLANK(INDEX(Date_ProbaD!$H:$H,MATCH("Anatomie și fiziologie umană, genetică și ecologie umană"&"||"&$B11,Date_ProbaD!$K:$K,0))),"-",INDEX(Date_ProbaD!$H:$H,MATCH("Anatomie și fiziologie umană, genetică și ecologie umană"&"||"&$B11,Date_ProbaD!$K:$K,0))),"-") -> 7.2441176 | I11: =IFERROR(IF(ISBLANK(INDEX(Date_ProbaD!$I:$I,MATCH("Anatomie și fiziologie umană, genetică și ecologie umană"&"||"&$B11,Date_ProbaD!$K:$K,0))),"-",INDEX(Date_ProbaD!$I:$I,MATCH("Anatomie și fiziologie umană, genetică și ecologie umană"&"||"&$B11,Date_ProbaD!$K:$K,0))),"-") -> 23 | J11: =IFERROR(IF(ISBLANK(INDEX(Date_ProbaD!$J:$J,MATCH("Anatomie și fiziologie umană, genetică și ecologie umană"&"||"&$B11,Date_ProbaD!$K:$K,0))),"-",INDEX(Date_ProbaD!$J:$J,MATCH("Anatomie și fiziologie umană, genetică și ecologie umană"&"||"&$B11,Date_ProbaD!$K:$K,0))),"-") -> 8.1869565 | K11: =IFERROR(ROUND(J11-F11,2),"-") -> -0.11
A12: 7 | B12: LICEUL TEORETIC "MIHAI VELICIU" CHIŞINEU CRIŞ | C12: CHIŞINEU-CRIŞ | D12: RURAL | E12: =IFERROR(IF(ISBLANK(INDEX(Date_ProbaD!$E:$E,MATCH("Anatomie și fiziologie umană, genetică și ecologie umană"&"||"&$B12,Date_ProbaD!$K:$K,0))),"-",INDEX(Date_ProbaD!$E:$E,MATCH("Anatomie și fiziologie umană, genetică și ecologie umană"&"||"&$B12,Date_ProbaD!$K:$K,0))),"-") -> 58 | F12: =IFERROR(IF(ISBLANK(INDEX(Date_ProbaD!$F:$F,MATCH("Anatomie și fiziologie umană, genetică și ecologie umană"&"||"&$B12,Date_ProbaD!$K:$K,0))),"-",INDEX(Date_ProbaD!$F:$F,MATCH("Anatomie și fiziologie umană, genetică și ecologie umană"&"||"&$B12,Date_ProbaD!$K:$K,0))),"-") -> 8.5508621 | G12: =IFERROR(IF(ISBLANK(INDEX(Date_ProbaD!$G:$G,MATCH("Anatomie și fiziologie umană, genetică și ecologie umană"&"||"&$B12,Date_ProbaD!$K:$K,0))),"-",INDEX(Date_ProbaD!$G:$G,MATCH("Anatomie și fiziologie umană, genetică și ecologie umană"&"||"&$B12,Date_ProbaD!$K:$K,0))),"-") -> 35 | H12: =IFERROR(IF(ISBLANK(INDEX(Date_ProbaD!$H:$H,MATCH("Anatomie și fiziologie umană, genetică și ecologie umană"&"||"&$B12,Date_ProbaD!$K:$K,0))),"-",INDEX(Date_ProbaD!$H:$H,MATCH("Anatomie și fiziologie umană, genetică și ecologie umană"&"||"&$B12,Date_ProbaD!$K:$K,0))),"-") -> 6.5571429 | I12: =IFERROR(IF(ISBLANK(INDEX(Date_ProbaD!$I:$I,MATCH("Anatomie și fiziologie umană, genetică și ecologie umană"&"||"&$B12,Date_ProbaD!$K:$K,0))),"-",INDEX(Date_ProbaD!$I:$I,MATCH("Anatomie și fiziologie umană, genetică și ecologie umană"&"||"&$B12,Date_ProbaD!$K:$K,0))),"-") -> 51 | J12: =IFERROR(IF(ISBLANK(INDEX(Date_ProbaD!$J:$J,MATCH("Anatomie și fiziologie umană, genetică și ecologie umană"&"||"&$B12,Date_ProbaD!$K:$K,0))),"-",INDEX(Date_ProbaD!$J:$J,MATCH("Anatomie și fiziologie umană, genetică și ecologie umană"&"||"&$B12,Date_ProbaD!$K:$K,0))),"-") -> 8.1715686 | K12: =IFERROR(ROUND(J12-F12,2),"-") -> -0.38
A13: 8 | B13: LICEUL TEOLOGIC PENTICOSTAL ARAD | C13: ARAD | D13: RURAL | E13: =IFERROR(IF(ISBLANK(INDEX(Date_ProbaD!$E:$E,MATCH("Anatomie și fiziologie umană, genetică și ecologie umană"&"||"&$B13,Date_ProbaD!$K:$K,0))),"-",INDEX(Date_ProbaD!$E:$E,MATCH("Anatomie și fiziologie umană, genetică și ecologie umană"&"||"&$B13,Date_ProbaD!$K:$K,0))),"-") -> 26 | F13: =IFERROR(IF(ISBLANK(INDEX(Date_ProbaD!$F:$F,MATCH("Anatomie și fiziologie umană, genetică și ecologie umană"&"||"&$B13,Date_ProbaD!$K:$K,0))),"-",INDEX(Date_ProbaD!$F:$F,MATCH("Anatomie și fiziologie umană, genetică și ecologie umană"&"||"&$B13,Date_ProbaD!$K:$K,0))),"-") -> 7.975 | G13: =IFERROR(IF(ISBLANK(INDEX(Date_ProbaD!$G:$G,MATCH("Anatomie și fiziologie umană, genetică și ecologie umană"&"||"&$B13,Date_ProbaD!$K:$K,0))),"-",INDEX(Date_ProbaD!$G:$G,MATCH("Anatomie și fiziologie umană, genetică și ecologie umană"&"||"&$B13,Date_ProbaD!$K:$K,0))),"-") -> 11 | H13: =IFERROR(IF(ISBLANK(INDEX(Date_ProbaD!$H:$H,MATCH("Anatomie și fiziologie umană, genetică și ecologie umană"&"||"&$B13,Date_ProbaD!$K:$K,0))),"-",INDEX(Date_ProbaD!$H:$H,MATCH("Anatomie și fiziologie umană, genetică și ecologie umană"&"||"&$B13,Date_ProbaD!$K:$K,0))),"-") -> 7.9909091 | I13: =IFERROR(IF(ISBLANK(INDEX(Date_ProbaD!$I:$I,MATCH("Anatomie și fiziologie umană, genetică și ecologie umană"&"||"&$B13,Date_ProbaD!$K:$K,0))),"-",INDEX(Date_ProbaD!$I:$I,MATCH("Anatomie și fiziologie umană, genetică și ecologie umană"&"||"&$B13,Date_ProbaD!$K:$K,0))),"-") -> 19 | J13: =IFERROR(IF(ISBLANK(INDEX(Date_ProbaD!$J:$J,MATCH("Anatomie și fiziologie umană, genetică și ecologie umană"&"||"&$B13,Date_ProbaD!$K:$K,0))),"-",INDEX(Date_ProbaD!$J:$J,MATCH("Anatomie și fiziologie umană, genetică și ecologie umană"&"||"&$B13,Date_ProbaD!$K:$K,0))),"-") -> 8.0973684 | K13: =IFERROR(ROUND(J13-F13,2),"-") -> 0.12
A14: 9 | B14: LICEUL TEORETIC PÂNCOTA | C14: PÂNCOTA | D14: URBAN | E14: =IFERROR(IF(ISBLANK(INDEX(Date_ProbaD!$E:$E,MATCH("Anatomie și fiziologie umană, genetică și ecologie umană"&"||"&$B14,Date_ProbaD!$K:$K,0))),"-",INDEX(Date_ProbaD!$E:$E,MATCH("Anatomie și fiziologie umană, genetică și ecologie umană"&"||"&$B14,Date_ProbaD!$K:$K,0))),"-") -> 15 | F14: =IFERROR(IF(ISBLANK(INDEX(Date_ProbaD!$F:$F,MATCH("Anatomie și fiziologie umană, genetică și ecologie umană"&"||"&$B14,Date_ProbaD!$K:$K,0))),"-",INDEX(Date_ProbaD!$F:$F,MATCH("Anatomie și fiziologie umană, genetică și ecologie umană"&"||"&$B14,Date_ProbaD!$K:$K,0))),"-") -> 7.65 | G14: =IFERROR(IF(ISBLANK(INDEX(Date_ProbaD!$G:$G,MATCH("Anatomie și fiziologie umană, genetică și ecologie umană"&"||"&$B14,Date_ProbaD!$K:$K,0))),"-",INDEX(Date_ProbaD!$G:$G,MATCH("Anatomie și fiziologie umană, genetică și ecologie umană"&"||"&$B14,Date_ProbaD!$K:$K,0))),"-") -> 15 | H14: =IFERROR(IF(ISBLANK(INDEX(Date_ProbaD!$H:$H,MATCH("Anatomie și fiziologie umană, genetică și ecologie umană"&"||"&$B14,Date_ProbaD!$K:$K,0))),"-",INDEX(Date_ProbaD!$H:$H,MATCH("Anatomie și fiziologie umană, genetică și ecologie umană"&"||"&$B14,Date_ProbaD!$K:$K,0))),"-") -> 6.37 | I14: =IFERROR(IF(ISBLANK(INDEX(Date_ProbaD!$I:$I,MATCH("Anatomie și fiziologie umană, genetică și ecologie umană"&"||"&$B14,Date_ProbaD!$K:$K,0))),"-",INDEX(Date_ProbaD!$I:$I,MATCH("Anatomie și fiziologie umană, genetică și ecologie umană"&"||"&$B14,Date_ProbaD!$K:$K,0))),"-") -> 19 | J14: =IFERROR(IF(ISBLANK(INDEX(Date_ProbaD!$J:$J,MATCH("Anatomie și fiziologie umană, genetică și ecologie umană"&"||"&$B14,Date_ProbaD!$K:$K,0))),"-",INDEX(Date_ProbaD!$J:$J,MATCH("Anatomie și fiziologie umană, genetică și ecologie umană"&"||"&$B14,Date_ProbaD!$K:$K,0))),"-") -> 7.8894737 | K14: =IFERROR(ROUND(J14-F14,2),"-") -> 0.24
A15: 10 | B15: LICEUL TEORETIC "ADAM MULLER GUTTENBRUNN" ARAD | C15: ARAD | D15: URBAN | E15: =IFERROR(IF(ISBLANK(INDEX(Date_ProbaD!$E:$E,MATCH("Anatomie și fiziologie umană, genetică și ecologie umană"&"||"&$B15,Date_ProbaD!$K:$K,0))),"-",INDEX(Date_ProbaD!$E:$E,MATCH("Anatomie și fiziologie umană, genetică și ecologie umană"&"||"&$B15,Date_ProbaD!$K:$K,0))),"-") -> 43 | F15: =IFERROR(IF(ISBLANK(INDEX(Date_ProbaD!$F:$F,MATCH("Anatomie și fiziologie umană, genetică și ecologie umană"&"||"&$B15,Date_ProbaD!$K:$K,0))),"-",INDEX(Date_ProbaD!$F:$F,MATCH("Anatomie și fiziologie umană, genetică și ecologie umană"&"||"&$B15,Date_ProbaD!$K:$K,0))),"-") -> 7.9488372 | G15: =IFERROR(IF(ISBLANK(INDEX(Date_ProbaD!$G:$G,MATCH("Anatomie și fiziologie umană, genetică și ecologie umană"&"||"&$B15,Date_ProbaD!$K:$K,0))),"-",INDEX(Date_ProbaD!$G:$G,MATCH("Anatomie și fiziologie umană, genetică și ecologie umană"&"||"&$B15,Date_ProbaD!$K:$K,0))),"-") -> 7 | H15: =IFERROR(IF(ISBLANK(INDEX(Date_ProbaD!$H:$H,MATCH("Anatomie și fiziologie umană, genetică și ecologie umană"&"||"&$B15,Date_ProbaD!$K:$K,0))),"-",INDEX(Date_ProbaD!$H:$H,MATCH("Anatomie și fiziologie umană, genetică și ecologie umană"&"||"&$B15,Date_ProbaD!$K:$K,0))),"-") -> 8.7142857 | I15: =IFERROR(IF(ISBLANK(INDEX(Date_ProbaD!$I:$I,MATCH("Anatomie și fiziologie umană, genetică și ecologie umană"&"||"&$B15,Date_ProbaD!$K:$K,0))),"-",INDEX(Date_ProbaD!$I:$I,MATCH("Anatomie și fiziologie umană, genetică și ecologie umană"&"||"&$B15,Date_ProbaD!$K:$K,0))),"-") -> 26 | J15: =IFERROR(IF(ISBLANK(INDEX(Date_ProbaD!$J:$J,MATCH("Anatomie și fiziologie umană, genetică și ecologie umană"&"||"&$B15,Date_ProbaD!$K:$K,0))),"-",INDEX(Date_ProbaD!$J:$J,MATCH("Anatomie și fiziologie umană, genetică și ecologie umană"&"||"&$B15,Date_ProbaD!$K:$K,0))),"-") -> 7.7461538 | K15: =IFERROR(ROUND(J15-F15,2),"-") -> -0.2
A16: 11 | B16: COLEGIUL NAŢIONAL "ELENA GHIBA BIRTA" ARAD | C16: ARAD | D16: URBAN | E16: =IFERROR(IF(ISBLANK(INDEX(Date_ProbaD!$E:$E,MATCH("Anatomie și fiziologie umană, genetică și ecologie umană"&"||"&$B16,Date_ProbaD!$K:$K,0))),"-",INDEX(Date_ProbaD!$E:$E,MATCH("Anatomie și fiziologie umană, genetică și ecologie umană"&"||"&$B16,Date_ProbaD!$K:$K,0))),"-") -> 47 | F16: =IFERROR(IF(ISBLANK(INDEX(Date_ProbaD!$F:$F,MATCH("Anatomie și fiziologie umană, genetică și ecologie umană"&"||"&$B16,Date_ProbaD!$K:$K,0))),"-",INDEX(Date_ProbaD!$F:$F,MATCH("Anatomie și fiziologie umană, genetică și ecologie umană"&"||"&$B16,Date_ProbaD!$K:$K,0))),"-") -> 8.037234 | G16: =IFERROR(IF(ISBLANK(INDEX(Date_ProbaD!$G:$G,MATCH("Anatomie și fiziologie umană, genetică și ecologie umană"&"||"&$B16,Date_ProbaD!$K:$K,0))),"-",INDEX(Date_ProbaD!$G:$G,MATCH("Anatomie și fiziologie umană, genetică și ecologie umană"&"||"&$B16,Date_ProbaD!$K:$K,0))),"-") -> 35 | H16: =IFERROR(IF(ISBLANK(INDEX(Date_ProbaD!$H:$H,MATCH("Anatomie și fiziologie umană, genetică și ecologie umană"&"||"&$B16,Date_ProbaD!$K:$K,0))),"-",INDEX(Date_ProbaD!$H:$H,MATCH("Anatomie și fiziologie umană, genetică și ecologie umană"&"||"&$B16,Date_ProbaD!$K:$K,0))),"-") -> 7.4985714 | I16: =IFERROR(IF(ISBLANK(INDEX(Date_ProbaD!$I:$I,MATCH("Anatomie și fiziologie umană, genetică și ecologie umană"&"||"&$B16,Date_ProbaD!$K:$K,0))),"-",INDEX(Date_ProbaD!$I:$I,MATCH("Anatomie și fiziologie umană, genetică și ecologie umană"&"||"&$B16,Date_ProbaD!$K:$K,0))),"-") -> 61 | J16: =IFERROR(IF(ISBLANK(INDEX(Date_ProbaD!$J:$J,MATCH("Anatomie și fiziologie umană, genetică și ecologie umană"&"||"&$B16,Date_ProbaD!$K:$K,0))),"-",INDEX(Date_ProbaD!$J:$J,MATCH("Anatomie și fiziologie umană, genetică și ecologie umană"&"||"&$B16,Date_ProbaD!$K:$K,0))),"-") -> 7.657377 | K16: =IFERROR(ROUND(J16-F16,2),"-") -> -0.38
A17: 12 | B17: LICEUL NAŢIONAL DE INFORMATICĂ ARAD | C17: ARAD | D17: URBAN | E17: =IFERROR(IF(ISBLANK(INDEX(Date_ProbaD!$E:$E,MATCH("Anatomie și fiziologie umană, genetică și ecologie umană"&"||"&$B17,Date_ProbaD!$K:$K,0))),"-",INDEX(Date_ProbaD!$E:$E,MATCH("Anatomie și fiziologie umană, genetică și ecologie umană"&"||"&$B17,Date_ProbaD!$K:$K,0))),"-") -> 54 | F17: =IFERROR(IF(ISBLANK(INDEX(Date_ProbaD!$F:$F,MATCH("Anatomie și fiziologie umană, genetică și ecologie umană"&"||"&$B17,Date_ProbaD!$K:$K,0))),"-",INDEX(Date_ProbaD!$F:$F,MATCH("Anatomie și fiziologie umană, genetică și ecologie umană"&"||"&$B17,Date_ProbaD!$K:$K,0))),"-") -> 7.975 | G17: =IFERROR(IF(ISBLANK(INDEX(Date_ProbaD!$G:$G,MATCH("Anatomie și fiziologie umană, genetică și ecologie umană"&"||"&$B17,Date_ProbaD!$K:$K,0))),"-",INDEX(Date_ProbaD!$G:$G,MATCH("Anatomie și fiziologie umană, genetică și ecologie umană"&"||"&$B17,Date_ProbaD!$K:$K,0))),"-") -> 34 | H17: =IFERROR(IF(ISBLANK(INDEX(Date_ProbaD!$H:$H,MATCH("Anatomie și fiziologie umană, genetică și ecologie umană"&"||"&$B17,Date_ProbaD!$K:$K,0))),"-",INDEX(Date_ProbaD!$H:$H,MATCH("Anatomie și fiziologie umană, genetică și ecologie umană"&"||"&$B17,Date_ProbaD!$K:$K,0))),"-") -> 7.6235294 | I17: =IFERROR(IF(ISBLANK(INDEX(Date_ProbaD!$I:$I,MATCH("Anatomie și fiziologie umană, genetică și ecologie umană"&"||"&$B17,Date_ProbaD!$K:$K,0))),"-",INDEX(Date_ProbaD!$I:$I,MATCH("Anatomie și fiziologie umană, genetică și ecologie umană"&"||"&$B17,Date_ProbaD!$K:$K,0))),"-") -> 41 | J17: =IFERROR(IF(ISBLANK(INDEX(Date_ProbaD!$J:$J,MATCH("Anatomie și fiziologie umană, genetică și ecologie umană"&"||"&$B17,Date_ProbaD!$K:$K,0))),"-",INDEX(Date_ProbaD!$J:$J,MATCH("Anatomie și fiziologie umană, genetică și ecologie umană"&"||"&$B17,Date_ProbaD!$K:$K,0))),"-") -> 7.3597561 | K17: =IFERROR(ROUND(J17-F17,2),"-") -> -0.62
... A29: 24 | B29: LICEUL TEHNOLOGIC DE CONSTRUCŢII ŞI PROTECŢIA MEDIULUI ARAD | C29: ARAD | D29: URBAN | E29: =IFERROR(IF(ISBLANK(INDEX(Date_ProbaD!$E:$E,MATCH("Anatomie și fiziologie umană, genetică și ecologie umană"&"||"&$B29,Date_ProbaD!$K:$K,0))),"-",INDEX(Date_ProbaD!$E:$E,MATCH("Anatomie și fiziologie umană, genetică și ecologie umană"&"||"&$B29,Date_ProbaD!$K:$K,0))),"-") -> 4 | F29: =IFERROR(IF(ISBLANK(INDEX(Date_ProbaD!$F:$F,MATCH("Anatomie și fiziologie umană, genetică și ecologie umană"&"||"&$B29,Date_ProbaD!$K:$K,0))),"-",INDEX(Date_ProbaD!$F:$F,MATCH("Anatomie și fiziologie umană, genetică și ecologie umană"&"||"&$B29,Date_ProbaD!$K:$K,0))),"-") -> 6.7625 | G29: =IFERROR(IF(ISBLANK(INDEX(Date_ProbaD!$G:$G,MATCH("Anatomie și fiziologie umană, genetică și ecologie umană"&"||"&$B29,Date_ProbaD!$K:$K,0))),"-",INDEX(Date_ProbaD!$G:$G,MATCH("Anatomie și fiziologie umană, genetică și ecologie umană"&"||"&$B29,Date_ProbaD!$K:$K,0))),"-") -> 7 | H29: =IFERROR(IF(ISBLANK(INDEX(Date_ProbaD!$H:$H,MATCH("Anatomie și fiziologie umană, genetică și ecologie umană"&"||"&$B29,Date_ProbaD!$K:$K,0))),"-",INDEX(Date_ProbaD!$H:$H,MATCH("Anatomie și fiziologie umană, genetică și ecologie umană"&"||"&$B29,Date_ProbaD!$K:$K,0))),"-") -> 5.3928571 | I29: =IFERROR(IF(ISBLANK(INDEX(Date_ProbaD!$I:$I,MATCH("Anatomie și fiziologie umană, genetică și ecologie umană"&"||"&$B29,Date_ProbaD!$K:$K,0))),"-",INDEX(Date_ProbaD!$I:$I,MATCH("Anatomie și fiziologie umană, genetică și ecologie umană"&"||"&$B29,Date_ProbaD!$K:$K,0))),"-") -> - | J29: =IFERROR(IF(ISBLANK(INDEX(Date_ProbaD!$J:$J,MATCH("Anatomie și fiziologie umană, genetică și ecologie umană"&"||"&$B29,Date_ProbaD!$K:$K,0))),"-",INDEX(Date_ProbaD!$J:$J,MATCH("Anatomie și fiziologie umană, genetică și ecologie umană"&"||"&$B29,Date_ProbaD!$K:$K,0))),"-") -> - | K29: =IFERROR(ROUND(J29-F29,2),"-") -> -
A30: Biologie vegetală și animală
A31: Loc | B31: Unitate | C31: Localitate | D31: Mediu | E31: Nr 2024 | F31: Medie 2024 | G31: Nr 2025 | H31: Medie 2025 | I31: Nr 2026 | J31: Medie 2026 | K31: Δ total 24→26
A32: 1 | B32: COLEGIUL NAŢIONAL "MOISE NICOARĂ" ARAD | C32: ARAD | D32: URBAN | E32: =IFERROR(IF(ISBLANK(INDEX(Date_ProbaD!$E:$E,MATCH("Biologie vegetală și animală"&"||"&$B32,Date_ProbaD!$K:$K,0))),"-",INDEX(Date_ProbaD!$E:$E,MATCH("Biologie vegetală și animală"&"||"&$B32,Date_ProbaD!$K:$K,0))),"-") -> 2 | F32: =IFERROR(IF(ISBLANK(INDEX(Date_ProbaD!$F:$F,MATCH("Biologie vegetală și animală"&"||"&$B32,Date_ProbaD!$K:$K,0))),"-",INDEX(Date_ProbaD!$F:$F,MATCH("Biologie vegetală și animală"&"||"&$B32,Date_ProbaD!$K:$K,0))),"-") -> 9.2 | G32: =IFERROR(IF(ISBLANK(INDEX(Date_ProbaD!$G:$G,MATCH("Biologie vegetală și animală"&"||"&$B32,Date_ProbaD!$K:$K,0))),"-",INDEX(Date_ProbaD!$G:$G,MATCH("Biologie vegetală și animală"&"||"&$B32,Date_ProbaD!$K:$K,0))),"-") -> - | H32: =IFERROR(IF(ISBLANK(INDEX(Date_ProbaD!$H:$H,MATCH("Biologie vegetală și animală"&"||"&$B32,Date_ProbaD!$K:$K,0))),"-",INDEX(Date_ProbaD!$H:$H,MATCH("Biologie vegetală și animală"&"||"&$B32,Date_ProbaD!$K:$K,0))),"-") -> - | I32: =IFERROR(IF(ISBLANK(INDEX(Date_ProbaD!$I:$I,MATCH("Biologie vegetală și animală"&"||"&$B32,Date_ProbaD!$K:$K,0))),"-",INDEX(Date_ProbaD!$I:$I,MATCH("Biologie vegetală și animală"&"||"&$B32,Date_ProbaD!$K:$K,0))),"-") -> 1 | J32: =IFERROR(IF(ISBLANK(INDEX(Date_ProbaD!$J:$J,MATCH("Biologie vegetală și animală"&"||"&$B32,Date_ProbaD!$K:$K,0))),"-",INDEX(Date_ProbaD!$J:$J,MATCH("Biologie vegetală și animală"&"||"&$B32,Date_ProbaD!$K:$K,0))),"-") -> 9.85 | K32: =IFERROR(ROUND(J32-F32,2),"-") -> 0.65
A33: 2 | B33: LICEUL TEORETIC "GHEORGHE LAZĂR" PECICA | C33: PECICA | D33: URBAN | E33: =IFERROR(IF(ISBLANK(INDEX(Date_ProbaD!$E:$E,MATCH("Biologie vegetală și animală"&"||"&$B33,Date_ProbaD!$K:$K,0))),"-",INDEX(Date_ProbaD!$E:$E,MATCH("Biologie vegetală și animală"&"||"&$B33,Date_ProbaD!$K:$K,0))),"-") -> - | F33: =IFERROR(IF(ISBLANK(INDEX(Date_ProbaD!$F:$F,MATCH("Biologie vegetală și animală"&"||"&$B33,Date_ProbaD!$K:$K,0))),"-",INDEX(Date_ProbaD!$F:$F,MATCH("Biologie vegetală și animală"&"||"&$B33,Date_ProbaD!$K:$K,0))),"-") -> - | G33: =IFERROR(IF(ISBLANK(INDEX(Date_ProbaD!$G:$G,MATCH("Biologie vegetală și animală"&"||"&$B33,Date_ProbaD!$K:$K,0))),"-",INDEX(Date_ProbaD!$G:$G,MATCH("Biologie vegetală și animală"&"||"&$B33,Date_ProbaD!$K:$K,0))),"-") -> 1 | H33: =IFERROR(IF(ISBLANK(INDEX(Date_ProbaD!$H:$H,MATCH("Biologie vegetală și animală"&"||"&$B33,Date_ProbaD!$K:$K,0))),"-",INDEX(Date_ProbaD!$H:$H,MATCH("Biologie vegetală și animală"&"||"&$B33,Date_ProbaD!$K:$K,0))),"-") -> 5.75 | I33: =IFERROR(IF(ISBLANK(INDEX(Date_ProbaD!$I:$I,MATCH("Biologie vegetală și animală"&"||"&$B33,Date_ProbaD!$K:$K,0))),"-",INDEX(Date_ProbaD!$I:$I,MATCH("Biologie vegetală și animală"&"||"&$B33,Date_ProbaD!$K:$K,0))),"-") -> 1 | J33: =IFERROR(IF(ISBLANK(INDEX(Date_ProbaD!$J:$J,MATCH("Biologie vegetală și animală"&"||"&$B33,Date_ProbaD!$K:$K,0))),"-",INDEX(Date_ProbaD!$J:$J,MATCH("Biologie vegetală și animală"&"||"&$B33,Date_ProbaD!$K:$K,0))),"-") -> 7.9 | K33: =IFERROR(ROUND(J33-F33,2),"-") -> -
A34: 3 | B34: LICEUL TEHNOLOGIC "ION CREANGĂ" CURTICI | C34: CURTICI | D34: URBAN | E34: =IFERROR(IF(ISBLANK(INDEX(Date_ProbaD!$E:$E,MATCH("Biologie vegetală și animală"&"||"&$B34,Date_ProbaD!$K:$K,0))),"-",INDEX(Date_ProbaD!$E:$E,MATCH("Biologie vegetală și animală"&"||"&$B34,Date_ProbaD!$K:$K,0))),"-") -> - | F34: =IFERROR(IF(ISBLANK(INDEX(Date_ProbaD!$F:$F,MATCH("Biologie vegetală și animală"&"||"&$B34,Date_ProbaD!$K:$K,0))),"-",INDEX(Date_ProbaD!$F:$F,MATCH("Biologie vegetală și animală"&"||"&$B34,Date_ProbaD!$K:$K,0))),"-") -> - | G34: =IFERROR(IF(ISBLANK(INDEX(Date_ProbaD!$G:$G,MATCH("Biologie vegetală și animală"&"||"&$B34,Date_ProbaD!$K:$K,0))),"-",INDEX(Date_ProbaD!$G:$G,MATCH("Biologie vegetală și animală"&"||"&$B34,Date_ProbaD!$K:$K,0))),"-") -> 1 | H34: =IFERROR(IF(ISBLANK(INDEX(Date_ProbaD!$H:$H,MATCH("Biologie vegetală și animală"&"||"&$B34,Date_ProbaD!$K:$K,0))),"-",INDEX(Date_ProbaD!$H:$H,MATCH("Biologie vegetală și animală"&"||"&$B34,Date_ProbaD!$K:$K,0))),"-") -> 5.85 | I34: =IFERROR(IF(ISBLANK(INDEX(Date_ProbaD!$I:$I,MATCH("Biologie vegetală și animală"&"||"&$B34,Date_ProbaD!$K:$K,0))),"-",INDEX(Date_ProbaD!$I:$I,MATCH("Biologie vegetală și animală"&"||"&$B34,Date_ProbaD!$K:$K,0))),"-") -> 17 | J34: =IFERROR(IF(ISBLANK(INDEX(Date_ProbaD!$J:$J,MATCH("Biologie vegetală și animală"&"||"&$B34,Date_ProbaD!$K:$K,0))),"-",INDEX(Date_ProbaD!$J:$J,MATCH("Biologie vegetală și animală"&"||"&$B34,Date_ProbaD!$K:$K,0))),"-") -> 7.1676471 | K34: =IFERROR(ROUND(J34-F34,2),"-") -> -
A35: 4 | B35: LICEUL NAŢIONAL DE INFORMATICĂ ARAD | C35: ARAD | D35: URBAN | E35: =IFERROR(IF(ISBLANK(INDEX(Date_ProbaD!$E:$E,MATCH("Biologie vegetală și animală"&"||"&$B35,Date_ProbaD!$K:$K,0))),"-",INDEX(Date_ProbaD!$E:$E,MATCH("Biologie vegetală și animală"&"||"&$B35,Date_ProbaD!$K:$K,0))),"-") -> 9 | F35: =IFERROR(IF(ISBLANK(INDEX(Date_ProbaD!$F:$F,MATCH("Biologie vegetală și animală"&"||"&$B35,Date_ProbaD!$K:$K,0))),"-",INDEX(Date_ProbaD!$F:$F,MATCH("Biologie vegetală și animală"&"||"&$B35,Date_ProbaD!$K:$K,0))),"-") -> 5.0611111 | G35: =IFERROR(IF(ISBLANK(INDEX(Date_ProbaD!$G:$G,MATCH("Biologie vegetală și animală"&"||"&$B35,Date_ProbaD!$K:$K,0))),"-",INDEX(Date_ProbaD!$G:$G,MATCH("Biologie vegetală și animală"&"||"&$B35,Date_ProbaD!$K:$K,0))),"-") -> 2 | H35: =IFERROR(IF(ISBLANK(INDEX(Date_ProbaD!$H:$H,MATCH("Biologie vegetală și animală"&"||"&$B35,Date_ProbaD!$K:$K,0))),"-",INDEX(Date_ProbaD!$H:$H,MATCH("Biologie vegetală și animală"&"||"&$B35,Date_ProbaD!$K:$K,0))),"-") -> 4.45 | I35: =IFERROR(IF(ISBLANK(INDEX(Date_ProbaD!$I:$I,MATCH("Biologie vegetală și animală"&"||"&$B35,Date_ProbaD!$K:$K,0))),"-",INDEX(Date_ProbaD!$I:$I,MATCH("Biologie vegetală și animală"&"||"&$B35,Date_ProbaD!$K:$K,0))),"-") -> 6 | J35: =IFERROR(IF(ISBLANK(INDEX(Date_ProbaD!$J:$J,MATCH("Biologie vegetală și animală"&"||"&$B35,Date_ProbaD!$K:$K,0))),"-",INDEX(Date_ProbaD!$J:$J,MATCH("Biologie vegetală și animală"&"||"&$B35,Date_ProbaD!$K:$K,0))),"-") -> 6.2416667 | K35: =IFERROR(ROUND(J35-F35,2),"-") -> 1.18
A36: 5 | B36: LICEUL TEHNOLOGIC ”REGELE MIHAI I” SĂVÂRŞIN | C36: SĂVÂRŞIN | D36: RURAL | E36: =IFERROR(IF(ISBLANK(INDEX(Date_ProbaD!$E:$E,MATCH("Biologie vegetală și animală"&"||"&$B36,Date_ProbaD!$K:$K,0))),"-",INDEX(Date_ProbaD!$E:$E,MATCH("Biologie vegetală și animală"&"||"&$B36,Date_ProbaD!$K:$K,0))),"-") -> 25 | F36: =IFERROR(IF(ISBLANK(INDEX(Date_ProbaD!$F:$F,MATCH("Biologie vegetală și animală"&"||"&$B36,Date_ProbaD!$K:$K,0))),"-",INDEX(Date_ProbaD!$F:$F,MATCH("Biologie vegetală și animală"&"||"&$B36,Date_ProbaD!$K:$K,0))),"-") -> 6.318 | G36: =IFERROR(IF(ISBLANK(INDEX(Date_ProbaD!$G:$G,MATCH("Biologie vegetală și animală"&"||"&$B36,Date_ProbaD!$K:$K,0))),"-",INDEX(Date_ProbaD!$G:$G,MATCH("Biologie vegetală și animală"&"||"&$B36,Date_ProbaD!$K:$K,0))),"-") -> 22 | H36: =IFERROR(IF(ISBLANK(INDEX(Date_ProbaD!$H:$H,MATCH("Biologie vegetală și animală"&"||"&$B36,Date_ProbaD!$K:$K,0))),"-",INDEX(Date_ProbaD!$H:$H,MATCH("Biologie vegetală și animală"&"||"&$B36,Date_ProbaD!$K:$K,0))),"-") -> 5.1386364 | I36: =IFERROR(IF(ISBLANK(INDEX(Date_ProbaD!$I:$I,MATCH("Biologie vegetală și animală"&"||"&$B36,Date_ProbaD!$K:$K,0))),"-",INDEX(Date_ProbaD!$I:$I,MATCH("Biologie vegetală și animală"&"||"&$B36,Date_ProbaD!$K:$K,0))),"-") -> 22 | J36: =IFERROR(IF(ISBLANK(INDEX(Date_ProbaD!$J:$J,MATCH("Biologie vegetală și animală"&"||"&$B36,Date_ProbaD!$K:$K,0))),"-",INDEX(Date_ProbaD!$J:$J,MATCH("Biologie vegetală și animală"&"||"&$B36,Date_ProbaD!$K:$K,0))),"-") -> 5.6272727 | K36: =IFERROR(ROUND(J36-F36,2),"-") -> -0.69
A37: 6 | B37: LICEUL TEHNOLOGIC "REGINA MARIA" ARAD | C37: ARAD | D37: URBAN | E37: =IFERROR(IF(ISBLANK(INDEX(Date_ProbaD!$E:$E,MATCH("Biologie vegetală și animală"&"||"&$B37,Date_ProbaD!$K:$K,0))),"-",INDEX(Date_ProbaD!$E:$E,MATCH("Biologie vegetală și animală"&"||"&$B37,Date_ProbaD!$K:$K,0))),"-") -> 5 | F37: =IFERROR(IF(ISBLANK(INDEX(Date_ProbaD!$F:$F,MATCH("Biologie vegetală și animală"&"||"&$B37,Date_ProbaD!$K:$K,0))),"-",INDEX(Date_ProbaD!$F:$F,MATCH("Biologie vegetală și animală"&"||"&$B37,Date_ProbaD!$K:$K,0))),"-") -> 4.33 | G37: =IFERROR(IF(ISBLANK(INDEX(Date_ProbaD!$G:$G,MATCH("Biologie vegetală și animală"&"||"&$B37,Date_ProbaD!$K:$K,0))),"-",INDEX(Date_ProbaD!$G:$G,MATCH("Biologie vegetală și animală"&"||"&$B37,Date_ProbaD!$K:$K,0))),"-") -> 11 | H37: =IFERROR(IF(ISBLANK(INDEX(Date_ProbaD!$H:$H,MATCH("Biologie vegetală și animală"&"||"&$B37,Date_ProbaD!$K:$K,0))),"-",INDEX(Date_ProbaD!$H:$H,MATCH("Biologie vegetală și animală"&"||"&$B37,Date_ProbaD!$K:$K,0))),"-") -> 4.1181818 | I37: =IFERROR(IF(ISBLANK(INDEX(Date_ProbaD!$I:$I,MATCH("Biologie vegetală și animală"&"||"&$B37,Date_ProbaD!$K:$K,0))),"-",INDEX(Date_ProbaD!$I:$I,MATCH("Biologie vegetală și animală"&"||"&$B37,Date_ProbaD!$K:$K,0))),"-") -> 58 | J37: =IFERROR(IF(ISBLANK(INDEX(Date_ProbaD!$J:$J,MATCH("Biologie vegetală și animală"&"||"&$B37,Date_ProbaD!$K:$K,0))),"-",INDEX(Date_ProbaD!$J:$J,MATCH("Biologie vegetală și animală"&"||"&$B37,Date_ProbaD!$K:$K,0))),"-") -> 4.7603448 | K37: =IFERROR(ROUND(J37-F37,2),"-") -> 0.43
A38: 7 | B38: LICEUL TEHNOLOGIC DE INDUSTRIE ALIMENTARĂ ARAD | C38: ARAD | D38: URBAN | E38: =IFERROR(IF(ISBLANK(INDEX(Date_ProbaD!$E:$E,MATCH("Biologie vegetală și animală"&"||"&$B38,Date_ProbaD!$K:$K,0))),"-",INDEX(Date_ProbaD!$E:$E,MATCH("Biologie vegetală și animală"&"||"&$B38,Date_ProbaD!$K:$K,0))),"-") -> 12 | F38: =IFERROR(IF(ISBLANK(INDEX(Date_ProbaD!$F:$F,MATCH("Biologie vegetală și animală"&"||"&$B38,Date_ProbaD!$K:$K,0))),"-",INDEX(Date_ProbaD!$F:$F,MATCH("Biologie vegetală și animală"&"||"&$B38,Date_ProbaD!$K:$K,0))),"-") -> 5.7583333 | G38: =IFERROR(IF(ISBLANK(INDEX(Date_ProbaD!$G:$G,MATCH("Biologie vegetală și animală"&"||"&$B38,Date_ProbaD!$K:$K,0))),"-",INDEX(Date_ProbaD!$G:$G,MATCH("Biologie vegetală și animală"&"||"&$B38,Date_ProbaD!$K:$K,0))),"-") -> 13 | H38: =IFERROR(IF(ISBLANK(INDEX(Date_ProbaD!$H:$H,MATCH("Biologie vegetală și animală"&"||"&$B38,Date_ProbaD!$K:$K,0))),"-",INDEX(Date_ProbaD!$H:$H,MATCH("Biologie vegetală și animală"&"||"&$B38,Date_ProbaD!$K:$K,0))),"-") -> 5.9923077 | I38: =IFERROR(IF(ISBLANK(INDEX(Date_ProbaD!$I:$I,MATCH("Biologie vegetală și animală"&"||"&$B38,Date_ProbaD!$K:$K,0))),"-",INDEX(Date_ProbaD!$I:$I,MATCH("Biologie vegetală și animală"&"||"&$B38,Date_ProbaD!$K:$K,0))),"-") -> 5 | J38: =IFERROR(IF(ISBLANK(INDEX(Date_ProbaD!$J:$J,MATCH("Biologie vegetală și animală"&"||"&$B38,Date_ProbaD!$K:$K,0))),"-",INDEX(Date_ProbaD!$J:$J,MATCH("Biologie vegetală și animală"&"||"&$B38,Date_ProbaD!$K:$K,0))),"-") -> 4.57 | K38: =IFERROR(ROUND(J38-F38,2),"-") -> -1.19
A39: 8 | B39: LICEUL TEHNOLOGIC "FRANCISC NEUMAN" ARAD | C39: ARAD | D39: URBAN | E39: =IFERROR(IF(ISBLANK(INDEX(Date_ProbaD!$E:$E,MATCH("Biologie vegetală și animală"&"||"&$B39,Date_ProbaD!$K:$K,0))),"-",INDEX(Date_ProbaD!$E:$E,MATCH("Biologie vegetală și animală"&"||"&$B39,Date_ProbaD!$K:$K,0))),"-") -> 25 | F39: =IFERROR(IF(ISBLANK(INDEX(Date_ProbaD!$F:$F,MATCH("Biologie vegetală și animală"&"||"&$B39,Date_ProbaD!$K:$K,0))),"-",INDEX(Date_ProbaD!$F:$F,MATCH("Biologie vegetală și animală"&"||"&$B39,Date_ProbaD!$K:$K,0))),"-") -> 4.46 | G39: =IFERROR(IF(ISBLANK(INDEX(Date_ProbaD!$G:$G,MATCH("Biologie vegetală și animală"&"||"&$B39,Date_ProbaD!$K:$K,0))),"-",INDEX(Date_ProbaD!$G:$G,MATCH("Biologie vegetală și animală"&"||"&$B39,Date_ProbaD!$K:$K,0))),"-") -> 13 | H39: =IFERROR(IF(ISBLANK(INDEX(Date_ProbaD!$H:$H,MATCH("Biologie vegetală și animală"&"||"&$B39,Date_ProbaD!$K:$K,0))),"-",INDEX(Date_ProbaD!$H:$H,MATCH("Biologie vegetală și animală"&"||"&$B39,Date_ProbaD!$K:$K,0))),"-") -> 3.9 | I39: =IFERROR(IF(ISBLANK(INDEX(Date_ProbaD!$I:$I,MATCH("Biologie vegetală și animală"&"||"&$B39,Date_ProbaD!$K:$K,0))),"-",INDEX(Date_ProbaD!$I:$I,MATCH("Biologie vegetală și animală"&"||"&$B39,Date_ProbaD!$K:$K,0))),"-") -> 15 | J39: =IFERROR(IF(ISBLANK(INDEX(Date_ProbaD!$J:$J,MATCH("Biologie vegetală și animală"&"||"&$B39,Date_ProbaD!$K:$K,0))),"-",INDEX(Date_ProbaD!$J:$J,MATCH("Biologie vegetală și animală"&"||"&$B39,Date_ProbaD!$K:$K,0))),"-") -> 4.5233333 | K39: =IFERROR(ROUND(J39-F39,2),"-") -> 0.06
A40: 9 | B40: LICEUL TEHNOLOGIC DE ȘTIINȚE APLICATE ARAD | C40: ARAD | D40: URBAN | E40: =IFERROR(IF(ISBLANK(INDEX(Date_ProbaD!$E:$E,MATCH("Biologie vegetală și animală"&"||"&$B40,Date_ProbaD!$K:$K,0))),"-",INDEX(Date_ProbaD!$E:$E,MATCH("Biologie vegetală și animală"&"||"&$B40,Date_ProbaD!$K:$K,0))),"-") -> 10 | F40: =IFERROR(IF(ISBLANK(INDEX(Date_ProbaD!$F:$F,MATCH("Biologie vegetală și animală"&"||"&$B40,Date_ProbaD!$K:$K,0))),"-",INDEX(Date_ProbaD!$F:$F,MATCH("Biologie vegetală și animală"&"||"&$B40,Date_ProbaD!$K:$K,0))),"-") -> 3.7 | G40: =IFERROR(IF(ISBLANK(INDEX(Date_ProbaD!$G:$G,MATCH("Biologie vegetală și animală"&"||"&$B40,Date_ProbaD!$K:$K,0))),"-",INDEX(Date_ProbaD!$G:$G,MATCH("Biologie vegetală și animală"&"||"&$B40,Date_ProbaD!$K:$K,0))),"-") -> 11 | H40: =IFERROR(IF(ISBLANK(INDEX(Date_ProbaD!$H:$H,MATCH("Biologie vegetală și animală"&"||"&$B40,Date_ProbaD!$K:$K,0))),"-",INDEX(Date_ProbaD!$H:$H,MATCH("Biologie vegetală și animală"&"||"&$B40,Date_ProbaD!$K:$K,0))),"-") -> 4.4727273 | I40: =IFERROR(IF(ISBLANK(INDEX(Date_ProbaD!$I:$I,MATCH("Biologie vegetală și animală"&"||"&$B40,Date_ProbaD!$K:$K,0))),"-",INDEX(Date_ProbaD!$I:$I,MATCH("Biologie vegetală și animală"&"||"&$B40,Date_ProbaD!$K:$K,0))),"-") -> 79 | J40: =IFERROR(IF(ISBLANK(INDEX(Date_ProbaD!$J:$J,MATCH("Biologie vegetală și animală"&"||"&$B40,Date_ProbaD!$K:$K,0))),"-",INDEX(Date_ProbaD!$J:$J,MATCH("Biologie vegetală și animală"&"||"&$B40,Date_ProbaD!$K:$K,0))),"-") -> 4.4563291 | K40: =IFERROR(ROUND(J40-F40,2),"-") -> 0.76
A41: 10 | B41: LICEUL TEHNOLOGIC "VASILE JUNCU" MINIŞ | C41: MINIŞ | D41: RURAL | E41: =IFERROR(IF(ISBLANK(INDEX(Date_ProbaD!$E:$E,MATCH("Biologie vegetală și animală"&"||"&$B41,Date_ProbaD!$K:$K,0))),"-",INDEX(Date_ProbaD!$E:$E,MATCH("Biologie vegetală și animală"&"||"&$B41,Date_ProbaD!$K:$K,0))),"-") -> - | F41: =IFERROR(IF(ISBLANK(INDEX(Date_ProbaD!$F:$F,MATCH("Biologie vegetală și animală"&"||"&$B41,Date_ProbaD!$K:$K,0))),"-",INDEX(Date_ProbaD!$F:$F,MATCH("Biologie vegetală și animală"&"||"&$B41,Date_ProbaD!$K:$K,0))),"-") -> - | G41: =IFERROR(IF(ISBLANK(INDEX(Date_ProbaD!$G:$G,MATCH("Biologie vegetală și animală"&"||"&$B41,Date_ProbaD!$K:$K,0))),"-",INDEX(Date_ProbaD!$G:$G,MATCH("Biologie vegetală și animală"&"||"&$B41,Date_ProbaD!$K:$K,0))),"-") -> 1 | H41: =IFERROR(IF(ISBLANK(INDEX(Date_ProbaD!$H:$H,MATCH("Biologie vegetală și animală"&"||"&$B41,Date_ProbaD!$K:$K,0))),"-",INDEX(Date_ProbaD!$H:$H,MATCH("Biologie vegetală și animală"&"||"&$B41,Date_ProbaD!$K:$K,0))),"-") -> 3.4 | I41: =IFERROR(IF(ISBLANK(INDEX(Date_ProbaD!$I:$I,MATCH("Biologie vegetală și animală"&"||"&$B41,Date_ProbaD!$K:$K,0))),"-",INDEX(Date_ProbaD!$I:$I,MATCH("Biologie vegetală și animală"&"||"&$B41,Date_ProbaD!$K:$K,0))),"-") -> 3 | J41: =IFERROR(IF(ISBLANK(INDEX(Date_ProbaD!$J:$J,MATCH("Biologie vegetală și animală"&"||"&$B41,Date_ProbaD!$K:$K,0))),"-",INDEX(Date_ProbaD!$J:$J,MATCH("Biologie vegetală și animală"&"||"&$B41,Date_ProbaD!$K:$K,0))),"-") -> 4.2 | K41: =IFERROR(ROUND(J41-F41,2),"-") -> -
A42: 11 | B42: LICEUL TEHNOLOGIC CHIŞINEU CRIŞ | C42: CHIŞINEU-CRIŞ | D42: RURAL | E42: =IFERROR(IF(ISBLANK(INDEX(Date_ProbaD!$E:$E,MATCH("Biologie vegetală și animală"&"||"&$B42,Date_ProbaD!$K:$K,0))),"-",INDEX(Date_ProbaD!$E:$E,MATCH("Biologie vegetală și animală"&"||"&$B42,Date_ProbaD!$K:$K,0))),"-") -> 28 | F42: =IFERROR(IF(ISBLANK(INDEX(Date_ProbaD!$F:$F,MATCH("Biologie vegetală și animală"&"||"&$B42,Date_ProbaD!$K:$K,0))),"-",INDEX(Date_ProbaD!$F:$F,MATCH("Biologie vegetală și animală"&"||"&$B42,Date_ProbaD!$K:$K,0))),"-") -> 4.3946429 | G42: =IFERROR(IF(ISBLANK(INDEX(Date_ProbaD!$G:$G,MATCH("Biologie vegetală și animală"&"||"&$B42,Date_ProbaD!$K:$K,0))),"-",INDEX(Date_ProbaD!$G:$G,MATCH("Biologie vegetală și animală"&"||"&$B42,Date_ProbaD!$K:$K,0))),"-") -> 9 | H42: =IFERROR(IF(ISBLANK(INDEX(Date_ProbaD!$H:$H,MATCH("Biologie vegetală și animală"&"||"&$B42,Date_ProbaD!$K:$K,0))),"-",INDEX(Date_ProbaD!$H:$H,MATCH("Biologie vegetală și animală"&"||"&$B42,Date_ProbaD!$K:$K,0))),"-") -> 4.5333333 | I42: =IFERROR(IF(ISBLANK(INDEX(Date_ProbaD!$I:$I,MATCH("Biologie vegetală și animală"&"||"&$B42,Date_ProbaD!$K:$K,0))),"-",INDEX(Date_ProbaD!$I:$I,MATCH("Biologie vegetală și animală"&"||"&$B42,Date_ProbaD!$K:$K,0))),"-") -> 33 | J42: =IFERROR(IF(ISBLANK(INDEX(Date_ProbaD!$J:$J,MATCH("Biologie vegetală și animală"&"||"&$B42,Date_ProbaD!$K:$K,0))),"-",INDEX(Date_ProbaD!$J:$J,MATCH("Biologie vegetală și animală"&"||"&$B42,Date_ProbaD!$K:$K,0))),"-") -> 4.0681818 | K42: =IFERROR(ROUND(J42-F42,2),"-") -> -0.33
A43: 12 | B43: COLEGIUL "MIHAI VITEAZUL" INEU | C43: INEU | D43: RURAL | E43: =IFERROR(IF(ISBLANK(INDEX(Date_ProbaD!$E:$E,MATCH("Biologie vegetală și animală"&"||"&$B43,Date_ProbaD!$K:$K,0))),"-",INDEX(Date_ProbaD!$E:$E,MATCH("Biologie vegetală și animală"&"||"&$B43,Date_ProbaD!$K:$K,0))),"-") -> 29 | F43: =IFERROR(IF(ISBLANK(INDEX(Date_ProbaD!$F:$F,MATCH("Biologie vegetală și animală"&"||"&$B43,Date_ProbaD!$K:$K,0))),"-",INDEX(Date_ProbaD!$F:$F,MATCH("Biologie vegetală și animală"&"||"&$B43,Date_ProbaD!$K:$K,0))),"-") -> 4.7241379 | G43: =IFERROR(IF(ISBLANK(INDEX(Date_ProbaD!$G:$G,MATCH("Biologie vegetală și animală"&"||"&$B43,Date_ProbaD!$K:$K,0))),"-",INDEX(Date_ProbaD!$G:$G,MATCH("Biologie vegetală și animală"&"||"&$B43,Date_ProbaD!$K:$K,0))),"-") -> 12 | H43: =IFERROR(IF(ISBLANK(INDEX(Date_ProbaD!$H:$H,MATCH("Biologie vegetală și animală"&"||"&$B43,Date_ProbaD!$K:$K,0))),"-",INDEX(Date_ProbaD!$H:$H,MATCH("Biologie vegetală și animală"&"||"&$B43,Date_ProbaD!$K:$K,0))),"-") -> 5.5458333 | I43: =IFERROR(IF(ISBLANK(INDEX(Date_ProbaD!$I:$I,MATCH("Biologie vegetală și animală"&"||"&$B43,Date_ProbaD!$K:$K,0))),"-",INDEX(Date_ProbaD!$I:$I,MATCH("Biologie vegetală și animală"&"||"&$B43,Date_ProbaD!$K:$K,0))),"-") -> 24 | J43: =IFERROR(IF(ISBLANK(INDEX(Date_ProbaD!$J:$J,MATCH("Biologie vegetală și animală"&"||"&$B43,Date_ProbaD!$K:$K,0))),"-",INDEX(Date_ProbaD!$J:$J,MATCH("Biologie vegetală și animală"&"||"&$B43,Date_ProbaD!$K:$K,0))),"-") -> 4.0208333 | K43: =IFERROR(ROUND(J43-F43,2),"-") -> -0.7
