Workbook

Sheet Rezumat
A1: Evaluare Națională 2020-2026 — Evoluție, Județul Arad
A2: Analiză comparativă pe unități de învățământ cu personalitate juridică, șapte sesiuni consecutive
A3: Sursă: workbook-urile "EN2020_Arad_analiza.xlsx" ... "EN2026_Arad_analiza.xlsx" (deja auditate) · Fișier prelucrat: 15.09.2026
A5: Indicator (nivel județ) | B5: 2020 | C5: 2021 | D5: 2022 | E5: 2023 | F5: 2024 | G5: 2025 | H5: 2026 | I5: Δ 2020→2026
A6: Elevi evaluați | B6: 3245 | C6: 2363 | D6: 3035 | E6: 3144 | F6: 3133 | G6: 3025 | H6: 3045 | I6: =H6-B6 -> -200
A7: Unități analizate | B7: 109 | C7: 106 | D7: 109 | E7: 110 | F7: 109 | G7: 112 | H7: 107 | I7: =H7-B7 -> -2
A8: Media generală | B8: 6.385661 | C8: 6.1701693 | D8: 6.5027743 | E8: 6.2307284 | F8: 6.1047367 | G8: 6.4757091 | H8: 6.2541346 | I8: =H8-B8 -> -0.13152637
A9: Media Limba Română | B9: 6.9815408 | C9: 6.6302666 | D9: 6.8491763 | E9: 6.2794847 | F9: 6.4678423 | G9: 6.8675372 | H9: 6.5187685 | I9: =H9-B9 -> -0.46277236
A10: Media Matematică | B10: 5.7471803 | C10: 5.6706094 | D10: 6.105799 | E10: 6.1630725 | F10: 5.6960581 | G10: 6.0498678 | H10: 5.951445 | I10: =H10-B10 -> 0.20426471
A11: Media Limba Maternă (elevii cu probă) | B11: 7.3391026 | C11: 7.15 | D11: 7.6363636 | E11: 6.6025478 | F11: 7.242228 | G11: 6.9603774 | H11: 6.8918421 | I11: =H11-B11 -> -0.44726046
A12: Nr. elevi cu probă la limba maternă | B12: 156 | C12: 122 | D12: 176 | E12: 157 | F12: 193 | G12: 159 | H12: 190 | I12: =H12-B12 -> 34
A13: % elevi cu media generală ≥ 5 | B13: 72.881356 | C13: 72.450275 | D13: 78.187809 | E13: 69.592875 | F13: 69.518034 | G13: 76.92562 | H13: 73.267652 | I13: =H13-B13 -> 0.38629596
A14: Media generală — URBAN | B14: 6.7808248 | C14: 6.564983 | D14: 6.9188313 | E14: 6.6154683 | F14: 6.4874239 | G14: 6.9635941 | H14: 6.751026 | I14: =H14-B14 -> -0.029798743
A15: Media generală — RURAL | B15: 5.7086622 | C15: 5.5190807 | D15: 5.8150437 | E15: 5.5708895 | F15: 5.3605827 | G15: 5.6609885 | H15: 5.4511684 | I15: =H15-B15 -> -0.25749382
A17: Notă: mediile sunt reluate din workbook-urile anuale deja auditate; vezi fila "Metodologie" pentru particularitățile fiecărui an.

Sheet Date_unitati
A1: Nr | B1: Unitate | C1: Localitate | D1: Mediu | E1: NrElevi_2020 | F1: NrElevi_2021 | G1: NrElevi_2022 | H1: NrElevi_2023 | I1: NrElevi_2024 | J1: NrElevi_2025 | K1: NrElevi_2026 | L1: Medie_2020 | M1: Medie_2021 | N1: Medie_2022 | O1: Medie_2023 | P1: Medie_2024 | Q1: Medie_2025 | R1: Medie_2026 | S1: Romana_2020 | T1: Romana_2021 | U1: Romana_2022 | V1: Romana_2023 | W1: Romana_2024 | X1: Romana_2025 | Y1: Romana_2026 | Z1: Matematica_2020 | AA1: Matematica_2021 | AB1: Matematica_2022 | AC1: Matematica_2023 | AD1: Matematica_2024 | AE1: Matematica_2025 | AF1: Matematica_2026 | AG1: Pct5_2020 | AH1: Pct5_2021 | AI1: Pct5_2022 | AJ1: Pct5_2023 | AK1: Pct5_2024 | AL1: Pct5_2025 | AM1: Pct5_2026
A2: 1 | B2: COLEGIUL "MIHAI VITEAZUL" INEU | C2: INEU | D2: URBAN | E2: 85 | F2: 57 | G2: 65 | H2: 72 | I2: 65 | J2: 64 | K2: 74 | L2: 6.5838824 | M2: 6.0819298 | N2: 6.6830769 | O2: 5.7733333 | P2: 5.9458462 | Q2: 6.7065625 | R2: 6.7785135 | S2: 7.0735294 | T2: 6.5289474 | U2: 7.0630769 | V2: 6.0340278 | W2: 6.4269231 | X2: 7.071875 | Y2: 7.0527027 | Z2: 6.0994118 | AA2: 5.6394737 | AB2: 6.3061538 | AC2: 5.5173611 | AD2: 5.47 | AE2: 6.3460937 | AF2: 6.5087838 | AG2: 77.647059 | AH2: 75.438596 | AI2: 78.461538 | AJ2: 56.944444 | AK2: 66.153846 | AL2: 82.8125 | AM2: 86.486486
A3: 2 | B3: COLEGIUL DE ARTE "SABIN DRĂGOI" ARAD | C3: ARAD | D3: URBAN | E3: 82 | F3: 72 | G3: 71 | H3: 87 | I3: 83 | J3: 78 | K3: 76 | L3: 6.5909756 | M3: 6.0541667 | N3: 6.3157746 | O3: 5.8152874 | P3: 5.4875904 | Q3: 6.2355128 | R3: 6.2311842 | S3: 7.3993902 | T3: 6.6965278 | U3: 7.0197183 | V3: 5.8775862 | W3: 5.8066265 | X3: 6.6576923 | Y3: 6.6703947 | Z3: 5.7878049 | AA3: 5.4180556 | AB3: 5.6161972 | AC3: 5.758046 | AD3: 5.1740964 | AE3: 5.8179487 | AF3: 5.7967105 | AG3: 85.365854 | AH3: 79.166667 | AI3: 87.323944 | AJ3: 71.264368 | AK3: 55.421687 | AL3: 84.615385 | AM3: 78.947368
A4: 3 | B4: COLEGIUL NAŢIONAL "ELENA GHIBA BIRTA" ARAD | C4: ARAD | D4: URBAN | E4: 63 | F4: 37 | G4: 17 | H4: 25 | I4: 60 | J4: 47 | K4: 44 | L4: 7.878254 | M4: 7.0527027 | N4: 7.61 | O4: 6.828 | P4: 7.1656667 | Q4: 7.6531915 | R4: 7.0179545 | S4: 8.5134921 | T4: 7.6027027 | U4: 8.0617647 | V4: 6.782 | W4: 7.38 | X4: 7.9404255 | Y4: 7.1465909 | Z4: 7.247619 | AA4: 6.5081081 | AB4: 7.1617647 | AC4: 6.88 | AD4: 6.9566667 | AE4: 7.3712766 | AF4: 6.8943182 | AG4: 95.238095 | AH4: 97.297297 | AI4: 100 | AJ4: 92 | AK4: 91.666667 | AL4: 97.87234 | AM4: 86.363636
A5: 4 | B5: COLEGIUL NAŢIONAL "MOISE NICOARĂ" ARAD | C5: ARAD | D5: URBAN | E5: 90 | F5: 88 | G5: 84 | H5: 86 | I5: 89 | J5: 83 | K5: 89 | L5: 9.1715556 | M5: 8.7840909 | N5: 8.8245238 | O5: 9.0148837 | P5: 8.532809 | Q5: 8.6940964 | R5: 8.6824719 | S5: 9.3255556 | T5: 8.9215909 | U5: 8.9619048 | V5: 8.8912791 | W5: 8.5724719 | X5: 8.836747 | Y5: 8.6308989 | Z5: 9.0222222 | AA5: 8.6517045 | AB5: 8.6910714 | AC5: 9.1430233 | AD5: 8.4977528 | AE5: 8.5560241 | AF5: 8.7393258 | AG5: 100 | AH5: 100 | AI5: 100 | AJ5: 100 | AK5: 100 | AL5: 100 | AM5: 100
A6: 5 | B6: COLEGIUL NAŢIONAL "PREPARANDIA-DIMITRIE ŢICHINDEAL" ARAD | C6: ARAD | D6: URBAN | E6: 93 | F6: 92 | G6: 114 | H6: 123 | I6: 119 | J6: 117 | K6: 96 | L6: 8.3816129 | M6: 7.5738043 | N6: 8.0660526 | O6: 7.6141463 | P6: 7.4442017 | Q6: 8.1235043 | R6: 8.1480208 | S6: 8.8784946 | T6: 8.1429348 | U6: 8.3877193 | V6: 7.4772358 | W6: 7.7827731 | X6: 8.3619658 | Y6: 8.3369792 | Z6: 7.8887097 | AA6: 7.0103261 | AB6: 7.7486842 | AC6: 7.7552846 | AD6: 7.110084 | AE6: 7.8901709 | AF6: 7.9645833 | AG6: 98.924731 | AH6: 93.478261 | AI6: 99.122807 | AJ6: 96.747967 | AK6: 99.159664 | AL6: 97.435897 | AM6: 98.958333
A7: 6 | B7: COLEGIUL NAŢIONAL "VASILE GOLDIŞ" ARAD | C7: ARAD | D7: URBAN | E7: 84 | F7: 75 | G7: 96 | H7: 114 | I7: 103 | J7: 91 | K7: 99 | L7: 7.5917857 | M7: 7.2846667 | N7: 7.7046875 | O7: 7.467193 | P7: 7.3446602 | Q7: 7.7489011 | R7: 7.8737374 | S7: 8.1636905 | T7: 7.6926667 | U7: 8 | V7: 7.7302632 | W7: 7.8300971 | X7: 8.071978 | Y7: 8.0742424 | Z7: 7.025 | AA7: 6.8813333 | AB7: 7.4140625 | AC7: 7.2087719 | AD7: 6.8645631 | AE7: 7.4307692 | AF7: 7.6777778 | AG7: 92.857143 | AH7: 93.333333 | AI7: 98.958333 | AJ7: 94.736842 | AK7: 96.116505 | AL7: 96.703297 | AM7: 100
A8: 7 | B8: COLEGIUL"CSIKY GERGELY" ARAD | C8: ARAD | D8: URBAN | E8: 22 | F8: 27 | G8: 33 | H8: 21 | I8: 35 | J8: 28 | K8: 34 | L8: 6.0513636 | M8: 7.2751852 | N8: 7.2339394 | O8: 7.5485714 | P8: 7.6462857 | Q8: 7.2707143 | R8: 7.1423529 | S8: 5.9727273 | T8: 6.8337037 | U8: 7.4181818 | V8: 7.1809524 | W8: 7.99 | X8: 7.225 | Y8: 7.1205882 | Z8: 4.9204545 | AA8: 6.8740741 | AB8: 6.1515152 | AC8: 7.4595238 | AD8: 6.4557143 | AE8: 5.9767857 | AF8: 6.0867647 | AG8: 68.181818 | AH8: 96.296296 | AI8: 96.969697 | AJ8: 100 | AK8: 100 | AL8: 92.857143 | AM8: 97.058824
A9: 8 | B9: LICEUL "ATANASIE MARIENESCU" LIPOVA | C9: LIPOVA | D9: URBAN | E9: 64 | F9: 36 | G9: 40 | H9: 41 | I9: 76 | J9: 38 | K9: 55 | L9: 5.4578125 | M9: 6.0211111 | N9: 6.0715 | O9: 5.545122 | P9: 5.0401316 | Q9: 5.5839474 | R9: 6.1201818 | S9: 6.6101563 | T9: 6.7638889 | U9: 6.4725 | V9: 5.6914634 | W9: 5.4381579 | X9: 6.1223684 | Y9: 6.4981818 | Z9: 4.3085938 | AA9: 5.2833333 | AB9: 5.675 | AC9: 5.4036585 | AD9: 4.6467105 | AE9: 5.05 | AF9: 5.7481818 | AG9: 60.9375 | AH9: 69.444444 | AI9: 70 | AJ9: 53.658537 | AK9: 43.421053 | AL9: 57.894737 | AM9: 61.818182
A10: 9 | B10: LICEUL "IOAN BUTEANU" GURAHONŢ | C10: GURAHONŢ | D10: RURAL | E10: 39 | F10: 25 | G10: 27 | H10: 18 | I10: 26 | J10: 35 | K10: 31 | L10: 5.8761538 | M10: 5.9076 | N10: 6.6440741 | O10: 7.0461111 | P10: 4.8773077 | Q10: 5.7631429 | R10: 5.3083871 | S10: 6.2871795 | T10: 5.796 | U10: 6.9722222 | V10: 6.9888889 | W10: 5.1865385 | X10: 6.0942857 | Y10: 5.4903226 | Z10: 5.4666667 | AA10: 6.024 | AB10: 6.3203704 | AC10: 7.1083333 | AD10: 4.5730769 | AE10: 5.4371429 | AF10: 5.1322581 | AG10: 74.358974 | AH10: 76 | AI10: 81.481481 | AJ10: 88.888889 | AK10: 38.461538 | AL10: 68.571429 | AM10: 48.387097
A11: 10 | B11: LICEUL "SEVER BOCU" LIPOVA | C11: LIPOVA | D11: URBAN | E11: 22 | F11: 25 | G11: 28 | H11: 49 | I11: 31 | J11: 41 | K11: 28 | L11: 6.4840909 | M11: 5.9232 | N11: 6.8653571 | O11: 6.1012245 | P11: 5.7532258 | Q11: 6.2209756 | R11: 5.5382143 | S11: 6.8681818 | T11: 6.862 | U11: 7.0678571 | V11: 6.1061224 | W11: 6.0790323 | X11: 6.7512195 | Y11: 5.7214286 | Z11: 6.1022727 | AA11: 4.99 | AB11: 6.6678571 | AC11: 6.0989796 | AD11: 5.4322581 | AE11: 5.6963415 | AF11: 5.3607143 | AG11: 77.272727 | AH11: 72 | AI11: 100 | AJ11: 75.510204 | AK11: 74.193548 | AL11: 80.487805 | AM11: 64.285714
A12: 11 | B12: LICEUL CU PROGRAM SPORTIV ARAD | C12: ARAD | D12: URBAN | E12: 45 | F12: 37 | G12: 35 | H12: 31 | I12: 25 | J12: 38 | K12: 18 | L12: 5.3637778 | M12: 4.9335135 | N12: 4.5368571 | O12: 5.0403226 | P12: 4.7216 | Q12: 5.5623684 | R12: 4.6994444 | S12: 5.9855556 | T12: 5.3662162 | U12: 4.6542857 | V12: 5.0080645 | W12: 5.18 | X12: 6.0328947 | Y12: 4.9111111 | Z12: 4.7466667 | AA12: 4.5040541 | AB12: 4.4228571 | AC12: 5.0790323 | AD12: 4.268 | AE12: 5.0973684 | AF12: 4.4944444 | AG12: 53.333333 | AH12: 48.648649 | AI12: 34.285714 | AJ12: 41.935484 | AK12: 32 | AL12: 57.894737 | AM12: 44.444444
A13: 12 | B13: LICEUL NAŢIONAL DE INFORMATICĂ ARAD | C13: ARAD | D13: URBAN | E13: 126 | F13: 99 | G13: 116 | H13: 129 | I13: 131 | J13: 149 | K13: 118 | L13: 8.246746 | M13: 7.9217172 | N13: 8.1039655 | O13: 7.8630233 | P13: 7.6962595 | Q13: 8.4479195 | R13: 7.805 | S13: 8.6543651 | T13: 8.2459596 | U13: 8.3073276 | V13: 7.9228682 | W13: 7.998855 | X13: 8.607047 | Y13: 8.0334746 | Z13: 7.8428571 | AA13: 7.6030303 | AB13: 7.9051724 | AC13: 7.8073643 | AD13: 7.3992366 | AE13: 8.2936242 | AF13: 7.5822034 | AG13: 96.031746 | AH13: 98.989899 | AI13: 98.275862 | AJ13: 98.449612 | AK13: 97.709924 | AL13: 99.328859 | AM13: 99.152542
... A19: 18 | B19: LICEUL TEHNOLOGIC "REGINA MARIA" ARAD | C19: ARAD | D19: URBAN | E19: 68 | F19: 28 | G19: 53 | H19: 80 | I19: 65 | J19: 38 | K19: 44 | L19: 6.4339706 | M19: 7.3482143 | N19: 6.3964151 | O19: 6.279625 | P19: 6.5153846 | Q19: 7.3805263 | R19: 6.0577273 | S19: 6.7683824 | T19: 7.5821429 | U19: 6.6037736 | V19: 5.976875 | W19: 6.6215385 | X19: 7.5605263 | Y19: 6.4670455 | Z19: 6.1044118 | AA19: 7.1196429 | AB19: 6.1924528 | AC19: 6.5875 | AD19: 6.4153846 | AE19: 7.2039474 | AF19: 5.6534091 | AG19: 80.882353 | AH19: 92.857143 | AI19: 79.245283 | AJ19: 77.5 | AK19: 78.461538 | AL19: 89.473684 | AM19: 79.545455
A20: 19 | B20: LICEUL TEHNOLOGIC "SAVA BRANCOVICI" INEU | C20: INEU | D20: URBAN | H20: 15 | I20: 10 | J20: 14 | K20: 16 | O20: 4.9746667 | P20: 3.934 | Q20: 4.3157143 | R20: 4.49375 | V20: 5.11 | W20: 4.17 | X20: 4.4964286 | Y20: 5.0125 | AC20: 4.8433333 | AD20: 3.705 | AE20: 4.1392857 | AF20: 3.98125 | AJ20: 53.333333 | AK20: 0 | AL20: 35.714286 | AM20: 31.25
A21: 20 | B21: LICEUL TEHNOLOGIC "STEFAN HELL" SÂNTANA | C21: SÂNTANA | D21: URBAN | E21: 64 | F21: 39 | G21: 47 | H21: 60 | I21: 64 | J21: 47 | K21: 35 | L21: 5.7934375 | M21: 5.4666667 | N21: 6.2806383 | O21: 6.174 | P21: 5.4554687 | Q21: 6.5485106 | R21: 5.4202857 | S21: 6.5148437 | T21: 6.0448718 | U21: 6.943617 | V21: 6.7575 | W21: 5.9726562 | X21: 7.3723404 | Y21: 6.0914286 | Z21: 5.0765625 | AA21: 5.0179487 | AB21: 5.9148936 | AC21: 5.9608333 | AD21: 5.1171875 | AE21: 6.1382979 | AF21: 5.0657143 | AG21: 67.1875 | AH21: 51.282051 | AI21: 78.723404 | AJ21: 66.666667 | AK21: 56.25 | AL21: 80.851064 | AM21: 65.714286
A22: 21 | B22: LICEUL TEHNOLOGIC "VASILE JUNCU" MINIŞ | C22: MINIŞ | D22: RURAL | E22: 22 | G22: 16 | H22: 26 | I22: 13 | J22: 15 | K22: 12 | L22: 5.7172727 | N22: 5.3825 | O22: 5.8426923 | P22: 5.5907692 | Q22: 6.4553333 | R22: 5.8916667 | S22: 6.9681818 | U22: 6.115625 | V22: 6.25 | W22: 6.5230769 | X22: 7.1466667 | Y22: 6.8083333 | Z22: 4.4681818 | AB22: 4.653125 | AC22: 5.4403846 | AD22: 4.6653846 | AE22: 5.7666667 | AF22: 4.9791667 | AG22: 63.636364 | AI22: 68.75 | AJ22: 65.384615 | AK22: 53.846154 | AL22: 86.666667 | AM22: 75
A23: 22 | B23: LICEUL TEHNOLOGIC DE ȘTIINȚE APLICATE ARAD | C23: ARAD | D23: URBAN | E23: 49 | F23: 42 | G23: 51 | H23: 42 | I23: 41 | J23: 39 | K23: 43 | L23: 6.715102 | M23: 5.9438095 | N23: 6.6305882 | O23: 5.7292857 | P23: 6.0846341 | Q23: 7.1192308 | R23: 6.0923256 | S23: 7.5520408 | T23: 6.622619 | U23: 7.0029412 | V23: 6.2571429 | W23: 7.0743902 | X23: 7.7346154 | Y23: 6.8046512 | Z23: 5.8826531 | AA23: 5.2690476 | AB23: 6.2637255 | AC23: 5.2047619 | AD23: 5.1012195 | AE23: 6.5089744 | AF23: 5.3848837 | AG23: 77.55102 | AH23: 69.047619 | AI23: 74.509804 | AJ23: 61.904762 | AK23: 78.04878 | AL23: 100 | AM23: 74.418605
A24: 23 | B24: LICEUL TEHNOLOGIC VINGA | C24: VINGA | D24: RURAL | E24: 42 | F24: 37 | G24: 23 | H24: 37 | I24: 49 | J24: 47 | K24: 33 | L24: 5.0692857 | M24: 5.4202703 | N24: 5.5304348 | O24: 5.2548649 | P24: 5.3653061 | Q24: 4.9882979 | R24: 4.6945455 | S24: 5.8571429 | T24: 5.9891892 | U24: 5.8782609 | V24: 5.4297297 | W24: 5.4030612 | X24: 5.0946809 | Y24: 4.65 | Z24: 4.2845238 | AA24: 4.8567568 | AB24: 5.1869565 | AC24: 5.0851351 | AD24: 5.3326531 | AE24: 4.8861702 | AF24: 4.7439394 | AG24: 50 | AH24: 59.459459 | AI24: 65.217391 | AJ24: 48.648649 | AK24: 59.183673 | AL24: 44.680851 | AM24: 39.393939
A25: 24 | B25: LICEUL TEHNOLOGIC ”REGELE MIHAI I” SĂVÂRŞIN | C25: SĂVÂRŞIN | D25: RURAL | E25: 22 | F25: 22 | G25: 16 | H25: 22 | I25: 21 | J25: 21 | K25: 26 | L25: 6.0690909 | M25: 5.2186364 | N25: 5.5525 | O25: 5.9627273 | P25: 6.1419048 | Q25: 6.6609524 | R25: 5.3676923 | S25: 7.5590909 | T25: 5.8113636 | U25: 6.378125 | V25: 6.4340909 | W25: 6.6214286 | X25: 7.202381 | Y25: 5.8115385 | Z25: 4.5840909 | AA25: 4.6295455 | AB25: 4.734375 | AC25: 5.4954545 | AD25: 5.6666667 | AE25: 6.1238095 | AF25: 4.9288462 | AG25: 68.181818 | AH25: 50 | AI25: 68.75 | AJ25: 68.181818 | AK25: 71.428571 | AL25: 90.47619 | AM25: 61.538462
A26: 25 | B26: LICEUL TEOLOGIC BAPTIST "ALEXA POPOVICI" ARAD | C26: ARAD | D26: URBAN | E26: 62 | F26: 55 | G26: 52 | H26: 57 | I26: 79 | J26: 87 | K26: 106 | L26: 8.3841935 | M26: 7.5609091 | N26: 8.2140385 | O26: 8.2996491 | P26: 7.9641772 | Q26: 7.9903448 | R26: 7.8932075 | S26: 8.9685484 | T26: 8.2827273 | U26: 8.65 | V26: 8.2 | W26: 8.3316456 | X26: 8.3454023 | Y26: 8.0150943 | Z26: 7.8032258 | AA26: 6.8454545 | AB26: 7.7826923 | AC26: 8.404386 | AD26: 7.6025316 | AE26: 7.6408046 | AF26: 7.7768868 | AG26: 100 | AH26: 98.181818 | AI26: 100 | AJ26: 100 | AK26: 98.734177 | AL26: 100 | AM26: 98.113208
A27: 26 | B27: LICEUL TEOLOGIC PENTICOSTAL ARAD | C27: ARAD | D27: URBAN | J27: 28 | K27: 22 | Q27: 6.6567857 | R27: 6.0613636 | X27: 7.5142857 | Y27: 5.9272727 | AE27: 5.8035714 | AF27: 6.2 | AL27: 92.857143 | AM27: 86.363636
A28: 27 | B28: LICEUL TEORETIC "ADAM MULLER GUTTENBRUNN" ARAD | C28: ARAD | D28: URBAN | E28: 90 | F28: 64 | G28: 95 | H28: 90 | I28: 118 | J28: 95 | K28: 114 | L28: 6.034 | M28: 6.0654687 | N28: 7.0181053 | O28: 6.1373333 | P28: 6.1966949 | Q28: 6.0367368 | R28: 6.6332456 | S28: 6.8222222 | T28: 6.4351563 | U28: 7.2505263 | V28: 6.1344444 | W28: 6.7300847 | X28: 6.7863158 | Y28: 6.9635965 | Z28: 5.1483333 | AA28: 5.5484375 | AB28: 6.3626316 | AC28: 6.0327778 | AD28: 5.4504237 | AE28: 5.2510526 | AF28: 6.3144737 | AG28: 71.111111 | AH28: 75 | AI28: 89.473684 | AJ28: 73.333333 | AK28: 74.576271 | AL28: 73.684211 | AM28: 86.842105
A29: 28 | B29: LICEUL TEORETIC "GHEORGHE LAZĂR" PECICA | C29: PECICA | D29: URBAN | E29: 52 | F29: 41 | G29: 43 | H29: 54 | I29: 49 | J29: 49 | K29: 36 | L29: 5.6148077 | M29: 4.832439 | N29: 6.0737209 | O29: 5.1603704 | P29: 5.8267347 | Q29: 5.6708163 | R29: 5.09 | S29: 5.9451923 | T29: 5.4487805 | U29: 6.4104651 | V29: 5.1944444 | W29: 6.1622449 | X29: 6.0357143 | Y29: 5.4861111 | Z29: 5.2865385 | AA29: 4.2207317 | AB29: 5.7406977 | AC29: 5.1314815 | AD29: 5.4959184 | AE29: 5.3102041 | AF29: 4.6986111 | AG29: 59.615385 | AH29: 34.146341 | AI29: 74.418605 | AJ29: 51.851852 | AK29: 71.428571 | AL29: 51.020408 | AM29: 44.444444
A30: 29 | B30: LICEUL TEORETIC "JOZEF GREGOR TAJOVSKY" NĂDLAC | C30: NĂDLAC | D30: URBAN | E30: 60 | F30: 33 | G30: 54 | H30: 48 | I30: 49 | J30: 50 | K30: 45 | L30: 6.2871667 | M30: 5.7739394 | N30: 6.257037 | O30: 6.3391667 | P30: 6.0787755 | Q30: 6.2308 | R30: 5.9108889 | S30: 7.0483333 | T30: 6.4045455 | U30: 6.6 | V30: 6.3114583 | W30: 6.6316327 | X30: 6.874 | Y30: 6.37 | Z30: 5.0433333 | AA30: 4.6651515 | AB30: 5.5462963 | AC30: 6.2010417 | AD30: 4.9734694 | AE30: 5.151 | AF30: 5.2111111 | AG30: 73.333333 | AH30: 69.69697 | AI30: 77.777778 | AJ30: 75 | AK30: 67.346939 | AL30: 86 | AM30: 71.111111
A31: 30 | B31: LICEUL TEORETIC "MIHAI VELICIU" CHIŞINEU CRIŞ | C31: CHIŞINEU-CRIŞ | D31: URBAN | E31: 76 | F31: 34 | G31: 65 | H31: 70 | I31: 53 | J31: 38 | K31: 42 | L31: 6.7453947 | M31: 5.6655882 | N31: 6.8046154 | O31: 6.6614286 | P31: 6.0739623 | Q31: 6.3186842 | R31: 6.8704762 | S31: 7.3118421 | T31: 6.0338235 | U31: 7.2792308 | V31: 6.5592857 | W31: 6.1981132 | X31: 6.5631579 | Y31: 6.9130952 | Z31: 6.1835526 | AA31: 5.3014706 | AB31: 6.3346154 | AC31: 6.7678571 | AD31: 5.9556604 | AE31: 6.0789474 | AF31: 6.8321429 | AG31: 77.631579 | AH31: 64.705882 | AI31: 86.153846 | AJ31: 78.571429 | AK31: 60.377358 | AL31: 73.684211 | AM31: 83.333333
A32: 31 | B32: LICEUL TEORETIC "SFÂNTUL IERARH NICOLAE" ARAD | C32: ARAD | D32: URBAN | J32: 11 | K32: 15 | Q32: 8.1863636 | R32: 8.0733333 | X32: 8.5590909 | Y32: 8.2166667 | AE32: 7.8181818 | AF32: 7.9366667 | AL32: 100 | AM32: 93.333333
A33: 32 | B33: LICEUL TEORETIC CERMEI | C33: CERMEI | D33: RURAL | E33: 17 | F33: 20 | G33: 19 | H33: 20 | I33: 15 | J33: 9 | K33: 14 | L33: 4.0829412 | M33: 5.197 | N33: 6.4273684 | O33: 5.5995 | P33: 5.0693333 | Q33: 5.1055556 | R33: 5.3685714 | S33: 4.2352941 | T33: 5.5575 | U33: 6.7894737 | V33: 5.585 | W33: 4.9033333 | X33: 5.2833333 | Y33: 5.6714286 | Z33: 3.9352941 | AA33: 4.84 | AB33: 6.0684211 | AC33: 5.62 | AD33: 5.24 | AE33: 4.9333333 | AF33: 5.0678571 | AG33: 35.294118 | AH33: 60 | AI33: 78.947368 | AJ33: 50 | AK33: 46.666667 | AL33: 66.666667 | AM33: 64.285714
A34: 33 | B34: LICEUL TEORETIC PÂNCOTA | C34: PÂNCOTA | D34: URBAN | E34: 70 | F34: 47 | G34: 72 | H34: 69 | I34: 59 | J34: 61 | K34: 60 | L34: 5.6625714 | M34: 5.447234 | N34: 5.4769444 | O34: 5.3875362 | P34: 5.5427119 | Q34: 5.3321311 | R34: 5.5526667 | S34: 6.4071429 | T34: 5.9702128 | U34: 5.7777778 | V34: 5.4268116 | W34: 5.95 | X34: 5.852459 | Y34: 5.8016667 | Z34: 4.9235714 | AA34: 4.9287234 | AB34: 5.1798611 | AC34: 5.3528986 | AD34: 5.1398305 | AE34: 4.8172131 | AF34: 5.3083333 | AG34: 61.428571 | AH34: 55.319149 | AI34: 52.777778 | AJ34: 52.173913 | AK34: 57.627119 | AL34: 57.377049 | AM34: 61.666667
A35: 34 | B35: LICEUL TEORETIC SEBIŞ | C35: SEBIŞ | D35: URBAN | E35: 65 | F35: 46 | G35: 63 | H35: 42 | I35: 85 | J35: 53 | K35: 47 | L35: 6.7273846 | M35: 6.7680435 | N35: 6.3971429 | O35: 6.8095238 | P35: 6.5982353 | Q35: 6.960566 | R35: 6.9542553 | S35: 7.2884615 | T35: 7.098913 | U35: 6.8587302 | V35: 6.9416667 | W35: 6.8005882 | X35: 7.2990566 | Y35: 7.3414894 | Z35: 6.1715385 | AA35: 6.4423913 | AB35: 5.9396825 | AC35: 6.6833333 | AD35: 6.4 | AE35: 6.6264151 | AF35: 6.5712766 | AG35: 76.923077 | AH35: 93.478261 | AI35: 84.126984 | AJ35: 78.571429 | AK35: 83.529412 | AL35: 84.90566 | AM35: 85.106383
A36: 35 | B36: ŞCOALA GIMNAZIALĂ "ADAM MULLER GUTTENBRUNN" ZĂBRANI | C36: CHESINŢ | D36: RURAL | E36: 37 | F36: 26 | G36: 31 | H36: 30 | I36: 12 | J36: 22 | K36: 31 | L36: 5.7945946 | M36: 5.9861538 | N36: 5.5825806 | O36: 5.021 | P36: 5.5025 | Q36: 5.7718182 | R36: 6.0583871 | S36: 6.622973 | T36: 6.9423077 | U36: 6.4596774 | V36: 5.3366667 | W36: 6.3041667 | X36: 6.4863636 | Y36: 6.5806452 | Z36: 4.9689189 | AA36: 5.0346154 | AB36: 4.7112903 | AC36: 4.71 | AD36: 4.7041667 | AE36: 5.0613636 | AF36: 5.5403226 | AG36: 62.162162 | AH36: 73.076923 | AI36: 58.064516 | AJ36: 53.333333 | AK36: 66.666667 | AL36: 68.181818 | AM36: 70.967742
A37: 36 | B37: ŞCOALA GIMNAZIALĂ "ADAM NICOLAE" ARAD | C37: ARAD | D37: URBAN | E37: 18 | F37: 8 | G37: 10 | H37: 16 | I37: 9 | J37: 5 | L37: 6.2211111 | M37: 5.66625 | N37: 5.648 | O37: 5.489375 | P37: 5.4066667 | Q37: 6.598 | S37: 7.1166667 | T37: 5.5875 | U37: 5.965 | V37: 5.53125 | W37: 5.2 | X37: 7.72 | Z37: 5.3305556 | AA37: 5.75 | AB37: 5.335 | AC37: 5.453125 | AD37: 5.6166667 | AE37: 5.48 | AG37: 72.222222 | AH37: 62.5 | AI37: 70 | AJ37: 56.25 | AK37: 66.666667 | AL37: 100
A38: 37 | B38: ŞCOALA GIMNAZIALĂ "ALEXANDRU MOCIONI" BIRCHIŞ | C38: BIRCHIŞ | D38: RURAL | E38: 13 | F38: 13 | G38: 16 | H38: 8 | I38: 11 | J38: 11 | K38: 5 | L38: 5.9276923 | M38: 5.6538462 | N38: 5.213125 | O38: 5.01 | P38: 4.1581818 | Q38: 4.4990909 | R38: 4.438 | S38: 6.9269231 | T38: 6.4115385 | U38: 5.221875 | V38: 5.64375 | W38: 4.5409091 | X38: 5.1636364 | Y38: 4.19 | Z38: 4.9307692 | AA38: 4.9 | AB38: 5.209375 | AC38: 4.38125 | AD38: 3.7818182 | AE38: 3.8409091 | AF38: 4.69 | AG38: 61.538462 | AH38: 61.538462 | AI38: 37.5 | AJ38: 50 | AK38: 9.0909091 | AL38: 45.454545 | AM38: 40
A39: 38 | B39: ŞCOALA GIMNAZIALĂ "ANDREI ŞAGUNA" ANDREI ŞAGUNA | C39: ANDREI ŞAGUNA | D39: RURAL | E39: 21 | F39: 14 | G39: 17 | H39: 15 | I39: 13 | J39: 26 | K39: 13 | L39: 6.2480952 | M39: 6.1635714 | N39: 6.5823529 | O39: 5.8373333 | P39: 6.0684615 | Q39: 6.4780769 | R39: 5.45 | S39: 6.8690476 | T39: 6.1964286 | U39: 7.0617647 | V39: 6.1066667 | W39: 6.1461538 | X39: 6.7980769 | Y39: 5.7730769 | Z39: 5.6309524 | AA39: 6.1357143 | AB39: 6.1058824 | AC39: 5.5733333 | AD39: 5.9961538 | AE39: 6.1634615 | AF39: 5.1307692 | AG39: 61.904762 | AH39: 64.285714 | AI39: 76.470588 | AJ39: 53.333333 | AK39: 69.230769 | AL39: 76.923077 | AM39: 53.846154
A40: 39 | B40: ŞCOALA GIMNAZIALĂ "ARON COTRUŞ" ARAD | C40: ARAD | D40: URBAN | E40: 77 | F40: 55 | G40: 61 | H40: 60 | I40: 48 | J40: 65 | K40: 58 | L40: 6.6824675 | M40: 6.5316364 | N40: 7.007541 | O40: 7.0595 | P40: 7.144375 | Q40: 6.7166154 | R40: 6.982931 | S40: 7.3155844 | T40: 7.0290909 | U40: 7.5245902 | V40: 7.0791667 | W40: 7.5625 | X40: 7.2776923 | Y40: 7.1275862 | Z40: 6.0545455 | AA40: 6.0390909 | AB40: 6.495082 | AC40: 7.0441667 | AD40: 6.7291667 | AE40: 6.16 | AF40: 6.8431034 | AG40: 76.623377 | AH40: 89.090909 | AI40: 93.442623 | AJ40: 85 | AK40: 83.333333 | AL40: 84.615385 | AM40: 86.206897
A41: 40 | B41: ŞCOALA GIMNAZIALĂ "AUREL SEBEŞAN" FELNAC | C41: FELNAC | D41: RURAL | E41: 21 | F41: 17 | G41: 20 | H41: 15 | I41: 7 | J41: 18 | K41: 16 | L41: 7.2685714 | M41: 5.2382353 | N41: 5.2185 | O41: 5.47 | P41: 3.9671429 | Q41: 6.2238889 | R41: 4.671875 | S41: 8.1261905 | T41: 5.9235294 | U41: 5.6375 | V41: 5.43 | W41: 4.5 | X41: 6.8666667 | Y41: 4.9375 | Z41: 6.4166667 | AA41: 4.5588235 | AB41: 4.8025 | AC41: 5.5133333 | AD41: 3.4357143 | AE41: 5.5861111 | AF41: 4.4125 | AG41: 90.47619 | AH41: 58.823529 | AI41: 45 | AJ41: 60 | AK41: 14.285714 | AL41: 61.111111 | AM41: 43.75
A42: 41 | B42: ŞCOALA GIMNAZIALĂ "AUREL VLAICU" ARAD | C42: ARAD | D42: URBAN | E42: 130 | F42: 72 | G42: 159 | H42: 120 | I42: 115 | J42: 110 | K42: 137 | L42: 7.3410769 | M42: 7.2581944 | N42: 7.3484906 | O42: 6.9120833 | P42: 6.5523478 | Q42: 7.5840909 | R42: 6.6145985 | S42: 8.0596154 | T42: 7.9395833 | U42: 7.9103774 | V42: 7.1179167 | W42: 6.9269565 | X42: 7.9736364 | Y42: 6.950365 | Z42: 6.5646154 | AA42: 6.58125 | AB42: 6.7320755 | AC42: 6.6470833 | AD42: 6.0573913 | AE42: 7.1995455 | AF42: 6.2492701 | AG42: 90 | AH42: 91.666667 | AI42: 95.597484 | AJ42: 80.833333 | AK42: 81.73913 | AL42: 93.636364 | AM42: 83.941606
A43: 42 | B43: ŞCOALA GIMNAZIALĂ "AVRAM IANCU" ARAD | C43: ARAD | D43: URBAN | E43: 59 | F43: 38 | G43: 60 | H43: 59 | I43: 57 | J43: 52 | K43: 67 | L43: 7.2513559 | M43: 6.5147368 | N43: 6.8283333 | O43: 6.9661017 | P43: 6.6485965 | Q43: 7.0515385 | R43: 6.9313433 | S43: 7.8669492 | T43: 6.9592105 | U43: 7.2433333 | V43: 7.3144068 | W43: 7.054386 | X43: 7.4788462 | Y43: 7.0358209 | Z43: 6.640678 | AA43: 6.075 | AB43: 6.4183333 | AC43: 6.6228814 | AD43: 6.2482456 | AE43: 6.6288462 | AF43: 6.8313433 | AG43: 89.830508 | AH43: 89.473684 | AI43: 90 | AJ43: 88.135593 | AK43: 91.22807 | AL43: 96.153846 | AM43: 92.537313
A44: 43 | B44: ŞCOALA GIMNAZIALĂ "CAIUS IACOB" ARAD | C44: ARAD | D44: URBAN | E44: 71 | F44: 49 | G44: 69 | H44: 86 | I44: 86 | J44: 93 | K44: 80 | L44: 6.7814085 | M44: 6.8216327 | N44: 7.4330435 | O44: 7.4288372 | P44: 6.9304651 | Q44: 7.3894624 | R44: 6.927125 | S44: 7.3401408 | T44: 7.1734694 | U44: 7.5594203 | V44: 7.3936047 | W44: 7.0988372 | X44: 7.6129032 | Y44: 7.19125 | Z44: 6.2288732 | AA44: 6.4734694 | AB44: 7.3108696 | AC44: 7.4686047 | AD44: 6.7674419 | AE44: 7.1704301 | AF44: 6.66875 | AG44: 78.873239 | AH44: 79.591837 | AI44: 94.202899 | AJ44: 89.534884 | AK44: 87.209302 | AL44: 89.247312 | AM44: 91.25
A45: 44 | B45: ŞCOALA GIMNAZIALĂ "CORNELIU MICLOȘI" COVĂSÂNŢ | C45: COVĂSINŢ | D45: RURAL | E45: 17 | F45: 11 | G45: 14 | H45: 12 | I45: 12 | J45: 10 | K45: 14 | L45: 6.3352941 | M45: 6.2181818 | N45: 6.8135714 | O45: 5.9083333 | P45: 5.9233333 | Q45: 5.513 | R45: 5.6064286 | S45: 7.0441176 | T45: 7.2545455 | U45: 7.7571429 | V45: 6.4416667 | W45: 6.4125 | X45: 6.035 | Y45: 6.3892857 | Z45: 5.6294118 | AA45: 5.1863636 | AB45: 5.875 | AC45: 5.3833333 | AD45: 5.4375 | AE45: 4.995 | AF45: 4.8285714 | AG45: 76.470588 | AH45: 81.818182 | AI45: 85.714286 | AJ45: 66.666667 | AK45: 75 | AL45: 60 | AM45: 64.285714
A46: 45 | B46: ŞCOALA GIMNAZIALĂ "CRISTIAN HERBEI" VĂRĂDIA DE MUREŞ | C46: VĂRĂDIA DE MUREŞ | D46: RURAL | E46: 11 | F46: 13 | G46: 13 | H46: 13 | I46: 9 | J46: 7 | K46: 9 | L46: 6.0727273 | M46: 4.8607692 | N46: 5.7453846 | O46: 5.2453846 | P46: 5.1277778 | Q46: 4.93 | R46: 5.5566667 | S46: 6.8409091 | T46: 5.2153846 | U46: 6.2884615 | V46: 5.2 | W46: 4.8222222 | X46: 5.0571429 | Y46: 5.6666667 | Z46: 5.3090909 | AA46: 4.5115385 | AB46: 5.2076923 | AC46: 5.2961538 | AD46: 5.4333333 | AE46: 4.8071429 | AF46: 5.45 | AG46: 72.727273 | AH46: 30.769231 | AI46: 76.923077 | AJ46: 53.846154 | AK46: 44.444444 | AL46: 42.857143 | AM46: 66.666667
A47: 46 | B47: ŞCOALA GIMNAZIALĂ "DR.IOAN DANICICO" SEMLAC | C47: SEMLAC | D47: RURAL | E47: 33 | F47: 24 | G47: 22 | H47: 15 | I47: 31 | J47: 20 | K47: 21 | L47: 5.3106061 | M47: 5.6570833 | N47: 5.8263636 | O47: 5.784 | P47: 5.5293548 | Q47: 6.8485 | R47: 6.62 | S47: 5.4318182 | T47: 6.1875 | U47: 6 | V47: 5.5233333 | W47: 5.55 | X47: 7.155 | Y47: 6.9619048 | Z47: 5.1939394 | AA47: 5.13125 | AB47: 5.6568182 | AC47: 6.05 | AD47: 5.5129032 | AE47: 6.545 | AF47: 6.2833333 | AG47: 51.515152 | AH47: 54.166667 | AI47: 77.272727 | AJ47: 66.666667 | AK47: 64.516129 | AL47: 100 | AM47: 95.238095
A48: 47 | B48: ŞCOALA GIMNAZIALĂ "EMIL MONŢIA" ŞICULA | C48: ŞICULA | D48: RURAL | E48: 25 | F48: 9 | G48: 25 | H48: 17 | I48: 18 | J48: 18 | K48: 21 | L48: 6.9116 | M48: 5.7977778 | N48: 6.8216 | O48: 5.9547059 | P48: 6.5444444 | Q48: 6.1194444 | R48: 5.8585714 | S48: 7.612 | T48: 6.9 | U48: 7.358 | V48: 6.6676471 | W48: 7.4833333 | X48: 6.9888889 | Y48: 6.3738095 | Z48: 6.218 | AA48: 4.7 | AB48: 6.29 | AC48: 5.2441176 | AD48: 5.6083333 | AE48: 5.2555556 | AF48: 5.347619 | AG48: 80 | AH48: 77.777778 | AI48: 80 | AJ48: 76.470588 | AK48: 83.333333 | AL48: 77.777778 | AM48: 66.666667
A49: 48 | B49: ŞCOALA GIMNAZIALĂ "GABRIEL BROLA" BUTENI | C49: BUTENI | D49: RURAL | E49: 19 | F49: 6 | G49: 19 | H49: 16 | I49: 17 | J49: 13 | K49: 17 | L49: 6.8394737 | M49: 6.3616667 | N49: 5.8215789 | O49: 5.515 | P49: 4.9741176 | Q49: 4.9561538 | R49: 6.3311765 | S49: 7.8 | T49: 7.2583333 | U49: 6.8684211 | V49: 5.865625 | W49: 5.5617647 | X49: 5.7692308 | Y49: 6.6029412 | Z49: 5.8842105 | AA49: 5.4666667 | AB49: 4.7789474 | AC49: 5.16875 | AD49: 4.3911765 | AE49: 4.1461538 | AF49: 6.0647059 | AG49: 84.210526 | AH49: 83.333333 | AI49: 68.421053 | AJ49: 50 | AK49: 41.176471 | AL49: 53.846154 | AM49: 82.352941
A50: 49 | B50: ŞCOALA GIMNAZIALĂ "GHEORGHE GROZA" MONEASA | C50: MONEASA | D50: RURAL | F50: 2 | G50: 4 | H50: 2 | I50: 3 | K50: 1 | M50: 5.135 | N50: 7.6875 | O50: 8.235 | P50: 6.84 | R50: 6.32 | T50: 6.425 | U50: 8.225 | V50: 7.675 | W50: 6.7833333 | Y50: 6.75 | AA50: 3.85 | AB50: 7.15 | AC50: 8.8 | AD50: 6.9 | AF50: 5.9 | AH50: 100 | AI50: 75 | AJ50: 100 | AK50: 100 | AM50: 100
A51: 50 | B51: ŞCOALA GIMNAZIALĂ "GHEORGHE POPOVICI" APATEU | C51: APATEU | D51: RURAL | E51: 23 | F51: 19 | G51: 23 | H51: 28 | I51: 31 | J51: 14 | K51: 19 | L51: 6.2286957 | M51: 5.8436842 | N51: 6.2795652 | O51: 5.7810714 | P51: 6.0335484 | Q51: 7.1514286 | R51: 5.9363158 | S51: 6.9913043 | T51: 6.7394737 | U51: 6.5586957 | V51: 6.0464286 | W51: 6.6532258 | X51: 7.6428571 | Y51: 6.5157895 | Z51: 5.4695652 | AA51: 4.95 | AB51: 6.0043478 | AC51: 5.5196429 | AD51: 5.4193548 | AE51: 6.6642857 | AF51: 5.3631579 | AG51: 60.869565 | AH51: 63.157895 | AI51: 86.956522 | AJ51: 60.714286 | AK51: 74.193548 | AL51: 85.714286 | AM51: 73.684211
A52: 51 | B52: ŞCOALA GIMNAZIALĂ "ILARION FELEA" ARAD | C52: ARAD | D52: URBAN | E52: 4 | G52: 5 | H52: 11 | I52: 8 | J52: 8 | L52: 4.2025 | N52: 4.342 | O52: 4.1263636 | P52: 3.33625 | Q52: 4.1875 | S52: 5.1375 | U52: 4.27 | V52: 3.8909091 | W52: 3.6125 | X52: 4.5 | Z52: 3.275 | AB52: 4.42 | AC52: 4.3681818 | AD52: 3.0625 | AE52: 3.88125 | AG52: 25 | AI52: 0 | AJ52: 18.181818 | AK52: 12.5 | AL52: 25
A53: 52 | B53: ŞCOALA GIMNAZIALĂ "IOAN SLAVICI" ŞIRIA | C53: GALŞA | D53: RURAL | E53: 43 | F53: 33 | G53: 36 | H53: 65 | I53: 51 | J53: 36 | K53: 37 | L53: 5.4504651 | M53: 6.4118182 | N53: 6.7502778 | O53: 5.9018462 | P53: 5.9184314 | Q53: 5.235 | R53: 5.6835135 | S53: 6.1267442 | T53: 6.9181818 | U53: 7.25 | V53: 5.9484615 | W53: 6.7294118 | X53: 5.9444444 | Y53: 5.8608108 | Z53: 4.7790698 | AA53: 5.9090909 | AB53: 6.2541667 | AC53: 5.86 | AD53: 5.1127451 | AE53: 4.5291667 | AF53: 5.5108108 | AG53: 53.488372 | AH53: 78.787879 | AI53: 80.555556 | AJ53: 63.076923 | AK53: 66.666667 | AL53: 55.555556 | AM53: 54.054054
A54: 53 | B54: ŞCOALA GIMNAZIALĂ "IOSIF MOLDOVAN" ARAD | C54: ARAD | D54: URBAN | E54: 33 | F54: 15 | G54: 28 | H54: 28 | I54: 18 | J54: 18 | K54: 34 | L54: 4.8693939 | M54: 5.06 | N54: 5.5346429 | O54: 4.6157143 | P54: 5.0188889 | Q54: 4.5916667 | R54: 5.1229412 | S54: 5.3954545 | T54: 5.97 | U54: 6.0678571 | V54: 4.6714286 | W54: 5.4111111 | X54: 4.6805556 | Y54: 5.2617647 | Z54: 4.3484848 | AA54: 4.1533333 | AB54: 5.0053571 | AC54: 4.5660714 | AD54: 4.6333333 | AE54: 4.5083333 | AF54: 4.9882353 | AG54: 48.484848 | AH54: 60 | AI54: 60.714286 | AJ54: 32.142857 | AK54: 55.555556 | AL54: 33.333333 | AM54: 47.058824
A55: 54 | B55: ŞCOALA GIMNAZIALĂ "IUSTIN MARȘIEU" SOCODOR | C55: SOCODOR | D55: RURAL | E55: 19 | F55: 17 | G55: 23 | H55: 22 | I55: 16 | J55: 17 | K55: 15 | L55: 4.1826316 | M55: 5.1164706 | N55: 5.0391304 | O55: 4.8809091 | P55: 5.0525 | Q55: 5.49 | R55: 5.508 | S55: 4.5315789 | T55: 5.6176471 | U55: 5.2217391 | V55: 4.8636364 | W55: 4.95 | X55: 5.4882353 | Y55: 5.6133333 | Z55: 3.8394737 | AA55: 4.6205882 | AB55: 4.8608696 | AC55: 4.9022727 | AD55: 5.159375 | AE55: 5.4941176 | AF55: 5.41 | AG55: 31.578947 | AH55: 47.058824 | AI55: 39.130435 | AJ55: 31.818182 | AK55: 43.75 | AL55: 58.823529 | AM55: 60
A56: 55 | B56: ŞCOALA GIMNAZIALĂ "LAZĂR TÂMPA" ALMAŞ | C56: ALMAŞ | D56: RURAL | E56: 22 | F56: 13 | G56: 18 | H56: 18 | I56: 9 | J56: 18 | K56: 18 | L56: 5.9613636 | M56: 4.8 | N56: 6.1755556 | O56: 6.5783333 | P56: 6.1333333 | Q56: 5.585 | R56: 5.53 | S56: 6.4886364 | T56: 5.3884615 | U56: 6.7 | V56: 6.6055556 | W56: 6.35 | X56: 6.075 | Y56: 5.9777778 | Z56: 5.4386364 | AA56: 4.2153846 | AB56: 5.6555556 | AC56: 6.5555556 | AD56: 5.9222222 | AE56: 5.1 | AF56: 5.0888889 | AG56: 63.636364 | AH56: 46.153846 | AI56: 77.777778 | AJ56: 83.333333 | AK56: 88.888889 | AL56: 61.111111 | AM56: 55.555556
A57: 56 | B57: ŞCOALA GIMNAZIALĂ "MIHAI EMINESCU" ARAD | C57: ARAD | D57: URBAN | E57: 45 | F57: 18 | G57: 33 | H57: 44 | I57: 50 | J57: 39 | K57: 45 | L57: 6.7246667 | M57: 5.8927778 | N57: 6.280303 | O57: 6.7620455 | P57: 6.4694 | Q57: 6.5628205 | R57: 6.2457778 | S57: 7.1333333 | T57: 6.3638889 | U57: 6.4075758 | V57: 6.7988636 | W57: 6.704 | X57: 6.8961538 | Y57: 6.6866667 | Z57: 6.32 | AA57: 5.425 | AB57: 6.1590909 | AC57: 6.7295455 | AD57: 6.238 | AE57: 6.2333333 | AF57: 5.81 | AG57: 91.111111 | AH57: 66.666667 | AI57: 81.818182 | AJ57: 79.545455 | AK57: 82 | AL57: 82.051282 | AM57: 73.333333
A58: 57 | B58: ŞCOALA GIMNAZIALĂ "MIHAI VELICIU" SEPREUŞ | C58: ŞEPREUŞ | D58: RURAL | E58: 19 | F58: 9 | G58: 13 | H58: 17 | I58: 14 | J58: 16 | K58: 17 | L58: 5.8452632 | M58: 5.7788889 | N58: 4.8130769 | O58: 5.3917647 | P58: 5.925 | Q58: 4.851875 | R58: 5.6617647 | S58: 6.6763158 | T58: 6.0111111 | U58: 4.8653846 | V58: 5.5176471 | W58: 5.5642857 | X58: 5.25 | Y58: 5.9 | Z58: 5.0184211 | AA58: 5.55 | AB58: 4.7653846 | AC58: 5.2705882 | AD58: 6.2892857 | AE58: 4.459375 | AF58: 5.4294118 | AG58: 57.894737 | AH58: 66.666667 | AI58: 30.769231 | AJ58: 52.941176 | AK58: 64.285714 | AL58: 37.5 | AM58: 64.705882
A59: 58 | B59: ŞCOALA GIMNAZIALĂ "MORA FERENC" ZIMANDU NOU | C59: ZIMANDU NOU | D59: RURAL | E59: 4 | F59: 4 | G59: 2 | J59: 1 | K59: 4 | L59: 5.74 | M59: 5.51 | N59: 5.105 | Q59: 7.13 | R59: 6.54 | S59: 5.8875 | T59: 5.69 | U59: 5.275 | X59: 5.9 | Y59: 6.525 | Z59: 4.65 | AA59: 3.6 | AB59: 4.05 | AE59: 7.25 | AF59: 5.2 | AG59: 100 | AH59: 75 | AI59: 50 | AL59: 100 | AM59: 75
A60: 59 | B60: ŞCOALA GIMNAZIALĂ "NICOLAE BĂLCESCU" ARAD | C60: ARAD | D60: URBAN | E60: 50 | F60: 35 | G60: 41 | H60: 44 | I60: 44 | J60: 38 | L60: 6.3004 | M60: 5.5985714 | N60: 6.4282927 | O60: 6.2206818 | P60: 6.1411364 | Q60: 6.39 | S60: 7.074 | T60: 5.7685714 | U60: 6.9097561 | V60: 6.2386364 | W60: 6.575 | X60: 6.8815789 | Z60: 5.53 | AA60: 5.4314286 | AB60: 5.9512195 | AC60: 6.2079545 | AD60: 5.7125 | AE60: 5.9026316 | AG60: 84 | AH60: 68.571429 | AI60: 80.487805 | AJ60: 75 | AK60: 77.272727 | AL60: 89.473684
A61: 60 | B61: ŞCOALA GIMNAZIALĂ "OLOSZ LAJOS" ADEA | C61: ADEA | D61: RURAL | E61: 9 | F61: 4 | G61: 3 | H61: 7 | I61: 3 | J61: 7 | K61: 8 | L61: 4.9466667 | M61: 3.58 | N61: 6.51 | O61: 4.5385714 | P61: 4.6766667 | Q61: 6.7471429 | R61: 4.89875 | S61: 4.4611111 | T61: 3.4625 | U61: 5.8333333 | V61: 3.3142857 | W61: 4.45 | X61: 5.9857143 | Y61: 4.05 | Z61: 4.6444444 | AA61: 3.15 | AB61: 5.6833333 | AC61: 4.7357143 | AD61: 3.4 | AE61: 6.2928571 | AF61: 4.5625 | AG61: 44.444444 | AH61: 0 | AI61: 66.666667 | AJ61: 14.285714 | AK61: 33.333333 | AL61: 85.714286 | AM61: 50
A62: 61 | B62: ŞCOALA GIMNAZIALĂ "ORMÓS ZSIGMOND" PECICA | C62: PECICA | D62: URBAN | E62: 31 | F62: 16 | G62: 35 | H62: 26 | I62: 44 | J62: 27 | K62: 33 | L62: 4.9635484 | M62: 5.254375 | N62: 5.67 | O62: 4.3803846 | P62: 5.4831818 | Q62: 5.7951852 | R62: 5.1618182 | S62: 5.1370968 | T62: 5.60125 | U62: 5.7885714 | V62: 4.0134615 | W62: 5.7636364 | X62: 6.0018519 | Y62: 5.3757576 | Z62: 4.2532258 | AA62: 4.446875 | AB62: 5.0357143 | AC62: 4.2423077 | AD62: 4.5863636 | AE62: 5.0314815 | AF62: 4.3484848 | AG62: 45.16129 | AH62: 56.25 | AI62: 71.428571 | AJ62: 34.615385 | AK62: 61.363636 | AL62: 66.666667 | AM62: 63.636364
A63: 62 | B63: ŞCOALA GIMNAZIALĂ "PATER GODO MIHALY" DOROBANŢI | C63: DOROBANŢI | D63: RURAL | E63: 9 | F63: 10 | G63: 14 | H63: 6 | I63: 8 | J63: 9 | K63: 13 | L63: 6.6044444 | M63: 6.813 | N63: 6.4578571 | O63: 5.4583333 | P63: 6.15 | Q63: 6.2188889 | R63: 5.5923077 | S63: 5.9777778 | T63: 5.183 | U63: 4.5607143 | V63: 4.5916667 | W63: 5.3125 | X63: 5.25 | Y63: 5.1615385 | Z63: 6.1 | AA63: 7.22 | AB63: 6.6214286 | AC63: 5.2583333 | AD63: 5.3375 | AE63: 5.6111111 | AF63: 4.8192308 | AG63: 88.888889 | AH63: 80 | AI63: 92.857143 | AJ63: 50 | AK63: 87.5 | AL63: 66.666667 | AM63: 53.846154
A64: 63 | B64: ŞCOALA GIMNAZIALĂ "PATRICHIE POPESCU" BATA | C64: BATA | D64: RURAL | E64: 11 | F64: 8 | G64: 10 | H64: 11 | I64: 13 | J64: 6 | K64: 10 | L64: 4.6318182 | M64: 4.895 | N64: 5.515 | O64: 4.5254545 | P64: 4.9284615 | Q64: 5.4216667 | R64: 5.301 | S64: 5.0318182 | T64: 5.4875 | U64: 5.885 | V64: 4.3363636 | W64: 5.15 | X64: 5.675 | Y64: 5.635 | Z64: 4.2363636 | AA64: 4.30625 | AB64: 5.15 | AC64: 4.7181818 | AD64: 4.7115385 | AE64: 5.175 | AF64: 4.975 | AG64: 45.454545 | AH64: 25 | AI64: 60 | AJ64: 36.363636 | AK64: 38.461538 | AL64: 50 | AM64: 50
A65: 64 | B65: ŞCOALA GIMNAZIALĂ "PAVEL COVACI" MACEA | C65: MACEA | D65: RURAL | E65: 33 | F65: 39 | G65: 38 | H65: 25 | I65: 43 | J65: 43 | K65: 48 | L65: 5.2663636 | M65: 4.6933333 | N65: 5.6573684 | O65: 5.0492 | P65: 4.8686047 | Q65: 5.4481395 | R65: 5.0372917 | S65: 5.8772727 | T65: 5.224359 | U65: 6.0578947 | V65: 5.122 | W65: 5.3581395 | X65: 5.9325581 | Y65: 5.5677083 | Z65: 4.6590909 | AA65: 4.1666667 | AB65: 5.2605263 | AC65: 4.982 | AD65: 4.3848837 | AE65: 4.9697674 | AF65: 4.5114583 | AG65: 45.454545 | AH65: 41.025641 | AI65: 60.526316 | AJ65: 44 | AK65: 44.186047 | AL65: 62.790698 | AM65: 47.916667
A66: 65 | B66: ŞCOALA GIMNAZIALĂ "PĂDURENI" CHIŞINEU CRIŞ | C66: CHIŞINEU-CRIŞ | D66: URBAN | E66: 6 | F66: 2 | G66: 5 | H66: 5 | I66: 8 | J66: 8 | K66: 10 | L66: 6.2383333 | M66: 4.865 | N66: 3.826 | O66: 2.884 | P66: 3.22625 | Q66: 3.0075 | R66: 3.259 | S66: 5.5833333 | T66: 4.4 | U66: 3.55 | V66: 2.34 | W66: 3.1875 | X66: 2.15 | Y66: 2.715 | Z66: 6.4833333 | AA66: 3.8 | AB66: 3.25 | AC66: 3.32 | AD66: 2.5625 | AE66: 3.19375 | AF66: 3.105 | AG66: 83.333333 | AH66: 50 | AI66: 20 | AJ66: 0 | AK66: 0 | AL66: 0 | AM66: 0
A67: 66 | B67: ŞCOALA GIMNAZIALĂ "ROMUL MOTORCA" AGRIŞU MARE | C67: AGRIŞU MARE | D67: RURAL | E67: 24 | F67: 14 | G67: 30 | H67: 13 | I67: 20 | J67: 25 | L67: 5.905 | M67: 4.5121429 | N67: 5.245 | O67: 6.0676923 | P67: 4.795 | Q67: 6.1792 | S67: 6.99375 | T67: 4.6821429 | U67: 5.6283333 | V67: 6.6461538 | W67: 5.475 | X67: 6.214 | Z67: 4.8208333 | AA67: 4.3464286 | AB67: 4.8666667 | AC67: 5.4961538 | AD67: 4.12 | AE67: 6.15 | AG67: 75 | AH67: 42.857143 | AI67: 60 | AJ67: 61.538462 | AK67: 30 | AL67: 76
A68: 67 | B68: ŞCOALA GIMNAZIALĂ "SABIN DRĂGOI" PETRIŞ | C68: PETRIŞ | D68: RURAL | E68: 9 | F68: 6 | G68: 10 | H68: 16 | I68: 11 | J68: 9 | K68: 8 | L68: 6.79 | M68: 6.3233333 | N68: 5.037 | O68: 5.86 | P68: 4.47 | Q68: 5.1 | R68: 5.5625 | S68: 7.6055556 | T68: 6.9916667 | U68: 5.775 | V68: 5.7 | W68: 4.9 | X68: 5.2444444 | Y68: 5.51875 | Z68: 5.9777778 | AA68: 5.6583333 | AB68: 4.305 | AC68: 6.025 | AD68: 4.0454545 | AE68: 4.9611111 | AF68: 5.6125 | AG68: 88.888889 | AH68: 66.666667 | AI68: 40 | AJ68: 68.75 | AK68: 27.272727 | AL68: 44.444444 | AM68: 50
A69: 68 | B69: ŞCOALA GIMNAZIALĂ "SABIN MANUILĂ" SÎMBĂTENI | C69: SÂMBĂTENI | D69: RURAL | E69: 10 | F69: 10 | G69: 15 | H69: 11 | I69: 16 | J69: 8 | L69: 6.947 | M69: 5.416 | N69: 7.218 | O69: 6.2545455 | P69: 5.91375 | Q69: 5.865 | S69: 7.605 | T69: 6.275 | U69: 7.6366667 | V69: 6.5863636 | W69: 5.809375 | X69: 5.91875 | Z69: 6.295 | AA69: 4.56 | AB69: 6.8033333 | AC69: 5.9272727 | AD69: 6.021875 | AE69: 5.81875 | AG69: 80 | AH69: 80 | AI69: 93.333333 | AJ69: 72.727273 | AK69: 81.25 | AL69: 62.5
A70: 69 | B70: ŞCOALA GIMNAZIALĂ "SIMONYI IMRE" SATU NOU | C70: SATU NOU | D70: RURAL | E70: 10 | F70: 7 | G70: 6 | H70: 6 | I70: 3 | J70: 9 | K70: 5 | L70: 6.05 | M70: 6.1685714 | N70: 5.4783333 | O70: 4.8016667 | P70: 6.08 | Q70: 5.6877778 | R70: 4.132 | S70: 4.59 | T70: 5.24 | U70: 4.4166667 | V70: 3.9916667 | W70: 5.3333333 | X70: 4.9388889 | Y70: 3.75 | Z70: 5.64 | AA70: 6.0071429 | AB70: 4.6916667 | AC70: 4.775 | AD70: 4.7 | AE70: 4.9722222 | AF70: 4.14 | AG70: 80 | AH70: 71.428571 | AI70: 66.666667 | AJ70: 50 | AK70: 66.666667 | AL70: 88.888889 | AM70: 20
A71: 70 | B71: ŞCOALA GIMNAZIALĂ "TABAJDI KAROLY" ZERIND | C71: ZERIND | D71: RURAL | E71: 6 | F71: 6 | G71: 8 | H71: 9 | I71: 6 | J71: 6 | K71: 11 | L71: 5.83 | M71: 6.0233333 | N71: 4.79375 | O71: 6.5688889 | P71: 5.3266667 | Q71: 6.1166667 | R71: 5.4572727 | S71: 4.5666667 | T71: 5.005 | U71: 2.8 | V71: 4.6555556 | W71: 3.8333333 | X71: 4.725 | Y71: 4.45 | Z71: 5.35 | AA71: 5.4833333 | AB71: 4.775 | AC71: 6.8388889 | AD71: 5.075 | AE71: 5.375 | AF71: 4.5681818 | AG71: 66.666667 | AH71: 100 | AI71: 25 | AJ71: 88.888889 | AK71: 66.666667 | AL71: 100 | AM71: 72.727273
A72: 71 | B72: ŞCOALA GIMNAZIALĂ "TEODOR PĂCĂŢIAN" USUSĂU | C72: USUSĂU | D72: RURAL | E72: 16 | F72: 22 | G72: 12 | H72: 8 | I72: 11 | J72: 13 | K72: 11 | L72: 4.535 | M72: 4.9136364 | N72: 4.7325 | O72: 4.05625 | P72: 4.55 | Q72: 5.4576923 | R72: 4.1863636 | S72: 4.53125 | T72: 4.9795455 | U72: 4.6125 | V72: 3.875 | W72: 5.1090909 | X72: 5.7807692 | Y72: 4.3318182 | Z72: 4.54375 | AA72: 4.8522727 | AB72: 4.8583333 | AC72: 4.24375 | AD72: 3.9954545 | AE72: 5.1423077 | AF72: 4.0454545 | AG72: 50 | AH72: 50 | AI72: 16.666667 | AJ72: 25 | AK72: 27.272727 | AL72: 69.230769 | AM72: 18.181818
A73: 72 | B73: ŞCOALA GIMNAZIALĂ "VASILE POP" BOCSIG | C73: BOCSIG | D73: RURAL | E73: 14 | F73: 11 | G73: 15 | H73: 11 | I73: 19 | J73: 20 | K73: 13 | L73: 6.03 | M73: 6.4572727 | N73: 5.72 | O73: 7.1390909 | P73: 5.6626316 | Q73: 6.033 | R73: 5.64 | S73: 6.4321429 | T73: 7.0954545 | U73: 5.7866667 | V73: 7.2363636 | W73: 6.2342105 | X73: 6.6375 | Y73: 5.7115385 | Z73: 5.6321429 | AA73: 5.8227273 | AB73: 5.6566667 | AC73: 7.0454545 | AD73: 5.0973684 | AE73: 5.4325 | AF73: 5.5730769 | AG73: 57.142857 | AH73: 81.818182 | AI73: 66.666667 | AJ73: 100 | AK73: 47.368421 | AL73: 75 | AM73: 76.923077
A74: 73 | B74: ŞCOALA GIMNAZIALĂ "VIRGIL IOVĂNAŞ" ŞOFRONEA | C74: ŞOFRONEA | D74: RURAL | E74: 5 | F74: 4 | G74: 11 | H74: 11 | I74: 10 | J74: 13 | K74: 14 | L74: 6.352 | M74: 5.76 | N74: 6.5045455 | O74: 5.5054545 | P74: 5.691 | Q74: 6.7715385 | R74: 7.1328571 | S74: 6.38 | T74: 5.9 | U74: 6.6409091 | V74: 4.8681818 | W74: 5.875 | X74: 6.6615385 | Y74: 7.1571429 | Z74: 6.33 | AA74: 5.625 | AB74: 6.3727273 | AC74: 6.1454545 | AD74: 5.51 | AE74: 6.8846154 | AF74: 7.1142857 | AG74: 80 | AH74: 50 | AI74: 81.818182 | AJ74: 54.545455 | AK74: 70 | AL74: 84.615385 | AM74: 92.857143
A75: 74 | B75: ŞCOALA GIMNAZIALĂ "ŞTEFAN BOZIAN" ŞEITIN | C75: ŞEITIN | D75: RURAL | E75: 11 | F75: 19 | G75: 7 | H75: 15 | I75: 13 | J75: 16 | K75: 20 | L75: 5.6172727 | M75: 6.2305263 | N75: 6.0542857 | O75: 5.5853333 | P75: 5.7484615 | Q75: 6.484375 | R75: 5.2285 | S75: 6.65 | T75: 6.8421053 | U75: 7.2571429 | V75: 5.92 | W75: 6.3461538 | X75: 7.346875 | Y75: 5.585 | Z75: 4.5909091 | AA75: 5.6236842 | AB75: 4.8571429 | AC75: 5.2566667 | AD75: 5.1538462 | AE75: 5.625 | AF75: 4.8775 | AG75: 63.636364 | AH75: 84.210526 | AI75: 85.714286 | AJ75: 53.333333 | AK75: 84.615385 | AL75: 81.25 | AM75: 50
A76: 75 | B76: ŞCOALA GIMNAZIALĂ "ŞTEFAN CICIO-POP" CONOP | C76: CONOP | D76: RURAL | E76: 11 | F76: 3 | G76: 10 | H76: 9 | I76: 10 | J76: 11 | K76: 10 | L76: 5.5554545 | M76: 6.5066667 | N76: 5.899 | O76: 5.69 | P76: 4.507 | Q76: 5.7218182 | R76: 5.655 | S76: 6.0772727 | T76: 7.25 | U76: 5.945 | V76: 5.3166667 | W76: 4.86 | X76: 6.4 | Y76: 6.275 | Z76: 5.0363636 | AA76: 5.7666667 | AB76: 5.855 | AC76: 6.0666667 | AD76: 4.16 | AE76: 5.05 | AF76: 5.04 | AG76: 54.545455 | AH76: 100 | AI76: 80 | AJ76: 55.555556 | AK76: 40 | AL76: 54.545455 | AM76: 90
A77: 76 | B77: ŞCOALA GIMNAZIALĂ BÂRSA | C77: BÂRSA | D77: RURAL | E77: 13 | F77: 11 | G77: 15 | H77: 13 | I77: 13 | J77: 20 | K77: 13 | L77: 6.5615385 | M77: 4.9018182 | N77: 5.794 | O77: 6.0938462 | P77: 4.9476923 | Q77: 5.6265 | R77: 5.9361538 | S77: 7.2 | T77: 5.7818182 | U77: 6.1466667 | V77: 6.1423077 | W77: 5.3115385 | X77: 5.945 | Y77: 6.4269231 | Z77: 5.9269231 | AA77: 4.0272727 | AB77: 5.4466667 | AC77: 6.05 | AD77: 4.5884615 | AE77: 5.3125 | AF77: 5.45 | AG77: 69.230769 | AH77: 45.454545 | AI77: 80 | AJ77: 61.538462 | AK77: 46.153846 | AL77: 65 | AM77: 69.230769
A78: 77 | B78: ŞCOALA GIMNAZIALĂ BÂRZAVA | C78: BÂRZAVA | D78: RURAL | E78: 16 | F78: 10 | G78: 9 | H78: 14 | I78: 10 | J78: 14 | K78: 13 | L78: 5.9875 | M78: 5.599 | N78: 6.8622222 | O78: 5.51 | P78: 5.965 | Q78: 5.0428571 | R78: 5.2946154 | S78: 6.34375 | T78: 6.515 | U78: 7.0611111 | V78: 5.6392857 | W78: 6.86 | X78: 5.7785714 | Y78: 5.9961538 | Z78: 5.634375 | AA78: 4.69 | AB78: 6.6666667 | AC78: 5.3857143 | AD78: 5.075 | AE78: 4.3107143 | AF78: 4.6 | AG78: 75 | AH78: 60 | AI78: 100 | AJ78: 50 | AK78: 70 | AL78: 50 | AM78: 38.461538
A79: 78 | B79: ŞCOALA GIMNAZIALĂ CHISINDIA | C79: CHISINDIA | D79: RURAL | E79: 10 | F79: 2 | G79: 6 | H79: 7 | I79: 1 | J79: 4 | K79: 4 | L79: 5.441 | M79: 4.835 | N79: 5.6066667 | O79: 5.9371429 | P79: 4.65 | Q79: 4.1775 | R79: 3.2475 | S79: 6.165 | T79: 5.375 | U79: 5.9583333 | V79: 6.4357143 | W79: 4.25 | X79: 4.7375 | Y79: 3.375 | Z79: 4.72 | AA79: 4.3 | AB79: 5.2583333 | AC79: 5.4428571 | AD79: 5.05 | AE79: 3.625 | AF79: 3.125 | AG79: 50 | AH79: 50 | AI79: 83.333333 | AJ79: 71.428571 | AK79: 0 | AL79: 0 | AM79: 0
A80: 79 | B80: ŞCOALA GIMNAZIALĂ CRAIVA | C80: CRAIVA | D80: RURAL | E80: 13 | F80: 8 | G80: 12 | H80: 13 | I80: 18 | J80: 15 | K80: 17 | L80: 7.1415385 | M80: 6.635 | N80: 5.0183333 | O80: 4.9576923 | P80: 5.065 | Q80: 5.1053333 | R80: 5.9182353 | S80: 7.5307692 | T80: 7.45625 | U80: 5.9166667 | V80: 5.3115385 | W80: 5.7666667 | X80: 5.6633333 | Y80: 6.9 | Z80: 6.7576923 | AA80: 5.81875 | AB80: 4.1208333 | AC80: 4.6076923 | AD80: 4.3694444 | AE80: 4.5533333 | AF80: 4.9411765 | AG80: 84.615385 | AH80: 87.5 | AI80: 33.333333 | AJ80: 38.461538 | AK80: 50 | AL80: 46.666667 | AM80: 76.470588
A81: 80 | B81: ŞCOALA GIMNAZIALĂ CĂRAND | C81: CĂRAND | D81: RURAL | E81: 4 | F81: 10 | G81: 5 | H81: 9 | I81: 4 | J81: 8 | K81: 5 | L81: 5.875 | M81: 6.032 | N81: 7.936 | O81: 5.65 | P81: 6.99 | Q81: 6.1075 | R81: 7.708 | S81: 6.4 | T81: 6.71 | U81: 8.57 | V81: 6.3111111 | W81: 7.875 | X81: 7.225 | Y81: 8.15 | Z81: 5.35 | AA81: 5.36 | AB81: 7.31 | AC81: 4.9944444 | AD81: 6.1125 | AE81: 4.99375 | AF81: 7.27 | AG81: 75 | AH81: 70 | AI81: 80 | AJ81: 55.555556 | AK81: 100 | AL81: 75 | AM81: 80
... A83: 82 | B83: ŞCOALA GIMNAZIALĂ DIECI | C83: DIECI | D83: RURAL | E83: 6 | F83: 6 | G83: 6 | H83: 5 | I83: 8 | J83: 4 | K83: 9 | L83: 4.8016667 | M83: 4.8433333 | N83: 5.46 | O83: 5.072 | P83: 4.64625 | Q83: 4.9975 | R83: 4.6466667 | S83: 5.0583333 | T83: 6.0333333 | U83: 5.4166667 | V83: 4.72 | W83: 4.9125 | X83: 5.4 | Y83: 4.9555556 | Z83: 4.55 | AA83: 3.6583333 | AB83: 5.5083333 | AC83: 5.43 | AD83: 4.38125 | AE83: 4.6 | AF83: 4.3444444 | AG83: 50 | AH83: 33.333333 | AI83: 50 | AJ83: 40 | AK83: 50 | AL83: 50 | AM83: 33.333333
A84: 83 | B84: ŞCOALA GIMNAZIALĂ FISCUT | C84: FISCUT | D84: RURAL | E84: 10 | F84: 7 | G84: 5 | H84: 15 | I84: 3 | J84: 5 | L84: 4.34 | M84: 3.0057143 | N84: 4.144 | O84: 4.0613333 | P84: 4.8566667 | Q84: 3.468 | S84: 4.3 | T84: 2.4285714 | U84: 3.78 | V84: 3.8766667 | W84: 5.5333333 | X84: 3.62 | Z84: 4.385 | AA84: 3.5857143 | AB84: 4.51 | AC84: 4.25 | AD84: 4.1833333 | AE84: 3.32 | AG84: 50 | AH84: 0 | AI84: 20 | AJ84: 26.666667 | AK84: 33.333333 | AL84: 20
A85: 84 | B85: ŞCOALA GIMNAZIALĂ FRUMUŞENI | C85: FRUMUŞENI | D85: RURAL | E85: 18 | F85: 15 | G85: 18 | H85: 22 | I85: 20 | J85: 16 | K85: 12 | L85: 5.5211111 | M85: 5.206 | N85: 5.1922222 | O85: 6.0422727 | P85: 5.568 | Q85: 6.365 | R85: 5.7358333 | S85: 5.5277778 | T85: 6.1733333 | U85: 5.7944444 | V85: 6 | W85: 5.9375 | X85: 6.84375 | Y85: 5.6166667 | Z85: 5.5194444 | AA85: 4.2433333 | AB85: 4.5916667 | AC85: 6.0909091 | AD85: 5.205 | AE85: 5.890625 | AF85: 5.8583333 | AG85: 55.555556 | AH85: 46.666667 | AI85: 55.555556 | AJ85: 63.636364 | AK85: 65 | AL85: 87.5 | AM85: 75
A86: 85 | B86: ŞCOALA GIMNAZIALĂ FÂNTÂNELE | C86: FÂNTÂNELE | D86: RURAL | E86: 14 | F86: 13 | G86: 17 | H86: 25 | I86: 11 | J86: 17 | K86: 16 | L86: 6.8621429 | M86: 6.4138462 | N86: 6.5747059 | O86: 5.9652 | P86: 5.5654545 | Q86: 5.8570588 | R86: 5.218125 | S86: 6.9857143 | T86: 7.1115385 | U86: 7.3382353 | V86: 5.952 | W86: 6.1272727 | X86: 6.8735294 | Y86: 5.8375 | Z86: 6.7428571 | AA86: 5.7230769 | AB86: 5.8147059 | AC86: 5.984 | AD86: 5.0090909 | AE86: 4.8441176 | AF86: 4.603125 | AG86: 92.857143 | AH86: 84.615385 | AI86: 64.705882 | AJ86: 68 | AK86: 54.545455 | AL86: 76.470588 | AM86: 56.25
A87: 86 | B87: ŞCOALA GIMNAZIALĂ GROŞENI | C87: GROŞENI | D87: RURAL | E87: 14 | F87: 6 | G87: 11 | H87: 14 | I87: 5 | J87: 11 | K87: 3 | L87: 5.8978571 | M87: 4.18 | N87: 5.1 | O87: 6.6628571 | P87: 4.928 | Q87: 6.0590909 | R87: 5.78 | S87: 6.7928571 | T87: 4.8583333 | U87: 5.3 | V87: 7.0142857 | W87: 5.03 | X87: 6.6272727 | Y87: 6.6166667 | Z87: 5.0071429 | AA87: 3.5083333 | AB87: 4.9045455 | AC87: 6.3178571 | AD87: 4.83 | AE87: 5.4954545 | AF87: 4.95 | AG87: 64.285714 | AH87: 33.333333 | AI87: 45.454545 | AJ87: 78.571429 | AK87: 60 | AL87: 90.909091 | AM87: 66.666667
A88: 87 | B88: ŞCOALA GIMNAZIALĂ GRĂNICERI | C88: GRĂNICERI | D88: RURAL | E88: 14 | G88: 19 | H88: 15 | I88: 13 | J88: 16 | K88: 13 | L88: 3.525 | N88: 5.2342105 | O88: 5.212 | P88: 5.0046154 | Q88: 6.065625 | R88: 5.6215385 | S88: 3.6 | U88: 5.7289474 | V88: 5.2633333 | W88: 5.5192308 | X88: 6.553125 | Y88: 6.1538462 | Z88: 3.4535714 | AB88: 4.7421053 | AC88: 5.1633333 | AD88: 4.4961538 | AE88: 5.584375 | AF88: 5.0923077 | AG88: 35.714286 | AI88: 68.421053 | AJ88: 46.666667 | AK88: 46.153846 | AL88: 75 | AM88: 46.153846
A89: 88 | B89: ŞCOALA GIMNAZIALĂ HĂLMĂGEL | C89: HĂLMĂGEL | D89: RURAL | E89: 7 | F89: 10 | G89: 6 | H89: 5 | J89: 3 | K89: 2 | L89: 6.4071429 | M89: 7.037 | N89: 7.0183333 | O89: 6.658 | Q89: 7.69 | R89: 7.945 | S89: 7.4 | T89: 7.265 | U89: 7.2916667 | V89: 5.96 | X89: 7.8333333 | Y89: 8.4 | Z89: 5.4214286 | AA89: 6.815 | AB89: 6.75 | AC89: 7.36 | AE89: 7.55 | AF89: 7.5 | AG89: 57.142857 | AH89: 90 | AI89: 83.333333 | AJ89: 80 | AL89: 100 | AM89: 100
A90: 89 | B90: ŞCOALA GIMNAZIALĂ HĂŞMAŞ | C90: HĂŞMAŞ | D90: RURAL | E90: 11 | F90: 9 | G90: 11 | H90: 17 | I90: 5 | J90: 8 | K90: 3 | L90: 5.7663636 | M90: 5.3688889 | N90: 5.7918182 | O90: 4.5835294 | P90: 4.822 | Q90: 5.68625 | R90: 7.13 | S90: 6.2818182 | T90: 5.9055556 | U90: 5.7227273 | V90: 4.3529412 | W90: 5.3 | X90: 6.2625 | Y90: 7.6333333 | Z90: 5.2590909 | AA90: 4.8388889 | AB90: 5.8636364 | AC90: 4.8176471 | AD90: 4.35 | AE90: 5.1125 | AF90: 6.6333333 | AG90: 54.545455 | AH90: 77.777778 | AI90: 72.727273 | AJ90: 35.294118 | AK90: 60 | AL90: 50 | AM90: 100
A91: 90 | B91: ŞCOALA GIMNAZIALĂ IACOBINI | C91: IACOBINI | D91: RURAL | E91: 6 | F91: 7 | G91: 8 | H91: 4 | I91: 9 | J91: 10 | K91: 9 | L91: 5.5716667 | M91: 4.4342857 | N91: 5.00875 | O91: 4.2475 | P91: 4.44 | Q91: 5.58 | R91: 6.1277778 | S91: 5.7166667 | T91: 4.2214286 | U91: 4.65625 | V91: 4.05 | W91: 4.7444444 | X91: 6.155 | Y91: 6.3777778 | Z91: 5.4333333 | AA91: 4.65 | AB91: 5.3625 | AC91: 4.45 | AD91: 4.1388889 | AE91: 5.01 | AF91: 5.8833333 | AG91: 66.666667 | AH91: 42.857143 | AI91: 50 | AJ91: 0 | AK91: 22.222222 | AL91: 80 | AM91: 66.666667
A92: 91 | B92: ŞCOALA GIMNAZIALĂ IRATOŞU | C92: IRATOŞU | D92: RURAL | E92: 7 | F92: 2 | G92: 10 | H92: 7 | I92: 8 | J92: 5 | K92: 15 | L92: 5.7342857 | M92: 4.65 | N92: 5.988 | O92: 5.3685714 | P92: 5.2925 | Q92: 5.932 | R92: 5.1013333 | S92: 7.25 | T92: 5.3 | U92: 6.45 | V92: 5.4142857 | W92: 5.41875 | X92: 6.48 | Y92: 5.7966667 | Z92: 4.2214286 | AA92: 4 | AB92: 5.53 | AC92: 5.3285714 | AD92: 5.16875 | AE92: 5.39 | AF92: 4.41 | AG92: 57.142857 | AH92: 50 | AI92: 90 | AJ92: 57.142857 | AK92: 62.5 | AL92: 80 | AM92: 46.666667
A93: 92 | B93: ŞCOALA GIMNAZIALĂ LIVADA | C93: LIVADA | D93: RURAL | E93: 3 | F93: 6 | G93: 7 | H93: 18 | I93: 16 | J93: 13 | K93: 22 | L93: 7.7733333 | M93: 6.7383333 | N93: 6.6114286 | O93: 6.5216667 | P93: 6.936875 | Q93: 7.6753846 | R93: 6.465 | S93: 8.25 | T93: 7.4 | U93: 6.9 | V93: 7.05 | W93: 7.55 | X93: 8.0923077 | Y93: 6.9431818 | Z93: 7.3 | AA93: 6.0833333 | AB93: 6.3285714 | AC93: 5.9972222 | AD93: 6.328125 | AE93: 7.2653846 | AF93: 5.9909091 | AG93: 100 | AH93: 100 | AI93: 100 | AJ93: 83.333333 | AK93: 100 | AL93: 100 | AM93: 95.454545
A94: 93 | B94: ŞCOALA GIMNAZIALĂ MAILAT | C94: MAILAT | D94: RURAL | E94: 5 | F94: 7 | H94: 7 | I94: 2 | J94: 6 | K94: 5 | L94: 5.132 | M94: 5.4571429 | O94: 5.9742857 | P94: 5.175 | Q94: 5.08 | R94: 5.318 | S94: 4.26 | T94: 4.7985714 | V94: 5.35 | W94: 3.95 | X94: 5.4166667 | Y94: 5.1 | Z94: 4.1 | AA94: 4.4571429 | AC94: 4.7214286 | AD94: 4.1 | AE94: 4.325 | AF94: 3.63 | AG94: 40 | AH94: 57.142857 | AJ94: 85.714286 | AK94: 50 | AL94: 66.666667 | AM94: 60
A95: 94 | B95: ŞCOALA GIMNAZIALĂ OLARI | C95: OLARI | D95: RURAL | E95: 12 | F95: 16 | G95: 10 | H95: 9 | I95: 13 | J95: 7 | K95: 12 | L95: 3.4866667 | M95: 5.64125 | N95: 5.279 | O95: 5.0088889 | P95: 4.0692308 | Q95: 3.8157143 | R95: 5.045 | S95: 4.4791667 | T95: 6.221875 | U95: 5.955 | V95: 5.2944444 | W95: 4.8153846 | X95: 4 | Y95: 5.4375 | Z95: 2.5 | AA95: 5.065625 | AB95: 4.605 | AC95: 4.7277778 | AD95: 3.3269231 | AE95: 3.6357143 | AF95: 4.6541667 | AG95: 8.3333333 | AH95: 81.25 | AI95: 50 | AJ95: 33.333333 | AK95: 15.384615 | AL95: 14.285714 | AM95: 58.333333
A96: 95 | B96: ŞCOALA GIMNAZIALĂ PEREGU MARE | C96: PEREGU MARE | D96: RURAL | E96: 2 | G96: 3 | H96: 4 | I96: 9 | J96: 5 | K96: 11 | L96: 7.285 | N96: 4.7733333 | O96: 3.985 | P96: 5.2333333 | Q96: 6.498 | R96: 4.8781818 | S96: 8.3 | U96: 4.65 | V96: 3.5625 | W96: 6.0388889 | X96: 7.04 | Y96: 5.3636364 | Z96: 6.275 | AB96: 4.9 | AC96: 4.4125 | AD96: 4.4333333 | AE96: 5.96 | AF96: 4.3954545 | AG96: 100 | AI96: 33.333333 | AJ96: 0 | AK96: 44.444444 | AL96: 80 | AM96: 36.363636
A97: 96 | B97: ŞCOALA GIMNAZIALĂ PILU | C97: PILU | D97: RURAL | E97: 13 | F97: 8 | G97: 17 | H97: 12 | I97: 8 | J97: 16 | K97: 13 | L97: 5.2269231 | M97: 5.96625 | N97: 5.5658824 | O97: 3.9825 | P97: 5.8925 | Q97: 5.17375 | R97: 3.7284615 | S97: 5.8923077 | T97: 6.35 | U97: 5.5764706 | V97: 3.875 | W97: 6.51875 | X97: 4.8875 | Y97: 4.0653846 | Z97: 4.5653846 | AA97: 5.5875 | AB97: 5.5588235 | AC97: 4.0958333 | AD97: 5.275 | AE97: 5.465625 | AF97: 3.3961538 | AG97: 46.153846 | AH97: 75 | AI97: 58.823529 | AJ97: 8.3333333 | AK97: 75 | AL97: 50 | AM97: 7.6923077
A98: 97 | B98: ŞCOALA GIMNAZIALĂ PLEŞCUŢA | C98: PLEŞCUŢA | D98: RURAL | E98: 10 | F98: 3 | G98: 3 | H98: 6 | I98: 2 | J98: 6 | K98: 9 | L98: 5.544 | M98: 5.6333333 | N98: 6.1966667 | O98: 5.1383333 | P98: 2.51 | Q98: 5.115 | R98: 6.2177778 | S98: 6.24 | T98: 5.9666667 | U98: 6.85 | V98: 5.3666667 | W98: 3.025 | X98: 5.8 | Y98: 6.6166667 | Z98: 4.855 | AA98: 5.3 | AB98: 5.55 | AC98: 4.9166667 | AD98: 2 | AE98: 4.4333333 | AF98: 5.8222222 | AG98: 60 | AH98: 66.666667 | AI98: 66.666667 | AJ98: 50 | AK98: 0 | AL98: 33.333333 | AM98: 100
A99: 98 | B99: ŞCOALA GIMNAZIALĂ PĂULIŞ | C99: PĂULIŞ | D99: RURAL | E99: 12 | F99: 9 | G99: 12 | H99: 14 | I99: 7 | J99: 9 | K99: 30 | L99: 5.7075 | M99: 5.0122222 | N99: 6.6041667 | O99: 6.0928571 | P99: 5.1957143 | Q99: 5.6311111 | R99: 5.4336667 | S99: 6.0875 | T99: 5.7333333 | U99: 6.975 | V99: 5.9928571 | W99: 4.9714286 | X99: 5.55 | Y99: 5.59 | Z99: 5.3333333 | AA99: 4.2944444 | AB99: 6.2375 | AC99: 6.2 | AD99: 5.4214286 | AE99: 5.7166667 | AF99: 5.2816667 | AG99: 50 | AH99: 66.666667 | AI99: 75 | AJ99: 71.428571 | AK99: 42.857143 | AL99: 55.555556 | AM99: 66.666667
A100: 99 | B100: ŞCOALA GIMNAZIALĂ SECUSIGIU | C100: SECUSIGIU | D100: RURAL | E100: 30 | F100: 20 | G100: 48 | H100: 29 | I100: 36 | J100: 36 | K100: 39 | L100: 5.1443333 | M100: 5.4565 | N100: 5.5883333 | O100: 4.9668966 | P100: 4.5944444 | Q100: 5.5188889 | R100: 4.8812821 | S100: 5.665 | T100: 5.93 | U100: 5.8604167 | V100: 4.962069 | W100: 4.9986111 | X100: 5.9902778 | Y100: 5.1217949 | Z100: 4.6266667 | AA100: 4.9875 | AB100: 5.3208333 | AC100: 4.9758621 | AD100: 4.1944444 | AE100: 5.0541667 | AF100: 4.6461538 | AG100: 60 | AH100: 60 | AI100: 58.333333 | AJ100: 37.931034 | AK100: 25 | AL100: 58.333333 | AM100: 41.025641
A101: 100 | B101: ŞCOALA GIMNAZIALĂ SINTEA MARE | C101: SINTEA MARE | D101: RURAL | E101: 13 | F101: 1 | G101: 7 | H101: 11 | I101: 8 | J101: 11 | K101: 5 | L101: 4.5392308 | M101: 2.9 | N101: 5.5214286 | O101: 5.8572727 | P101: 3.7475 | Q101: 4.61 | R101: 4.462 | S101: 5.5115385 | T101: 2.3 | U101: 5.7857143 | V101: 5.3454545 | W101: 3.53125 | X101: 4.9863636 | Y101: 4.03 | Z101: 3.5692308 | AA101: 3.5 | AB101: 5.2642857 | AC101: 6.3727273 | AD101: 3.96875 | AE101: 4.2409091 | AF101: 4.9 | AG101: 38.461538 | AH101: 0 | AI101: 71.428571 | AJ101: 54.545455 | AK101: 25 | AL101: 27.272727 | AM101: 20
A102: 101 | B102: ŞCOALA GIMNAZIALĂ SÂNTANA | C102: SÂNTANA | D102: URBAN | E102: 26 | F102: 35 | G102: 23 | H102: 22 | I102: 37 | J102: 25 | K102: 37 | L102: 4.8492308 | M102: 5.6214286 | N102: 6.2121739 | O102: 5.1009091 | P102: 4.9456757 | Q102: 5.1224 | R102: 4.9359459 | S102: 5.5 | T102: 6.1771429 | U102: 6.926087 | V102: 5.5818182 | W102: 5.6432432 | X102: 6.088 | Y102: 5.627027 | Z102: 4.2019231 | AA102: 5.07 | AB102: 5.5043478 | AC102: 4.6227273 | AD102: 4.2540541 | AE102: 4.162 | AF102: 4.25 | AG102: 42.307692 | AH102: 68.571429 | AI102: 73.913043 | AJ102: 45.454545 | AK102: 48.648649 | AL102: 56 | AM102: 48.648649
A103: 102 | B103: ŞCOALA GIMNAZIALĂ TAUŢ | C103: TAUŢ | D103: RURAL | E103: 5 | F103: 8 | G103: 4 | H103: 9 | I103: 10 | J103: 13 | K103: 7 | L103: 4.818 | M103: 5.48875 | N103: 6.5425 | O103: 5.37 | P103: 4.743 | Q103: 4.7115385 | R103: 4.7371429 | S103: 4.57 | T103: 6.05625 | U103: 6.8875 | V103: 5.5277778 | W103: 5.28 | X103: 5.1730769 | Y103: 4.7 | Z103: 5.07 | AA103: 4.925 | AB103: 6.2 | AC103: 5.2166667 | AD103: 4.21 | AE103: 4.2538462 | AF103: 4.7785714 | AG103: 40 | AH103: 62.5 | AI103: 100 | AJ103: 55.555556 | AK103: 40 | AL103: 46.153846 | AM103: 28.571429
A104: 103 | B104: ŞCOALA GIMNAZIALĂ TÂRNOVA | C104: TÂRNOVA | D104: RURAL | E104: 26 | F104: 13 | G104: 33 | H104: 30 | I104: 23 | J104: 26 | K104: 61 | L104: 5.5119231 | M104: 5.1961538 | N104: 5.21 | O104: 4.9886667 | P104: 5.4091304 | Q104: 5.4561538 | R104: 5.0657377 | S104: 6.8134615 | T104: 5.5192308 | U104: 5.6757576 | V104: 5.0716667 | W104: 5.6869565 | X104: 6.1730769 | Y104: 5.4442623 | Z104: 4.2134615 | AA104: 4.8807692 | AB104: 4.75 | AC104: 4.9116667 | AD104: 5.1347826 | AE104: 4.7442308 | AF104: 4.6918033 | AG104: 73.076923 | AH104: 46.153846 | AI104: 57.575758 | AJ104: 40 | AK104: 60.869565 | AL104: 61.538462 | AM104: 52.459016
A105: 104 | B105: ŞCOALA GIMNAZIALĂ VLADIMIRESCU | C105: VLADIMIRESCU | D105: RURAL | E105: 61 | F105: 32 | G105: 65 | H105: 58 | I105: 57 | J105: 45 | K105: 44 | L105: 6.3921311 | M105: 5.0471875 | N105: 6.2636923 | O105: 5.9036207 | P105: 5.9429825 | Q105: 5.6913333 | R105: 6.6536364 | S105: 6.954918 | T105: 5.703125 | U105: 6.8069231 | V105: 6.1439655 | W105: 6.5666667 | X105: 6.2866667 | Y105: 7.0772727 | Z105: 5.8336066 | AA105: 4.3953125 | AB105: 5.7238462 | AC105: 5.6672414 | AD105: 5.3245614 | AE105: 5.1 | AF105: 6.2340909 | AG105: 78.688525 | AH105: 50 | AI105: 78.461538 | AJ105: 65.517241 | AK105: 75.438596 | AL105: 68.888889 | AM105: 88.636364
A106: 105 | B106: ŞCOALA GIMNAZIALĂ VÂNĂTORI | C106: VÂNĂTORI | D106: RURAL | E106: 14 | F106: 19 | G106: 30 | H106: 20 | I106: 22 | J106: 19 | K106: 25 | L106: 4.0321429 | M106: 5.0705263 | N106: 3.8996667 | O106: 5.343 | P106: 3.3318182 | Q106: 3.8847368 | R106: 4.654 | S106: 4.7607143 | T106: 4.7605263 | U106: 3.9566667 | V106: 4.615 | W106: 3.6409091 | X106: 4.6 | Y106: 3.886 | Z106: 3.3071429 | AA106: 5.3842105 | AB106: 3.8466667 | AC106: 6.0775 | AD106: 3.0272727 | AE106: 3.1736842 | AF106: 5.424 | AG106: 35.714286 | AH106: 63.157895 | AI106: 33.333333 | AJ106: 75 | AK106: 13.636364 | AL106: 15.789474 | AM106: 40
...

Sheet Evoluție pct. media 5+
A1: Evoluția procentului de elevi cu media generală de cel puțin 5 (prag informativ, EN nu are un prag oficial de promovare), pe fiecare unitate, 2020→2026, sortată descrescător după valoarea din 2026. "-" = unitatea nu a avut elevi evaluați în acel an (nu a existat sub acest nume sau nu a fost identificată în fișierul respectiv).
A3: Loc | B3: Unitate | C3: Localitate | D3: Mediu | E3: 2020 | F3: 2021 | G3: 2022 | H3: 2023 | I3: 2024 | J3: 2025 | K3: 2026 | L3: Δ total
A4: 1 | B4: COLEGIUL NAŢIONAL "MOISE NICOARĂ" ARAD | C4: ARAD | D4: URBAN | E4: =IFERROR(IF(ISBLANK(INDEX(Date_unitati!$AG:$AG,MATCH($B4,Date_unitati!$B:$B,0))),"-",INDEX(Date_unitati!$AG:$AG,MATCH($B4,Date_unitati!$B:$B,0))),"-") -> 100 | F4: =IFERROR(IF(ISBLANK(INDEX(Date_unitati!$AH:$AH,MATCH($B4,Date_unitati!$B:$B,0))),"-",INDEX(Date_unitati!$AH:$AH,MATCH($B4,Date_unitati!$B:$B,0))),"-") -> 100 | G4: =IFERROR(IF(ISBLANK(INDEX(Date_unitati!$AI:$AI,MATCH($B4,Date_unitati!$B:$B,0))),"-",INDEX(Date_unitati!$AI:$AI,MATCH($B4,Date_unitati!$B:$B,0))),"-") -> 100 | H4: =IFERROR(IF(ISBLANK(INDEX(Date_unitati!$AJ:$AJ,MATCH($B4,Date_unitati!$B:$B,0))),"-",INDEX(Date_unitati!$AJ:$AJ,MATCH($B4,Date_unitati!$B:$B,0))),"-") -> 100 | I4: =IFERROR(IF(ISBLANK(INDEX(Date_unitati!$AK:$AK,MATCH($B4,Date_unitati!$B:$B,0))),"-",INDEX(Date_unitati!$AK:$AK,MATCH($B4,Date_unitati!$B:$B,0))),"-") -> 100 | J4: =IFERROR(IF(ISBLANK(INDEX(Date_unitati!$AL:$AL,MATCH($B4,Date_unitati!$B:$B,0))),"-",INDEX(Date_unitati!$AL:$AL,MATCH($B4,Date_unitati!$B:$B,0))),"-") -> 100 | K4: =IFERROR(IF(ISBLANK(INDEX(Date_unitati!$AM:$AM,MATCH($B4,Date_unitati!$B:$B,0))),"-",INDEX(Date_unitati!$AM:$AM,MATCH($B4,Date_unitati!$B:$B,0))),"-") -> 100 | L4: =IFERROR(IF(OR(ISTEXT(E4),ISTEXT(K4)),"-",ROUND(K4-E4,2)),"-") -> 0
A5: 2 | B5: COLEGIUL NAŢIONAL "VASILE GOLDIŞ" ARAD | C5: ARAD | D5: URBAN | E5: =IFERROR(IF(ISBLANK(INDEX(Date_unitati!$AG:$AG,MATCH($B5,Date_unitati!$B:$B,0))),"-",INDEX(Date_unitati!$AG:$AG,MATCH($B5,Date_unitati!$B:$B,0))),"-") -> 92.857143 | F5: =IFERROR(IF(ISBLANK(INDEX(Date_unitati!$AH:$AH,MATCH($B5,Date_unitati!$B:$B,0))),"-",INDEX(Date_unitati!$AH:$AH,MATCH($B5,Date_unitati!$B:$B,0))),"-") -> 93.333333 | G5: =IFERROR(IF(ISBLANK(INDEX(Date_unitati!$AI:$AI,MATCH($B5,Date_unitati!$B:$B,0))),"-",INDEX(Date_unitati!$AI:$AI,MATCH($B5,Date_unitati!$B:$B,0))),"-") -> 98.958333 | H5: =IFERROR(IF(ISBLANK(INDEX(Date_unitati!$AJ:$AJ,MATCH($B5,Date_unitati!$B:$B,0))),"-",INDEX(Date_unitati!$AJ:$AJ,MATCH($B5,Date_unitati!$B:$B,0))),"-") -> 94.736842 | I5: =IFERROR(IF(ISBLANK(INDEX(Date_unitati!$AK:$AK,MATCH($B5,Date_unitati!$B:$B,0))),"-",INDEX(Date_unitati!$AK:$AK,MATCH($B5,Date_unitati!$B:$B,0))),"-") -> 96.116505 | J5: =IFERROR(IF(ISBLANK(INDEX(Date_unitati!$AL:$AL,MATCH($B5,Date_unitati!$B:$B,0))),"-",INDEX(Date_unitati!$AL:$AL,MATCH($B5,Date_unitati!$B:$B,0))),"-") -> 96.703297 | K5: =IFERROR(IF(ISBLANK(INDEX(Date_unitati!$AM:$AM,MATCH($B5,Date_unitati!$B:$B,0))),"-",INDEX(Date_unitati!$AM:$AM,MATCH($B5,Date_unitati!$B:$B,0))),"-") -> 100 | L5: =IFERROR(IF(OR(ISTEXT(E5),ISTEXT(K5)),"-",ROUND(K5-E5,2)),"-") -> 7.14
A6: 3 | B6: ŞCOALA GIMNAZIALĂ "GHEORGHE GROZA" MONEASA | C6: MONEASA | D6: RURAL | E6: =IFERROR(IF(ISBLANK(INDEX(Date_unitati!$AG:$AG,MATCH($B6,Date_unitati!$B:$B,0))),"-",INDEX(Date_unitati!$AG:$AG,MATCH($B6,Date_unitati!$B:$B,0))),"-") -> - | F6: =IFERROR(IF(ISBLANK(INDEX(Date_unitati!$AH:$AH,MATCH($B6,Date_unitati!$B:$B,0))),"-",INDEX(Date_unitati!$AH:$AH,MATCH($B6,Date_unitati!$B:$B,0))),"-") -> 100 | G6: =IFERROR(IF(ISBLANK(INDEX(Date_unitati!$AI:$AI,MATCH($B6,Date_unitati!$B:$B,0))),"-",INDEX(Date_unitati!$AI:$AI,MATCH($B6,Date_unitati!$B:$B,0))),"-") -> 75 | H6: =IFERROR(IF(ISBLANK(INDEX(Date_unitati!$AJ:$AJ,MATCH($B6,Date_unitati!$B:$B,0))),"-",INDEX(Date_unitati!$AJ:$AJ,MATCH($B6,Date_unitati!$B:$B,0))),"-") -> 100 | I6: =IFERROR(IF(ISBLANK(INDEX(Date_unitati!$AK:$AK,MATCH($B6,Date_unitati!$B:$B,0))),"-",INDEX(Date_unitati!$AK:$AK,MATCH($B6,Date_unitati!$B:$B,0))),"-") -> 100 | J6: =IFERROR(IF(ISBLANK(INDEX(Date_unitati!$AL:$AL,MATCH($B6,Date_unitati!$B:$B,0))),"-",INDEX(Date_unitati!$AL:$AL,MATCH($B6,Date_unitati!$B:$B,0))),"-") -> - | K6: =IFERROR(IF(ISBLANK(INDEX(Date_unitati!$AM:$AM,MATCH($B6,Date_unitati!$B:$B,0))),"-",INDEX(Date_unitati!$AM:$AM,MATCH($B6,Date_unitati!$B:$B,0))),"-") -> 100 | L6: =IFERROR(IF(OR(ISTEXT(E6),ISTEXT(K6)),"-",ROUND(K6-E6,2)),"-") -> -
A7: 4 | B7: ŞCOALA GIMNAZIALĂ PLEŞCUŢA | C7: PLEŞCUŢA | D7: RURAL | E7: =IFERROR(IF(ISBLANK(INDEX(Date_unitati!$AG:$AG,MATCH($B7,Date_unitati!$B:$B,0))),"-",INDEX(Date_unitati!$AG:$AG,MATCH($B7,Date_unitati!$B:$B,0))),"-") -> 60 | F7: =IFERROR(IF(ISBLANK(INDEX(Date_unitati!$AH:$AH,MATCH($B7,Date_unitati!$B:$B,0))),"-",INDEX(Date_unitati!$AH:$AH,MATCH($B7,Date_unitati!$B:$B,0))),"-") -> 66.666667 | G7: =IFERROR(IF(ISBLANK(INDEX(Date_unitati!$AI:$AI,MATCH($B7,Date_unitati!$B:$B,0))),"-",INDEX(Date_unitati!$AI:$AI,MATCH($B7,Date_unitati!$B:$B,0))),"-") -> 66.666667 | H7: =IFERROR(IF(ISBLANK(INDEX(Date_unitati!$AJ:$AJ,MATCH($B7,Date_unitati!$B:$B,0))),"-",INDEX(Date_unitati!$AJ:$AJ,MATCH($B7,Date_unitati!$B:$B,0))),"-") -> 50 | I7: =IFERROR(IF(ISBLANK(INDEX(Date_unitati!$AK:$AK,MATCH($B7,Date_unitati!$B:$B,0))),"-",INDEX(Date_unitati!$AK:$AK,MATCH($B7,Date_unitati!$B:$B,0))),"-") -> 0 | J7: =IFERROR(IF(ISBLANK(INDEX(Date_unitati!$AL:$AL,MATCH($B7,Date_unitati!$B:$B,0))),"-",INDEX(Date_unitati!$AL:$AL,MATCH($B7,Date_unitati!$B:$B,0))),"-") -> 33.333333 | K7: =IFERROR(IF(ISBLANK(INDEX(Date_unitati!$AM:$AM,MATCH($B7,Date_unitati!$B:$B,0))),"-",INDEX(Date_unitati!$AM:$AM,MATCH($B7,Date_unitati!$B:$B,0))),"-") -> 100 | L7: =IFERROR(IF(OR(ISTEXT(E7),ISTEXT(K7)),"-",ROUND(K7-E7,2)),"-") -> 40
A8: 5 | B8: ŞCOALA GIMNAZIALĂ HĂŞMAŞ | C8: HĂŞMAŞ | D8: RURAL | E8: =IFERROR(IF(ISBLANK(INDEX(Date_unitati!$AG:$AG,MATCH($B8,Date_unitati!$B:$B,0))),"-",INDEX(Date_unitati!$AG:$AG,MATCH($B8,Date_unitati!$B:$B,0))),"-") -> 54.545455 | F8: =IFERROR(IF(ISBLANK(INDEX(Date_unitati!$AH:$AH,MATCH($B8,Date_unitati!$B:$B,0))),"-",INDEX(Date_unitati!$AH:$AH,MATCH($B8,Date_unitati!$B:$B,0))),"-") -> 77.777778 | G8: =IFERROR(IF(ISBLANK(INDEX(Date_unitati!$AI:$AI,MATCH($B8,Date_unitati!$B:$B,0))),"-",INDEX(Date_unitati!$AI:$AI,MATCH($B8,Date_unitati!$B:$B,0))),"-") -> 72.727273 | H8: =IFERROR(IF(ISBLANK(INDEX(Date_unitati!$AJ:$AJ,MATCH($B8,Date_unitati!$B:$B,0))),"-",INDEX(Date_unitati!$AJ:$AJ,MATCH($B8,Date_unitati!$B:$B,0))),"-") -> 35.294118 | I8: =IFERROR(IF(ISBLANK(INDEX(Date_unitati!$AK:$AK,MATCH($B8,Date_unitati!$B:$B,0))),"-",INDEX(Date_unitati!$AK:$AK,MATCH($B8,Date_unitati!$B:$B,0))),"-") -> 60 | J8: =IFERROR(IF(ISBLANK(INDEX(Date_unitati!$AL:$AL,MATCH($B8,Date_unitati!$B:$B,0))),"-",INDEX(Date_unitati!$AL:$AL,MATCH($B8,Date_unitati!$B:$B,0))),"-") -> 50 | K8: =IFERROR(IF(ISBLANK(INDEX(Date_unitati!$AM:$AM,MATCH($B8,Date_unitati!$B:$B,0))),"-",INDEX(Date_unitati!$AM:$AM,MATCH($B8,Date_unitati!$B:$B,0))),"-") -> 100 | L8: =IFERROR(IF(OR(ISTEXT(E8),ISTEXT(K8)),"-",ROUND(K8-E8,2)),"-") -> 45.45
A9: 6 | B9: ŞCOALA GIMNAZIALĂ HĂLMĂGEL | C9: HĂLMĂGEL | D9: RURAL | E9: =IFERROR(IF(ISBLANK(INDEX(Date_unitati!$AG:$AG,MATCH($B9,Date_unitati!$B:$B,0))),"-",INDEX(Date_unitati!$AG:$AG,MATCH($B9,Date_unitati!$B:$B,0))),"-") -> 57.142857 | F9: =IFERROR(IF(ISBLANK(INDEX(Date_unitati!$AH:$AH,MATCH($B9,Date_unitati!$B:$B,0))),"-",INDEX(Date_unitati!$AH:$AH,MATCH($B9,Date_unitati!$B:$B,0))),"-") -> 90 | G9: =IFERROR(IF(ISBLANK(INDEX(Date_unitati!$AI:$AI,MATCH($B9,Date_unitati!$B:$B,0))),"-",INDEX(Date_unitati!$AI:$AI,MATCH($B9,Date_unitati!$B:$B,0))),"-") -> 83.333333 | H9: =IFERROR(IF(ISBLANK(INDEX(Date_unitati!$AJ:$AJ,MATCH($B9,Date_unitati!$B:$B,0))),"-",INDEX(Date_unitati!$AJ:$AJ,MATCH($B9,Date_unitati!$B:$B,0))),"-") -> 80 | I9: =IFERROR(IF(ISBLANK(INDEX(Date_unitati!$AK:$AK,MATCH($B9,Date_unitati!$B:$B,0))),"-",INDEX(Date_unitati!$AK:$AK,MATCH($B9,Date_unitati!$B:$B,0))),"-") -> - | J9: =IFERROR(IF(ISBLANK(INDEX(Date_unitati!$AL:$AL,MATCH($B9,Date_unitati!$B:$B,0))),"-",INDEX(Date_unitati!$AL:$AL,MATCH($B9,Date_unitati!$B:$B,0))),"-") -> 100 | K9: =IFERROR(IF(ISBLANK(INDEX(Date_unitati!$AM:$AM,MATCH($B9,Date_unitati!$B:$B,0))),"-",INDEX(Date_unitati!$AM:$AM,MATCH($B9,Date_unitati!$B:$B,0))),"-") -> 100 | L9: =IFERROR(IF(OR(ISTEXT(E9),ISTEXT(K9)),"-",ROUND(K9-E9,2)),"-") -> 42.86
A10: 7 | B10: LICEUL NAŢIONAL DE INFORMATICĂ ARAD | C10: ARAD | D10: URBAN | E10: =IFERROR(IF(ISBLANK(INDEX(Date_unitati!$AG:$AG,MATCH($B10,Date_unitati!$B:$B,0))),"-",INDEX(Date_unitati!$AG:$AG,MATCH($B10,Date_unitati!$B:$B,0))),"-") -> 96.031746 | F10: =IFERROR(IF(ISBLANK(INDEX(Date_unitati!$AH:$AH,MATCH($B10,Date_unitati!$B:$B,0))),"-",INDEX(Date_unitati!$AH:$AH,MATCH($B10,Date_unitati!$B:$B,0))),"-") -> 98.989899 | G10: =IFERROR(IF(ISBLANK(INDEX(Date_unitati!$AI:$AI,MATCH($B10,Date_unitati!$B:$B,0))),"-",INDEX(Date_unitati!$AI:$AI,MATCH($B10,Date_unitati!$B:$B,0))),"-") -> 98.275862 | H10: =IFERROR(IF(ISBLANK(INDEX(Date_unitati!$AJ:$AJ,MATCH($B10,Date_unitati!$B:$B,0))),"-",INDEX(Date_unitati!$AJ:$AJ,MATCH($B10,Date_unitati!$B:$B,0))),"-") -> 98.449612 | I10: =IFERROR(IF(ISBLANK(INDEX(Date_unitati!$AK:$AK,MATCH($B10,Date_unitati!$B:$B,0))),"-",INDEX(Date_unitati!$AK:$AK,MATCH($B10,Date_unitati!$B:$B,0))),"-") -> 97.709924 | J10: =IFERROR(IF(ISBLANK(INDEX(Date_unitati!$AL:$AL,MATCH($B10,Date_unitati!$B:$B,0))),"-",INDEX(Date_unitati!$AL:$AL,MATCH($B10,Date_unitati!$B:$B,0))),"-") -> 99.328859 | K10: =IFERROR(IF(ISBLANK(INDEX(Date_unitati!$AM:$AM,MATCH($B10,Date_unitati!$B:$B,0))),"-",INDEX(Date_unitati!$AM:$AM,MATCH($B10,Date_unitati!$B:$B,0))),"-") -> 99.152542 | L10: =IFERROR(IF(OR(ISTEXT(E10),ISTEXT(K10)),"-",ROUND(K10-E10,2)),"-") -> 3.12
A11: 8 | B11: COLEGIUL NAŢIONAL "PREPARANDIA-DIMITRIE ŢICHINDEAL" ARAD | C11: ARAD | D11: URBAN | E11: =IFERROR(IF(ISBLANK(INDEX(Date_unitati!$AG:$AG,MATCH($B11,Date_unitati!$B:$B,0))),"-",INDEX(Date_unitati!$AG:$AG,MATCH($B11,Date_unitati!$B:$B,0))),"-") -> 98.924731 | F11: =IFERROR(IF(ISBLANK(INDEX(Date_unitati!$AH:$AH,MATCH($B11,Date_unitati!$B:$B,0))),"-",INDEX(Date_unitati!$AH:$AH,MATCH($B11,Date_unitati!$B:$B,0))),"-") -> 93.478261 | G11: =IFERROR(IF(ISBLANK(INDEX(Date_unitati!$AI:$AI,MATCH($B11,Date_unitati!$B:$B,0))),"-",INDEX(Date_unitati!$AI:$AI,MATCH($B11,Date_unitati!$B:$B,0))),"-") -> 99.122807 | H11: =IFERROR(IF(ISBLANK(INDEX(Date_unitati!$AJ:$AJ,MATCH($B11,Date_unitati!$B:$B,0))),"-",INDEX(Date_unitati!$AJ:$AJ,MATCH($B11,Date_unitati!$B:$B,0))),"-") -> 96.747967 | I11: =IFERROR(IF(ISBLANK(INDEX(Date_unitati!$AK:$AK,MATCH($B11,Date_unitati!$B:$B,0))),"-",INDEX(Date_unitati!$AK:$AK,MATCH($B11,Date_unitati!$B:$B,0))),"-") -> 99.159664 | J11: =IFERROR(IF(ISBLANK(INDEX(Date_unitati!$AL:$AL,MATCH($B11,Date_unitati!$B:$B,0))),"-",INDEX(Date_unitati!$AL:$AL,MATCH($B11,Date_unitati!$B:$B,0))),"-") -> 97.435897 | K11: =IFERROR(IF(ISBLANK(INDEX(Date_unitati!$AM:$AM,MATCH($B11,Date_unitati!$B:$B,0))),"-",INDEX(Date_unitati!$AM:$AM,MATCH($B11,Date_unitati!$B:$B,0))),"-") -> 98.958333 | L11: =IFERROR(IF(OR(ISTEXT(E11),ISTEXT(K11)),"-",ROUND(K11-E11,2)),"-") -> 0.03
A12: 9 | B12: LICEUL TEOLOGIC BAPTIST "ALEXA POPOVICI" ARAD | C12: ARAD | D12: URBAN | E12: =IFERROR(IF(ISBLANK(INDEX(Date_unitati!$AG:$AG,MATCH($B12,Date_unitati!$B:$B,0))),"-",INDEX(Date_unitati!$AG:$AG,MATCH($B12,Date_unitati!$B:$B,0))),"-") -> 100 | F12: =IFERROR(IF(ISBLANK(INDEX(Date_unitati!$AH:$AH,MATCH($B12,Date_unitati!$B:$B,0))),"-",INDEX(Date_unitati!$AH:$AH,MATCH($B12,Date_unitati!$B:$B,0))),"-") -> 98.181818 | G12: =IFERROR(IF(ISBLANK(INDEX(Date_unitati!$AI:$AI,MATCH($B12,Date_unitati!$B:$B,0))),"-",INDEX(Date_unitati!$AI:$AI,MATCH($B12,Date_unitati!$B:$B,0))),"-") -> 100 | H12: =IFERROR(IF(ISBLANK(INDEX(Date_unitati!$AJ:$AJ,MATCH($B12,Date_unitati!$B:$B,0))),"-",INDEX(Date_unitati!$AJ:$AJ,MATCH($B12,Date_unitati!$B:$B,0))),"-") -> 100 | I12: =IFERROR(IF(ISBLANK(INDEX(Date_unitati!$AK:$AK,MATCH($B12,Date_unitati!$B:$B,0))),"-",INDEX(Date_unitati!$AK:$AK,MATCH($B12,Date_unitati!$B:$B,0))),"-") -> 98.734177 | J12: =IFERROR(IF(ISBLANK(INDEX(Date_unitati!$AL:$AL,MATCH($B12,Date_unitati!$B:$B,0))),"-",INDEX(Date_unitati!$AL:$AL,MATCH($B12,Date_unitati!$B:$B,0))),"-") -> 100 | K12: =IFERROR(IF(ISBLANK(INDEX(Date_unitati!$AM:$AM,MATCH($B12,Date_unitati!$B:$B,0))),"-",INDEX(Date_unitati!$AM:$AM,MATCH($B12,Date_unitati!$B:$B,0))),"-") -> 98.113208 | L12: =IFERROR(IF(OR(ISTEXT(E12),ISTEXT(K12)),"-",ROUND(K12-E12,2)),"-") -> -1.89
A13: 10 | B13: COLEGIUL"CSIKY GERGELY" ARAD | C13: ARAD | D13: URBAN | E13: =IFERROR(IF(ISBLANK(INDEX(Date_unitati!$AG:$AG,MATCH($B13,Date_unitati!$B:$B,0))),"-",INDEX(Date_unitati!$AG:$AG,MATCH($B13,Date_unitati!$B:$B,0))),"-") -> 68.181818 | F13: =IFERROR(IF(ISBLANK(INDEX(Date_unitati!$AH:$AH,MATCH($B13,Date_unitati!$B:$B,0))),"-",INDEX(Date_unitati!$AH:$AH,MATCH($B13,Date_unitati!$B:$B,0))),"-") -> 96.296296 | G13: =IFERROR(IF(ISBLANK(INDEX(Date_unitati!$AI:$AI,MATCH($B13,Date_unitati!$B:$B,0))),"-",INDEX(Date_unitati!$AI:$AI,MATCH($B13,Date_unitati!$B:$B,0))),"-") -> 96.969697 | H13: =IFERROR(IF(ISBLANK(INDEX(Date_unitati!$AJ:$AJ,MATCH($B13,Date_unitati!$B:$B,0))),"-",INDEX(Date_unitati!$AJ:$AJ,MATCH($B13,Date_unitati!$B:$B,0))),"-") -> 100 | I13: =IFERROR(IF(ISBLANK(INDEX(Date_unitati!$AK:$AK,MATCH($B13,Date_unitati!$B:$B,0))),"-",INDEX(Date_unitati!$AK:$AK,MATCH($B13,Date_unitati!$B:$B,0))),"-") -> 100 | J13: =IFERROR(IF(ISBLANK(INDEX(Date_unitati!$AL:$AL,MATCH($B13,Date_unitati!$B:$B,0))),"-",INDEX(Date_unitati!$AL:$AL,MATCH($B13,Date_unitati!$B:$B,0))),"-") -> 92.857143 | K13: =IFERROR(IF(ISBLANK(INDEX(Date_unitati!$AM:$AM,MATCH($B13,Date_unitati!$B:$B,0))),"-",INDEX(Date_unitati!$AM:$AM,MATCH($B13,Date_unitati!$B:$B,0))),"-") -> 97.058824 | L13: =IFERROR(IF(OR(ISTEXT(E13),ISTEXT(K13)),"-",ROUND(K13-E13,2)),"-") -> 28.88
A14: 11 | B14: ŞCOALA GIMNAZIALĂ LIVADA | C14: LIVADA | D14: RURAL | E14: =IFERROR(IF(ISBLANK(INDEX(Date_unitati!$AG:$AG,MATCH($B14,Date_unitati!$B:$B,0))),"-",INDEX(Date_unitati!$AG:$AG,MATCH($B14,Date_unitati!$B:$B,0))),"-") -> 100 | F14: =IFERROR(IF(ISBLANK(INDEX(Date_unitati!$AH:$AH,MATCH($B14,Date_unitati!$B:$B,0))),"-",INDEX(Date_unitati!$AH:$AH,MATCH($B14,Date_unitati!$B:$B,0))),"-") -> 100 | G14: =IFERROR(IF(ISBLANK(INDEX(Date_unitati!$AI:$AI,MATCH($B14,Date_unitati!$B:$B,0))),"-",INDEX(Date_unitati!$AI:$AI,MATCH($B14,Date_unitati!$B:$B,0))),"-") -> 100 | H14: =IFERROR(IF(ISBLANK(INDEX(Date_unitati!$AJ:$AJ,MATCH($B14,Date_unitati!$B:$B,0))),"-",INDEX(Date_unitati!$AJ:$AJ,MATCH($B14,Date_unitati!$B:$B,0))),"-") -> 83.333333 | I14: =IFERROR(IF(ISBLANK(INDEX(Date_unitati!$AK:$AK,MATCH($B14,Date_unitati!$B:$B,0))),"-",INDEX(Date_unitati!$AK:$AK,MATCH($B14,Date_unitati!$B:$B,0))),"-") -> 100 | J14: =IFERROR(IF(ISBLANK(INDEX(Date_unitati!$AL:$AL,MATCH($B14,Date_unitati!$B:$B,0))),"-",INDEX(Date_unitati!$AL:$AL,MATCH($B14,Date_unitati!$B:$B,0))),"-") -> 100 | K14: =IFERROR(IF(ISBLANK(INDEX(Date_unitati!$AM:$AM,MATCH($B14,Date_unitati!$B:$B,0))),"-",INDEX(Date_unitati!$AM:$AM,MATCH($B14,Date_unitati!$B:$B,0))),"-") -> 95.454545 | L14: =IFERROR(IF(OR(ISTEXT(E14),ISTEXT(K14)),"-",ROUND(K14-E14,2)),"-") -> -4.55
A15: 12 | B15: ŞCOALA GIMNAZIALĂ "DR.IOAN DANICICO" SEMLAC | C15: SEMLAC | D15: RURAL | E15: =IFERROR(IF(ISBLANK(INDEX(Date_unitati!$AG:$AG,MATCH($B15,Date_unitati!$B:$B,0))),"-",INDEX(Date_unitati!$AG:$AG,MATCH($B15,Date_unitati!$B:$B,0))),"-") -> 51.515152 | F15: =IFERROR(IF(ISBLANK(INDEX(Date_unitati!$AH:$AH,MATCH($B15,Date_unitati!$B:$B,0))),"-",INDEX(Date_unitati!$AH:$AH,MATCH($B15,Date_unitati!$B:$B,0))),"-") -> 54.166667 | G15: =IFERROR(IF(ISBLANK(INDEX(Date_unitati!$AI:$AI,MATCH($B15,Date_unitati!$B:$B,0))),"-",INDEX(Date_unitati!$AI:$AI,MATCH($B15,Date_unitati!$B:$B,0))),"-") -> 77.272727 | H15: =IFERROR(IF(ISBLANK(INDEX(Date_unitati!$AJ:$AJ,MATCH($B15,Date_unitati!$B:$B,0))),"-",INDEX(Date_unitati!$AJ:$AJ,MATCH($B15,Date_unitati!$B:$B,0))),"-") -> 66.666667 | I15: =IFERROR(IF(ISBLANK(INDEX(Date_unitati!$AK:$AK,MATCH($B15,Date_unitati!$B:$B,0))),"-",INDEX(Date_unitati!$AK:$AK,MATCH($B15,Date_unitati!$B:$B,0))),"-") -> 64.516129 | J15: =IFERROR(IF(ISBLANK(INDEX(Date_unitati!$AL:$AL,MATCH($B15,Date_unitati!$B:$B,0))),"-",INDEX(Date_unitati!$AL:$AL,MATCH($B15,Date_unitati!$B:$B,0))),"-") -> 100 | K15: =IFERROR(IF(ISBLANK(INDEX(Date_unitati!$AM:$AM,MATCH($B15,Date_unitati!$B:$B,0))),"-",INDEX(Date_unitati!$AM:$AM,MATCH($B15,Date_unitati!$B:$B,0))),"-") -> 95.238095 | L15: =IFERROR(IF(OR(ISTEXT(E15),ISTEXT(K15)),"-",ROUND(K15-E15,2)),"-") -> 43.72
... A116: 113 | B116: ŞCOALA GIMNAZIALĂ FISCUT | C116: FISCUT | D116: RURAL | E116: =IFERROR(IF(ISBLANK(INDEX(Date_unitati!$AG:$AG,MATCH($B116,Date_unitati!$B:$B,0))),"-",INDEX(Date_unitati!$AG:$AG,MATCH($B116,Date_unitati!$B:$B,0))),"-") -> 50 | F116: =IFERROR(IF(ISBLANK(INDEX(Date_unitati!$AH:$AH,MATCH($B116,Date_unitati!$B:$B,0))),"-",INDEX(Date_unitati!$AH:$AH,MATCH($B116,Date_unitati!$B:$B,0))),"-") -> 0 | G116: =IFERROR(IF(ISBLANK(INDEX(Date_unitati!$AI:$AI,MATCH($B116,Date_unitati!$B:$B,0))),"-",INDEX(Date_unitati!$AI:$AI,MATCH($B116,Date_unitati!$B:$B,0))),"-") -> 20 | H116: =IFERROR(IF(ISBLANK(INDEX(Date_unitati!$AJ:$AJ,MATCH($B116,Date_unitati!$B:$B,0))),"-",INDEX(Date_unitati!$AJ:$AJ,MATCH($B116,Date_unitati!$B:$B,0))),"-") -> 26.666667 | I116: =IFERROR(IF(ISBLANK(INDEX(Date_unitati!$AK:$AK,MATCH($B116,Date_unitati!$B:$B,0))),"-",INDEX(Date_unitati!$AK:$AK,MATCH($B116,Date_unitati!$B:$B,0))),"-") -> 33.333333 | J116: =IFERROR(IF(ISBLANK(INDEX(Date_unitati!$AL:$AL,MATCH($B116,Date_unitati!$B:$B,0))),"-",INDEX(Date_unitati!$AL:$AL,MATCH($B116,Date_unitati!$B:$B,0))),"-") -> 20 | K116: =IFERROR(IF(ISBLANK(INDEX(Date_unitati!$AM:$AM,MATCH($B116,Date_unitati!$B:$B,0))),"-",INDEX(Date_unitati!$AM:$AM,MATCH($B116,Date_unitati!$B:$B,0))),"-") -> - | L116: =IFERROR(IF(OR(ISTEXT(E116),ISTEXT(K116)),"-",ROUND(K116-E116,2)),"-") -> -

Sheet Evoluție medie generală
A1: Evoluția mediei generale (media finală EN) pe fiecare unitate, 2020→2026, sortată descrescător după media din 2026.
A3: Loc | B3: Unitate | C3: Localitate | D3: Mediu | E3: 2020 | F3: 2021 | G3: 2022 | H3: 2023 | I3: 2024 | J3: 2025 | K3: 2026 | L3: Δ total
A4: 1 | B4: COLEGIUL NAŢIONAL "MOISE NICOARĂ" ARAD | C4: ARAD | D4: URBAN | E4: =IFERROR(IF(ISBLANK(INDEX(Date_unitati!$L:$L,MATCH($B4,Date_unitati!$B:$B,0))),"-",INDEX(Date_unitati!$L:$L,MATCH($B4,Date_unitati!$B:$B,0))),"-") -> 9.1715556 | F4: =IFERROR(IF(ISBLANK(INDEX(Date_unitati!$M:$M,MATCH($B4,Date_unitati!$B:$B,0))),"-",INDEX(Date_unitati!$M:$M,MATCH($B4,Date_unitati!$B:$B,0))),"-") -> 8.7840909 | G4: =IFERROR(IF(ISBLANK(INDEX(Date_unitati!$N:$N,MATCH($B4,Date_unitati!$B:$B,0))),"-",INDEX(Date_unitati!$N:$N,MATCH($B4,Date_unitati!$B:$B,0))),"-") -> 8.8245238 | H4: =IFERROR(IF(ISBLANK(INDEX(Date_unitati!$O:$O,MATCH($B4,Date_unitati!$B:$B,0))),"-",INDEX(Date_unitati!$O:$O,MATCH($B4,Date_unitati!$B:$B,0))),"-") -> 9.0148837 | I4: =IFERROR(IF(ISBLANK(INDEX(Date_unitati!$P:$P,MATCH($B4,Date_unitati!$B:$B,0))),"-",INDEX(Date_unitati!$P:$P,MATCH($B4,Date_unitati!$B:$B,0))),"-") -> 8.532809 | J4: =IFERROR(IF(ISBLANK(INDEX(Date_unitati!$Q:$Q,MATCH($B4,Date_unitati!$B:$B,0))),"-",INDEX(Date_unitati!$Q:$Q,MATCH($B4,Date_unitati!$B:$B,0))),"-") -> 8.6940964 | K4: =IFERROR(IF(ISBLANK(INDEX(Date_unitati!$R:$R,MATCH($B4,Date_unitati!$B:$B,0))),"-",INDEX(Date_unitati!$R:$R,MATCH($B4,Date_unitati!$B:$B,0))),"-") -> 8.6824719 | L4: =IFERROR(IF(OR(ISTEXT(E4),ISTEXT(K4)),"-",ROUND(K4-E4,2)),"-") -> -0.49
A5: 2 | B5: COLEGIUL NAŢIONAL "PREPARANDIA-DIMITRIE ŢICHINDEAL" ARAD | C5: ARAD | D5: URBAN | E5: =IFERROR(IF(ISBLANK(INDEX(Date_unitati!$L:$L,MATCH($B5,Date_unitati!$B:$B,0))),"-",INDEX(Date_unitati!$L:$L,MATCH($B5,Date_unitati!$B:$B,0))),"-") -> 8.3816129 | F5: =IFERROR(IF(ISBLANK(INDEX(Date_unitati!$M:$M,MATCH($B5,Date_unitati!$B:$B,0))),"-",INDEX(Date_unitati!$M:$M,MATCH($B5,Date_unitati!$B:$B,0))),"-") -> 7.5738043 | G5: =IFERROR(IF(ISBLANK(INDEX(Date_unitati!$N:$N,MATCH($B5,Date_unitati!$B:$B,0))),"-",INDEX(Date_unitati!$N:$N,MATCH($B5,Date_unitati!$B:$B,0))),"-") -> 8.0660526 | H5: =IFERROR(IF(ISBLANK(INDEX(Date_unitati!$O:$O,MATCH($B5,Date_unitati!$B:$B,0))),"-",INDEX(Date_unitati!$O:$O,MATCH($B5,Date_unitati!$B:$B,0))),"-") -> 7.6141463 | I5: =IFERROR(IF(ISBLANK(INDEX(Date_unitati!$P:$P,MATCH($B5,Date_unitati!$B:$B,0))),"-",INDEX(Date_unitati!$P:$P,MATCH($B5,Date_unitati!$B:$B,0))),"-") -> 7.4442017 | J5: =IFERROR(IF(ISBLANK(INDEX(Date_unitati!$Q:$Q,MATCH($B5,Date_unitati!$B:$B,0))),"-",INDEX(Date_unitati!$Q:$Q,MATCH($B5,Date_unitati!$B:$B,0))),"-") -> 8.1235043 | K5: =IFERROR(IF(ISBLANK(INDEX(Date_unitati!$R:$R,MATCH($B5,Date_unitati!$B:$B,0))),"-",INDEX(Date_unitati!$R:$R,MATCH($B5,Date_unitati!$B:$B,0))),"-") -> 8.1480208 | L5: =IFERROR(IF(OR(ISTEXT(E5),ISTEXT(K5)),"-",ROUND(K5-E5,2)),"-") -> -0.23
A6: 3 | B6: LICEUL TEORETIC "SFÂNTUL IERARH NICOLAE" ARAD | C6: ARAD | D6: URBAN | E6: =IFERROR(IF(ISBLANK(INDEX(Date_unitati!$L:$L,MATCH($B6,Date_unitati!$B:$B,0))),"-",INDEX(Date_unitati!$L:$L,MATCH($B6,Date_unitati!$B:$B,0))),"-") -> - | F6: =IFERROR(IF(ISBLANK(INDEX(Date_unitati!$M:$M,MATCH($B6,Date_unitati!$B:$B,0))),"-",INDEX(Date_unitati!$M:$M,MATCH($B6,Date_unitati!$B:$B,0))),"-") -> - | G6: =IFERROR(IF(ISBLANK(INDEX(Date_unitati!$N:$N,MATCH($B6,Date_unitati!$B:$B,0))),"-",INDEX(Date_unitati!$N:$N,MATCH($B6,Date_unitati!$B:$B,0))),"-") -> - | H6: =IFERROR(IF(ISBLANK(INDEX(Date_unitati!$O:$O,MATCH($B6,Date_unitati!$B:$B,0))),"-",INDEX(Date_unitati!$O:$O,MATCH($B6,Date_unitati!$B:$B,0))),"-") -> - | I6: =IFERROR(IF(ISBLANK(INDEX(Date_unitati!$P:$P,MATCH($B6,Date_unitati!$B:$B,0))),"-",INDEX(Date_unitati!$P:$P,MATCH($B6,Date_unitati!$B:$B,0))),"-") -> - | J6: =IFERROR(IF(ISBLANK(INDEX(Date_unitati!$Q:$Q,MATCH($B6,Date_unitati!$B:$B,0))),"-",INDEX(Date_unitati!$Q:$Q,MATCH($B6,Date_unitati!$B:$B,0))),"-") -> 8.1863636 | K6: =IFERROR(IF(ISBLANK(INDEX(Date_unitati!$R:$R,MATCH($B6,Date_unitati!$B:$B,0))),"-",INDEX(Date_unitati!$R:$R,MATCH($B6,Date_unitati!$B:$B,0))),"-") -> 8.0733333 | L6: =IFERROR(IF(OR(ISTEXT(E6),ISTEXT(K6)),"-",ROUND(K6-E6,2)),"-") -> -
A7: 4 | B7: ŞCOALA GIMNAZIALĂ HĂLMĂGEL | C7: HĂLMĂGEL | D7: RURAL | E7: =IFERROR(IF(ISBLANK(INDEX(Date_unitati!$L:$L,MATCH($B7,Date_unitati!$B:$B,0))),"-",INDEX(Date_unitati!$L:$L,MATCH($B7,Date_unitati!$B:$B,0))),"-") -> 6.4071429 | F7: =IFERROR(IF(ISBLANK(INDEX(Date_unitati!$M:$M,MATCH($B7,Date_unitati!$B:$B,0))),"-",INDEX(Date_unitati!$M:$M,MATCH($B7,Date_unitati!$B:$B,0))),"-") -> 7.037 | G7: =IFERROR(IF(ISBLANK(INDEX(Date_unitati!$N:$N,MATCH($B7,Date_unitati!$B:$B,0))),"-",INDEX(Date_unitati!$N:$N,MATCH($B7,Date_unitati!$B:$B,0))),"-") -> 7.0183333 | H7: =IFERROR(IF(ISBLANK(INDEX(Date_unitati!$O:$O,MATCH($B7,Date_unitati!$B:$B,0))),"-",INDEX(Date_unitati!$O:$O,MATCH($B7,Date_unitati!$B:$B,0))),"-") -> 6.658 | I7: =IFERROR(IF(ISBLANK(INDEX(Date_unitati!$P:$P,MATCH($B7,Date_unitati!$B:$B,0))),"-",INDEX(Date_unitati!$P:$P,MATCH($B7,Date_unitati!$B:$B,0))),"-") -> - | J7: =IFERROR(IF(ISBLANK(INDEX(Date_unitati!$Q:$Q,MATCH($B7,Date_unitati!$B:$B,0))),"-",INDEX(Date_unitati!$Q:$Q,MATCH($B7,Date_unitati!$B:$B,0))),"-") -> 7.69 | K7: =IFERROR(IF(ISBLANK(INDEX(Date_unitati!$R:$R,MATCH($B7,Date_unitati!$B:$B,0))),"-",INDEX(Date_unitati!$R:$R,MATCH($B7,Date_unitati!$B:$B,0))),"-") -> 7.945 | L7: =IFERROR(IF(OR(ISTEXT(E7),ISTEXT(K7)),"-",ROUND(K7-E7,2)),"-") -> 1.54
A8: 5 | B8: LICEUL TEOLOGIC BAPTIST "ALEXA POPOVICI" ARAD | C8: ARAD | D8: URBAN | E8: =IFERROR(IF(ISBLANK(INDEX(Date_unitati!$L:$L,MATCH($B8,Date_unitati!$B:$B,0))),"-",INDEX(Date_unitati!$L:$L,MATCH($B8,Date_unitati!$B:$B,0))),"-") -> 8.3841935 | F8: =IFERROR(IF(ISBLANK(INDEX(Date_unitati!$M:$M,MATCH($B8,Date_unitati!$B:$B,0))),"-",INDEX(Date_unitati!$M:$M,MATCH($B8,Date_unitati!$B:$B,0))),"-") -> 7.5609091 | G8: =IFERROR(IF(ISBLANK(INDEX(Date_unitati!$N:$N,MATCH($B8,Date_unitati!$B:$B,0))),"-",INDEX(Date_unitati!$N:$N,MATCH($B8,Date_unitati!$B:$B,0))),"-") -> 8.2140385 | H8: =IFERROR(IF(ISBLANK(INDEX(Date_unitati!$O:$O,MATCH($B8,Date_unitati!$B:$B,0))),"-",INDEX(Date_unitati!$O:$O,MATCH($B8,Date_unitati!$B:$B,0))),"-") -> 8.2996491 | I8: =IFERROR(IF(ISBLANK(INDEX(Date_unitati!$P:$P,MATCH($B8,Date_unitati!$B:$B,0))),"-",INDEX(Date_unitati!$P:$P,MATCH($B8,Date_unitati!$B:$B,0))),"-") -> 7.9641772 | J8: =IFERROR(IF(ISBLANK(INDEX(Date_unitati!$Q:$Q,MATCH($B8,Date_unitati!$B:$B,0))),"-",INDEX(Date_unitati!$Q:$Q,MATCH($B8,Date_unitati!$B:$B,0))),"-") -> 7.9903448 | K8: =IFERROR(IF(ISBLANK(INDEX(Date_unitati!$R:$R,MATCH($B8,Date_unitati!$B:$B,0))),"-",INDEX(Date_unitati!$R:$R,MATCH($B8,Date_unitati!$B:$B,0))),"-") -> 7.8932075 | L8: =IFERROR(IF(OR(ISTEXT(E8),ISTEXT(K8)),"-",ROUND(K8-E8,2)),"-") -> -0.49
A9: 6 | B9: COLEGIUL NAŢIONAL "VASILE GOLDIŞ" ARAD | C9: ARAD | D9: URBAN | E9: =IFERROR(IF(ISBLANK(INDEX(Date_unitati!$L:$L,MATCH($B9,Date_unitati!$B:$B,0))),"-",INDEX(Date_unitati!$L:$L,MATCH($B9,Date_unitati!$B:$B,0))),"-") -> 7.5917857 | F9: =IFERROR(IF(ISBLANK(INDEX(Date_unitati!$M:$M,MATCH($B9,Date_unitati!$B:$B,0))),"-",INDEX(Date_unitati!$M:$M,MATCH($B9,Date_unitati!$B:$B,0))),"-") -> 7.2846667 | G9: =IFERROR(IF(ISBLANK(INDEX(Date_unitati!$N:$N,MATCH($B9,Date_unitati!$B:$B,0))),"-",INDEX(Date_unitati!$N:$N,MATCH($B9,Date_unitati!$B:$B,0))),"-") -> 7.7046875 | H9: =IFERROR(IF(ISBLANK(INDEX(Date_unitati!$O:$O,MATCH($B9,Date_unitati!$B:$B,0))),"-",INDEX(Date_unitati!$O:$O,MATCH($B9,Date_unitati!$B:$B,0))),"-") -> 7.467193 | I9: =IFERROR(IF(ISBLANK(INDEX(Date_unitati!$P:$P,MATCH($B9,Date_unitati!$B:$B,0))),"-",INDEX(Date_unitati!$P:$P,MATCH($B9,Date_unitati!$B:$B,0))),"-") -> 7.3446602 | J9: =IFERROR(IF(ISBLANK(INDEX(Date_unitati!$Q:$Q,MATCH($B9,Date_unitati!$B:$B,0))),"-",INDEX(Date_unitati!$Q:$Q,MATCH($B9,Date_unitati!$B:$B,0))),"-") -> 7.7489011 | K9: =IFERROR(IF(ISBLANK(INDEX(Date_unitati!$R:$R,MATCH($B9,Date_unitati!$B:$B,0))),"-",INDEX(Date_unitati!$R:$R,MATCH($B9,Date_unitati!$B:$B,0))),"-") -> 7.8737374 | L9: =IFERROR(IF(OR(ISTEXT(E9),ISTEXT(K9)),"-",ROUND(K9-E9,2)),"-") -> 0.28
A10: 7 | B10: LICEUL NAŢIONAL DE INFORMATICĂ ARAD | C10: ARAD | D10: URBAN | E10: =IFERROR(IF(ISBLANK(INDEX(Date_unitati!$L:$L,MATCH($B10,Date_unitati!$B:$B,0))),"-",INDEX(Date_unitati!$L:$L,MATCH($B10,Date_unitati!$B:$B,0))),"-") -> 8.246746 | F10: =IFERROR(IF(ISBLANK(INDEX(Date_unitati!$M:$M,MATCH($B10,Date_unitati!$B:$B,0))),"-",INDEX(Date_unitati!$M:$M,MATCH($B10,Date_unitati!$B:$B,0))),"-") -> 7.9217172 | G10: =IFERROR(IF(ISBLANK(INDEX(Date_unitati!$N:$N,MATCH($B10,Date_unitati!$B:$B,0))),"-",INDEX(Date_unitati!$N:$N,MATCH($B10,Date_unitati!$B:$B,0))),"-") -> 8.1039655 | H10: =IFERROR(IF(ISBLANK(INDEX(Date_unitati!$O:$O,MATCH($B10,Date_unitati!$B:$B,0))),"-",INDEX(Date_unitati!$O:$O,MATCH($B10,Date_unitati!$B:$B,0))),"-") -> 7.8630233 | I10: =IFERROR(IF(ISBLANK(INDEX(Date_unitati!$P:$P,MATCH($B10,Date_unitati!$B:$B,0))),"-",INDEX(Date_unitati!$P:$P,MATCH($B10,Date_unitati!$B:$B,0))),"-") -> 7.6962595 | J10: =IFERROR(IF(ISBLANK(INDEX(Date_unitati!$Q:$Q,MATCH($B10,Date_unitati!$B:$B,0))),"-",INDEX(Date_unitati!$Q:$Q,MATCH($B10,Date_unitati!$B:$B,0))),"-") -> 8.4479195 | K10: =IFERROR(IF(ISBLANK(INDEX(Date_unitati!$R:$R,MATCH($B10,Date_unitati!$B:$B,0))),"-",INDEX(Date_unitati!$R:$R,MATCH($B10,Date_unitati!$B:$B,0))),"-") -> 7.805 | L10: =IFERROR(IF(OR(ISTEXT(E10),ISTEXT(K10)),"-",ROUND(K10-E10,2)),"-") -> -0.44
A11: 8 | B11: ŞCOALA GIMNAZIALĂ CĂRAND | C11: CĂRAND | D11: RURAL | E11: =IFERROR(IF(ISBLANK(INDEX(Date_unitati!$L:$L,MATCH($B11,Date_unitati!$B:$B,0))),"-",INDEX(Date_unitati!$L:$L,MATCH($B11,Date_unitati!$B:$B,0))),"-") -> 5.875 | F11: =IFERROR(IF(ISBLANK(INDEX(Date_unitati!$M:$M,MATCH($B11,Date_unitati!$B:$B,0))),"-",INDEX(Date_unitati!$M:$M,MATCH($B11,Date_unitati!$B:$B,0))),"-") -> 6.032 | G11: =IFERROR(IF(ISBLANK(INDEX(Date_unitati!$N:$N,MATCH($B11,Date_unitati!$B:$B,0))),"-",INDEX(Date_unitati!$N:$N,MATCH($B11,Date_unitati!$B:$B,0))),"-") -> 7.936 | H11: =IFERROR(IF(ISBLANK(INDEX(Date_unitati!$O:$O,MATCH($B11,Date_unitati!$B:$B,0))),"-",INDEX(Date_unitati!$O:$O,MATCH($B11,Date_unitati!$B:$B,0))),"-") -> 5.65 | I11: =IFERROR(IF(ISBLANK(INDEX(Date_unitati!$P:$P,MATCH($B11,Date_unitati!$B:$B,0))),"-",INDEX(Date_unitati!$P:$P,MATCH($B11,Date_unitati!$B:$B,0))),"-") -> 6.99 | J11: =IFERROR(IF(ISBLANK(INDEX(Date_unitati!$Q:$Q,MATCH($B11,Date_unitati!$B:$B,0))),"-",INDEX(Date_unitati!$Q:$Q,MATCH($B11,Date_unitati!$B:$B,0))),"-") -> 6.1075 | K11: =IFERROR(IF(ISBLANK(INDEX(Date_unitati!$R:$R,MATCH($B11,Date_unitati!$B:$B,0))),"-",INDEX(Date_unitati!$R:$R,MATCH($B11,Date_unitati!$B:$B,0))),"-") -> 7.708 | L11: =IFERROR(IF(OR(ISTEXT(E11),ISTEXT(K11)),"-",ROUND(K11-E11,2)),"-") -> 1.83
A12: 9 | B12: COLEGIUL"CSIKY GERGELY" ARAD | C12: ARAD | D12: URBAN | E12: =IFERROR(IF(ISBLANK(INDEX(Date_unitati!$L:$L,MATCH($B12,Date_unitati!$B:$B,0))),"-",INDEX(Date_unitati!$L:$L,MATCH($B12,Date_unitati!$B:$B,0))),"-") -> 6.0513636 | F12: =IFERROR(IF(ISBLANK(INDEX(Date_unitati!$M:$M,MATCH($B12,Date_unitati!$B:$B,0))),"-",INDEX(Date_unitati!$M:$M,MATCH($B12,Date_unitati!$B:$B,0))),"-") -> 7.2751852 | G12: =IFERROR(IF(ISBLANK(INDEX(Date_unitati!$N:$N,MATCH($B12,Date_unitati!$B:$B,0))),"-",INDEX(Date_unitati!$N:$N,MATCH($B12,Date_unitati!$B:$B,0))),"-") -> 7.2339394 | H12: =IFERROR(IF(ISBLANK(INDEX(Date_unitati!$O:$O,MATCH($B12,Date_unitati!$B:$B,0))),"-",INDEX(Date_unitati!$O:$O,MATCH($B12,Date_unitati!$B:$B,0))),"-") -> 7.5485714 | I12: =IFERROR(IF(ISBLANK(INDEX(Date_unitati!$P:$P,MATCH($B12,Date_unitati!$B:$B,0))),"-",INDEX(Date_unitati!$P:$P,MATCH($B12,Date_unitati!$B:$B,0))),"-") -> 7.6462857 | J12: =IFERROR(IF(ISBLANK(INDEX(Date_unitati!$Q:$Q,MATCH($B12,Date_unitati!$B:$B,0))),"-",INDEX(Date_unitati!$Q:$Q,MATCH($B12,Date_unitati!$B:$B,0))),"-") -> 7.2707143 | K12: =IFERROR(IF(ISBLANK(INDEX(Date_unitati!$R:$R,MATCH($B12,Date_unitati!$B:$B,0))),"-",INDEX(Date_unitati!$R:$R,MATCH($B12,Date_unitati!$B:$B,0))),"-") -> 7.1423529 | L12: =IFERROR(IF(OR(ISTEXT(E12),ISTEXT(K12)),"-",ROUND(K12-E12,2)),"-") -> 1.09
A13: 10 | B13: ŞCOALA GIMNAZIALĂ "VIRGIL IOVĂNAŞ" ŞOFRONEA | C13: ŞOFRONEA | D13: RURAL | E13: =IFERROR(IF(ISBLANK(INDEX(Date_unitati!$L:$L,MATCH($B13,Date_unitati!$B:$B,0))),"-",INDEX(Date_unitati!$L:$L,MATCH($B13,Date_unitati!$B:$B,0))),"-") -> 6.352 | F13: =IFERROR(IF(ISBLANK(INDEX(Date_unitati!$M:$M,MATCH($B13,Date_unitati!$B:$B,0))),"-",INDEX(Date_unitati!$M:$M,MATCH($B13,Date_unitati!$B:$B,0))),"-") -> 5.76 | G13: =IFERROR(IF(ISBLANK(INDEX(Date_unitati!$N:$N,MATCH($B13,Date_unitati!$B:$B,0))),"-",INDEX(Date_unitati!$N:$N,MATCH($B13,Date_unitati!$B:$B,0))),"-") -> 6.5045455 | H13: =IFERROR(IF(ISBLANK(INDEX(Date_unitati!$O:$O,MATCH($B13,Date_unitati!$B:$B,0))),"-",INDEX(Date_unitati!$O:$O,MATCH($B13,Date_unitati!$B:$B,0))),"-") -> 5.5054545 | I13: =IFERROR(IF(ISBLANK(INDEX(Date_unitati!$P:$P,MATCH($B13,Date_unitati!$B:$B,0))),"-",INDEX(Date_unitati!$P:$P,MATCH($B13,Date_unitati!$B:$B,0))),"-") -> 5.691 | J13: =IFERROR(IF(ISBLANK(INDEX(Date_unitati!$Q:$Q,MATCH($B13,Date_unitati!$B:$B,0))),"-",INDEX(Date_unitati!$Q:$Q,MATCH($B13,Date_unitati!$B:$B,0))),"-") -> 6.7715385 | K13: =IFERROR(IF(ISBLANK(INDEX(Date_unitati!$R:$R,MATCH($B13,Date_unitati!$B:$B,0))),"-",INDEX(Date_unitati!$R:$R,MATCH($B13,Date_unitati!$B:$B,0))),"-") -> 7.1328571 | L13: =IFERROR(IF(OR(ISTEXT(E13),ISTEXT(K13)),"-",ROUND(K13-E13,2)),"-") -> 0.78
A14: 11 | B14: ŞCOALA GIMNAZIALĂ HĂŞMAŞ | C14: HĂŞMAŞ | D14: RURAL | E14: =IFERROR(IF(ISBLANK(INDEX(Date_unitati!$L:$L,MATCH($B14,Date_unitati!$B:$B,0))),"-",INDEX(Date_unitati!$L:$L,MATCH($B14,Date_unitati!$B:$B,0))),"-") -> 5.7663636 | F14: =IFERROR(IF(ISBLANK(INDEX(Date_unitati!$M:$M,MATCH($B14,Date_unitati!$B:$B,0))),"-",INDEX(Date_unitati!$M:$M,MATCH($B14,Date_unitati!$B:$B,0))),"-") -> 5.3688889 | G14: =IFERROR(IF(ISBLANK(INDEX(Date_unitati!$N:$N,MATCH($B14,Date_unitati!$B:$B,0))),"-",INDEX(Date_unitati!$N:$N,MATCH($B14,Date_unitati!$B:$B,0))),"-") -> 5.7918182 | H14: =IFERROR(IF(ISBLANK(INDEX(Date_unitati!$O:$O,MATCH($B14,Date_unitati!$B:$B,0))),"-",INDEX(Date_unitati!$O:$O,MATCH($B14,Date_unitati!$B:$B,0))),"-") -> 4.5835294 | I14: =IFERROR(IF(ISBLANK(INDEX(Date_unitati!$P:$P,MATCH($B14,Date_unitati!$B:$B,0))),"-",INDEX(Date_unitati!$P:$P,MATCH($B14,Date_unitati!$B:$B,0))),"-") -> 4.822 | J14: =IFERROR(IF(ISBLANK(INDEX(Date_unitati!$Q:$Q,MATCH($B14,Date_unitati!$B:$B,0))),"-",INDEX(Date_unitati!$Q:$Q,MATCH($B14,Date_unitati!$B:$B,0))),"-") -> 5.68625 | K14: =IFERROR(IF(ISBLANK(INDEX(Date_unitati!$R:$R,MATCH($B14,Date_unitati!$B:$B,0))),"-",INDEX(Date_unitati!$R:$R,MATCH($B14,Date_unitati!$B:$B,0))),"-") -> 7.13 | L14: =IFERROR(IF(OR(ISTEXT(E14),ISTEXT(K14)),"-",ROUND(K14-E14,2)),"-") -> 1.36
A15: 12 | B15: COLEGIUL NAŢIONAL "ELENA GHIBA BIRTA" ARAD | C15: ARAD | D15: URBAN | E15: =IFERROR(IF(ISBLANK(INDEX(Date_unitati!$L:$L,MATCH($B15,Date_unitati!$B:$B,0))),"-",INDEX(Date_unitati!$L:$L,MATCH($B15,Date_unitati!$B:$B,0))),"-") -> 7.878254 | F15: =IFERROR(IF(ISBLANK(INDEX(Date_unitati!$M:$M,MATCH($B15,Date_unitati!$B:$B,0))),"-",INDEX(Date_unitati!$M:$M,MATCH($B15,Date_unitati!$B:$B,0))),"-") -> 7.0527027 | G15: =IFERROR(IF(ISBLANK(INDEX(Date_unitati!$N:$N,MATCH($B15,Date_unitati!$B:$B,0))),"-",INDEX(Date_unitati!$N:$N,MATCH($B15,Date_unitati!$B:$B,0))),"-") -> 7.61 | H15: =IFERROR(IF(ISBLANK(INDEX(Date_unitati!$O:$O,MATCH($B15,Date_unitati!$B:$B,0))),"-",INDEX(Date_unitati!$O:$O,MATCH($B15,Date_unitati!$B:$B,0))),"-") -> 6.828 | I15: =IFERROR(IF(ISBLANK(INDEX(Date_unitati!$P:$P,MATCH($B15,Date_unitati!$B:$B,0))),"-",INDEX(Date_unitati!$P:$P,MATCH($B15,Date_unitati!$B:$B,0))),"-") -> 7.1656667 | J15: =IFERROR(IF(ISBLANK(INDEX(Date_unitati!$Q:$Q,MATCH($B15,Date_unitati!$B:$B,0))),"-",INDEX(Date_unitati!$Q:$Q,MATCH($B15,Date_unitati!$B:$B,0))),"-") -> 7.6531915 | K15: =IFERROR(IF(ISBLANK(INDEX(Date_unitati!$R:$R,MATCH($B15,Date_unitati!$B:$B,0))),"-",INDEX(Date_unitati!$R:$R,MATCH($B15,Date_unitati!$B:$B,0))),"-") -> 7.0179545 | L15: =IFERROR(IF(OR(ISTEXT(E15),ISTEXT(K15)),"-",ROUND(K15-E15,2)),"-") -> -0.86
... A116: 113 | B116: ŞCOALA GIMNAZIALĂ FISCUT | C116: FISCUT | D116: RURAL | E116: =IFERROR(IF(ISBLANK(INDEX(Date_unitati!$L:$L,MATCH($B116,Date_unitati!$B:$B,0))),"-",INDEX(Date_unitati!$L:$L,MATCH($B116,Date_unitati!$B:$B,0))),"-") -> 4.34 | F116: =IFERROR(IF(ISBLANK(INDEX(Date_unitati!$M:$M,MATCH($B116,Date_unitati!$B:$B,0))),"-",INDEX(Date_unitati!$M:$M,MATCH($B116,Date_unitati!$B:$B,0))),"-") -> 3.0057143 | G116: =IFERROR(IF(ISBLANK(INDEX(Date_unitati!$N:$N,MATCH($B116,Date_unitati!$B:$B,0))),"-",INDEX(Date_unitati!$N:$N,MATCH($B116,Date_unitati!$B:$B,0))),"-") -> 4.144 | H116: =IFERROR(IF(ISBLANK(INDEX(Date_unitati!$O:$O,MATCH($B116,Date_unitati!$B:$B,0))),"-",INDEX(Date_unitati!$O:$O,MATCH($B116,Date_unitati!$B:$B,0))),"-") -> 4.0613333 | I116: =IFERROR(IF(ISBLANK(INDEX(Date_unitati!$P:$P,MATCH($B116,Date_unitati!$B:$B,0))),"-",INDEX(Date_unitati!$P:$P,MATCH($B116,Date_unitati!$B:$B,0))),"-") -> 4.8566667 | J116: =IFERROR(IF(ISBLANK(INDEX(Date_unitati!$Q:$Q,MATCH($B116,Date_unitati!$B:$B,0))),"-",INDEX(Date_unitati!$Q:$Q,MATCH($B116,Date_unitati!$B:$B,0))),"-") -> 3.468 | K116: =IFERROR(IF(ISBLANK(INDEX(Date_unitati!$R:$R,MATCH($B116,Date_unitati!$B:$B,0))),"-",INDEX(Date_unitati!$R:$R,MATCH($B116,Date_unitati!$B:$B,0))),"-") -> - | L116: =IFERROR(IF(OR(ISTEXT(E116),ISTEXT(K116)),"-",ROUND(K116-E116,2)),"-") -> -

Sheet Evoluție Lb. Română
A1: Evoluția mediei la Limba și literatura română pe fiecare unitate, 2020→2026.
A3: Loc | B3: Unitate | C3: Localitate | D3: Mediu | E3: 2020 | F3: 2021 | G3: 2022 | H3: 2023 | I3: 2024 | J3: 2025 | K3: 2026 | L3: Δ total
A4: 1 | B4: COLEGIUL NAŢIONAL "MOISE NICOARĂ" ARAD | C4: ARAD | D4: URBAN | E4: =IFERROR(IF(ISBLANK(INDEX(Date_unitati!$S:$S,MATCH($B4,Date_unitati!$B:$B,0))),"-",INDEX(Date_unitati!$S:$S,MATCH($B4,Date_unitati!$B:$B,0))),"-") -> 9.3255556 | F4: =IFERROR(IF(ISBLANK(INDEX(Date_unitati!$T:$T,MATCH($B4,Date_unitati!$B:$B,0))),"-",INDEX(Date_unitati!$T:$T,MATCH($B4,Date_unitati!$B:$B,0))),"-") -> 8.9215909 | G4: =IFERROR(IF(ISBLANK(INDEX(Date_unitati!$U:$U,MATCH($B4,Date_unitati!$B:$B,0))),"-",INDEX(Date_unitati!$U:$U,MATCH($B4,Date_unitati!$B:$B,0))),"-") -> 8.9619048 | H4: =IFERROR(IF(ISBLANK(INDEX(Date_unitati!$V:$V,MATCH($B4,Date_unitati!$B:$B,0))),"-",INDEX(Date_unitati!$V:$V,MATCH($B4,Date_unitati!$B:$B,0))),"-") -> 8.8912791 | I4: =IFERROR(IF(ISBLANK(INDEX(Date_unitati!$W:$W,MATCH($B4,Date_unitati!$B:$B,0))),"-",INDEX(Date_unitati!$W:$W,MATCH($B4,Date_unitati!$B:$B,0))),"-") -> 8.5724719 | J4: =IFERROR(IF(ISBLANK(INDEX(Date_unitati!$X:$X,MATCH($B4,Date_unitati!$B:$B,0))),"-",INDEX(Date_unitati!$X:$X,MATCH($B4,Date_unitati!$B:$B,0))),"-") -> 8.836747 | K4: =IFERROR(IF(ISBLANK(INDEX(Date_unitati!$Y:$Y,MATCH($B4,Date_unitati!$B:$B,0))),"-",INDEX(Date_unitati!$Y:$Y,MATCH($B4,Date_unitati!$B:$B,0))),"-") -> 8.6308989 | L4: =IFERROR(IF(OR(ISTEXT(E4),ISTEXT(K4)),"-",ROUND(K4-E4,2)),"-") -> -0.69
A5: 2 | B5: ŞCOALA GIMNAZIALĂ HĂLMĂGEL | C5: HĂLMĂGEL | D5: RURAL | E5: =IFERROR(IF(ISBLANK(INDEX(Date_unitati!$S:$S,MATCH($B5,Date_unitati!$B:$B,0))),"-",INDEX(Date_unitati!$S:$S,MATCH($B5,Date_unitati!$B:$B,0))),"-") -> 7.4 | F5: =IFERROR(IF(ISBLANK(INDEX(Date_unitati!$T:$T,MATCH($B5,Date_unitati!$B:$B,0))),"-",INDEX(Date_unitati!$T:$T,MATCH($B5,Date_unitati!$B:$B,0))),"-") -> 7.265 | G5: =IFERROR(IF(ISBLANK(INDEX(Date_unitati!$U:$U,MATCH($B5,Date_unitati!$B:$B,0))),"-",INDEX(Date_unitati!$U:$U,MATCH($B5,Date_unitati!$B:$B,0))),"-") -> 7.2916667 | H5: =IFERROR(IF(ISBLANK(INDEX(Date_unitati!$V:$V,MATCH($B5,Date_unitati!$B:$B,0))),"-",INDEX(Date_unitati!$V:$V,MATCH($B5,Date_unitati!$B:$B,0))),"-") -> 5.96 | I5: =IFERROR(IF(ISBLANK(INDEX(Date_unitati!$W:$W,MATCH($B5,Date_unitati!$B:$B,0))),"-",INDEX(Date_unitati!$W:$W,MATCH($B5,Date_unitati!$B:$B,0))),"-") -> - | J5: =IFERROR(IF(ISBLANK(INDEX(Date_unitati!$X:$X,MATCH($B5,Date_unitati!$B:$B,0))),"-",INDEX(Date_unitati!$X:$X,MATCH($B5,Date_unitati!$B:$B,0))),"-") -> 7.8333333 | K5: =IFERROR(IF(ISBLANK(INDEX(Date_unitati!$Y:$Y,MATCH($B5,Date_unitati!$B:$B,0))),"-",INDEX(Date_unitati!$Y:$Y,MATCH($B5,Date_unitati!$B:$B,0))),"-") -> 8.4 | L5: =IFERROR(IF(OR(ISTEXT(E5),ISTEXT(K5)),"-",ROUND(K5-E5,2)),"-") -> 1
A6: 3 | B6: COLEGIUL NAŢIONAL "PREPARANDIA-DIMITRIE ŢICHINDEAL" ARAD | C6: ARAD | D6: URBAN | E6: =IFERROR(IF(ISBLANK(INDEX(Date_unitati!$S:$S,MATCH($B6,Date_unitati!$B:$B,0))),"-",INDEX(Date_unitati!$S:$S,MATCH($B6,Date_unitati!$B:$B,0))),"-") -> 8.8784946 | F6: =IFERROR(IF(ISBLANK(INDEX(Date_unitati!$T:$T,MATCH($B6,Date_unitati!$B:$B,0))),"-",INDEX(Date_unitati!$T:$T,MATCH($B6,Date_unitati!$B:$B,0))),"-") -> 8.1429348 | G6: =IFERROR(IF(ISBLANK(INDEX(Date_unitati!$U:$U,MATCH($B6,Date_unitati!$B:$B,0))),"-",INDEX(Date_unitati!$U:$U,MATCH($B6,Date_unitati!$B:$B,0))),"-") -> 8.3877193 | H6: =IFERROR(IF(ISBLANK(INDEX(Date_unitati!$V:$V,MATCH($B6,Date_unitati!$B:$B,0))),"-",INDEX(Date_unitati!$V:$V,MATCH($B6,Date_unitati!$B:$B,0))),"-") -> 7.4772358 | I6: =IFERROR(IF(ISBLANK(INDEX(Date_unitati!$W:$W,MATCH($B6,Date_unitati!$B:$B,0))),"-",INDEX(Date_unitati!$W:$W,MATCH($B6,Date_unitati!$B:$B,0))),"-") -> 7.7827731 | J6: =IFERROR(IF(ISBLANK(INDEX(Date_unitati!$X:$X,MATCH($B6,Date_unitati!$B:$B,0))),"-",INDEX(Date_unitati!$X:$X,MATCH($B6,Date_unitati!$B:$B,0))),"-") -> 8.3619658 | K6: =IFERROR(IF(ISBLANK(INDEX(Date_unitati!$Y:$Y,MATCH($B6,Date_unitati!$B:$B,0))),"-",INDEX(Date_unitati!$Y:$Y,MATCH($B6,Date_unitati!$B:$B,0))),"-") -> 8.3369792 | L6: =IFERROR(IF(OR(ISTEXT(E6),ISTEXT(K6)),"-",ROUND(K6-E6,2)),"-") -> -0.54
A7: 4 | B7: LICEUL TEORETIC "SFÂNTUL IERARH NICOLAE" ARAD | C7: ARAD | D7: URBAN | E7: =IFERROR(IF(ISBLANK(INDEX(Date_unitati!$S:$S,MATCH($B7,Date_unitati!$B:$B,0))),"-",INDEX(Date_unitati!$S:$S,MATCH($B7,Date_unitati!$B:$B,0))),"-") -> - | F7: =IFERROR(IF(ISBLANK(INDEX(Date_unitati!$T:$T,MATCH($B7,Date_unitati!$B:$B,0))),"-",INDEX(Date_unitati!$T:$T,MATCH($B7,Date_unitati!$B:$B,0))),"-") -> - | G7: =IFERROR(IF(ISBLANK(INDEX(Date_unitati!$U:$U,MATCH($B7,Date_unitati!$B:$B,0))),"-",INDEX(Date_unitati!$U:$U,MATCH($B7,Date_unitati!$B:$B,0))),"-") -> - | H7: =IFERROR(IF(ISBLANK(INDEX(Date_unitati!$V:$V,MATCH($B7,Date_unitati!$B:$B,0))),"-",INDEX(Date_unitati!$V:$V,MATCH($B7,Date_unitati!$B:$B,0))),"-") -> - | I7: =IFERROR(IF(ISBLANK(INDEX(Date_unitati!$W:$W,MATCH($B7,Date_unitati!$B:$B,0))),"-",INDEX(Date_unitati!$W:$W,MATCH($B7,Date_unitati!$B:$B,0))),"-") -> - | J7: =IFERROR(IF(ISBLANK(INDEX(Date_unitati!$X:$X,MATCH($B7,Date_unitati!$B:$B,0))),"-",INDEX(Date_unitati!$X:$X,MATCH($B7,Date_unitati!$B:$B,0))),"-") -> 8.5590909 | K7: =IFERROR(IF(ISBLANK(INDEX(Date_unitati!$Y:$Y,MATCH($B7,Date_unitati!$B:$B,0))),"-",INDEX(Date_unitati!$Y:$Y,MATCH($B7,Date_unitati!$B:$B,0))),"-") -> 8.2166667 | L7: =IFERROR(IF(OR(ISTEXT(E7),ISTEXT(K7)),"-",ROUND(K7-E7,2)),"-") -> -
A8: 5 | B8: ŞCOALA GIMNAZIALĂ CĂRAND | C8: CĂRAND | D8: RURAL | E8: =IFERROR(IF(ISBLANK(INDEX(Date_unitati!$S:$S,MATCH($B8,Date_unitati!$B:$B,0))),"-",INDEX(Date_unitati!$S:$S,MATCH($B8,Date_unitati!$B:$B,0))),"-") -> 6.4 | F8: =IFERROR(IF(ISBLANK(INDEX(Date_unitati!$T:$T,MATCH($B8,Date_unitati!$B:$B,0))),"-",INDEX(Date_unitati!$T:$T,MATCH($B8,Date_unitati!$B:$B,0))),"-") -> 6.71 | G8: =IFERROR(IF(ISBLANK(INDEX(Date_unitati!$U:$U,MATCH($B8,Date_unitati!$B:$B,0))),"-",INDEX(Date_unitati!$U:$U,MATCH($B8,Date_unitati!$B:$B,0))),"-") -> 8.57 | H8: =IFERROR(IF(ISBLANK(INDEX(Date_unitati!$V:$V,MATCH($B8,Date_unitati!$B:$B,0))),"-",INDEX(Date_unitati!$V:$V,MATCH($B8,Date_unitati!$B:$B,0))),"-") -> 6.3111111 | I8: =IFERROR(IF(ISBLANK(INDEX(Date_unitati!$W:$W,MATCH($B8,Date_unitati!$B:$B,0))),"-",INDEX(Date_unitati!$W:$W,MATCH($B8,Date_unitati!$B:$B,0))),"-") -> 7.875 | J8: =IFERROR(IF(ISBLANK(INDEX(Date_unitati!$X:$X,MATCH($B8,Date_unitati!$B:$B,0))),"-",INDEX(Date_unitati!$X:$X,MATCH($B8,Date_unitati!$B:$B,0))),"-") -> 7.225 | K8: =IFERROR(IF(ISBLANK(INDEX(Date_unitati!$Y:$Y,MATCH($B8,Date_unitati!$B:$B,0))),"-",INDEX(Date_unitati!$Y:$Y,MATCH($B8,Date_unitati!$B:$B,0))),"-") -> 8.15 | L8: =IFERROR(IF(OR(ISTEXT(E8),ISTEXT(K8)),"-",ROUND(K8-E8,2)),"-") -> 1.75
A9: 6 | B9: COLEGIUL NAŢIONAL "VASILE GOLDIŞ" ARAD | C9: ARAD | D9: URBAN | E9: =IFERROR(IF(ISBLANK(INDEX(Date_unitati!$S:$S,MATCH($B9,Date_unitati!$B:$B,0))),"-",INDEX(Date_unitati!$S:$S,MATCH($B9,Date_unitati!$B:$B,0))),"-") -> 8.1636905 | F9: =IFERROR(IF(ISBLANK(INDEX(Date_unitati!$T:$T,MATCH($B9,Date_unitati!$B:$B,0))),"-",INDEX(Date_unitati!$T:$T,MATCH($B9,Date_unitati!$B:$B,0))),"-") -> 7.6926667 | G9: =IFERROR(IF(ISBLANK(INDEX(Date_unitati!$U:$U,MATCH($B9,Date_unitati!$B:$B,0))),"-",INDEX(Date_unitati!$U:$U,MATCH($B9,Date_unitati!$B:$B,0))),"-") -> 8 | H9: =IFERROR(IF(ISBLANK(INDEX(Date_unitati!$V:$V,MATCH($B9,Date_unitati!$B:$B,0))),"-",INDEX(Date_unitati!$V:$V,MATCH($B9,Date_unitati!$B:$B,0))),"-") -> 7.7302632 | I9: =IFERROR(IF(ISBLANK(INDEX(Date_unitati!$W:$W,MATCH($B9,Date_unitati!$B:$B,0))),"-",INDEX(Date_unitati!$W:$W,MATCH($B9,Date_unitati!$B:$B,0))),"-") -> 7.8300971 | J9: =IFERROR(IF(ISBLANK(INDEX(Date_unitati!$X:$X,MATCH($B9,Date_unitati!$B:$B,0))),"-",INDEX(Date_unitati!$X:$X,MATCH($B9,Date_unitati!$B:$B,0))),"-") -> 8.071978 | K9: =IFERROR(IF(ISBLANK(INDEX(Date_unitati!$Y:$Y,MATCH($B9,Date_unitati!$B:$B,0))),"-",INDEX(Date_unitati!$Y:$Y,MATCH($B9,Date_unitati!$B:$B,0))),"-") -> 8.0742424 | L9: =IFERROR(IF(OR(ISTEXT(E9),ISTEXT(K9)),"-",ROUND(K9-E9,2)),"-") -> -0.09
A10: 7 | B10: LICEUL NAŢIONAL DE INFORMATICĂ ARAD | C10: ARAD | D10: URBAN | E10: =IFERROR(IF(ISBLANK(INDEX(Date_unitati!$S:$S,MATCH($B10,Date_unitati!$B:$B,0))),"-",INDEX(Date_unitati!$S:$S,MATCH($B10,Date_unitati!$B:$B,0))),"-") -> 8.6543651 | F10: =IFERROR(IF(ISBLANK(INDEX(Date_unitati!$T:$T,MATCH($B10,Date_unitati!$B:$B,0))),"-",INDEX(Date_unitati!$T:$T,MATCH($B10,Date_unitati!$B:$B,0))),"-") -> 8.2459596 | G10: =IFERROR(IF(ISBLANK(INDEX(Date_unitati!$U:$U,MATCH($B10,Date_unitati!$B:$B,0))),"-",INDEX(Date_unitati!$U:$U,MATCH($B10,Date_unitati!$B:$B,0))),"-") -> 8.3073276 | H10: =IFERROR(IF(ISBLANK(INDEX(Date_unitati!$V:$V,MATCH($B10,Date_unitati!$B:$B,0))),"-",INDEX(Date_unitati!$V:$V,MATCH($B10,Date_unitati!$B:$B,0))),"-") -> 7.9228682 | I10: =IFERROR(IF(ISBLANK(INDEX(Date_unitati!$W:$W,MATCH($B10,Date_unitati!$B:$B,0))),"-",INDEX(Date_unitati!$W:$W,MATCH($B10,Date_unitati!$B:$B,0))),"-") -> 7.998855 | J10: =IFERROR(IF(ISBLANK(INDEX(Date_unitati!$X:$X,MATCH($B10,Date_unitati!$B:$B,0))),"-",INDEX(Date_unitati!$X:$X,MATCH($B10,Date_unitati!$B:$B,0))),"-") -> 8.607047 | K10: =IFERROR(IF(ISBLANK(INDEX(Date_unitati!$Y:$Y,MATCH($B10,Date_unitati!$B:$B,0))),"-",INDEX(Date_unitati!$Y:$Y,MATCH($B10,Date_unitati!$B:$B,0))),"-") -> 8.0334746 | L10: =IFERROR(IF(OR(ISTEXT(E10),ISTEXT(K10)),"-",ROUND(K10-E10,2)),"-") -> -0.62
A11: 8 | B11: LICEUL TEOLOGIC BAPTIST "ALEXA POPOVICI" ARAD | C11: ARAD | D11: URBAN | E11: =IFERROR(IF(ISBLANK(INDEX(Date_unitati!$S:$S,MATCH($B11,Date_unitati!$B:$B,0))),"-",INDEX(Date_unitati!$S:$S,MATCH($B11,Date_unitati!$B:$B,0))),"-") -> 8.9685484 | F11: =IFERROR(IF(ISBLANK(INDEX(Date_unitati!$T:$T,MATCH($B11,Date_unitati!$B:$B,0))),"-",INDEX(Date_unitati!$T:$T,MATCH($B11,Date_unitati!$B:$B,0))),"-") -> 8.2827273 | G11: =IFERROR(IF(ISBLANK(INDEX(Date_unitati!$U:$U,MATCH($B11,Date_unitati!$B:$B,0))),"-",INDEX(Date_unitati!$U:$U,MATCH($B11,Date_unitati!$B:$B,0))),"-") -> 8.65 | H11: =IFERROR(IF(ISBLANK(INDEX(Date_unitati!$V:$V,MATCH($B11,Date_unitati!$B:$B,0))),"-",INDEX(Date_unitati!$V:$V,MATCH($B11,Date_unitati!$B:$B,0))),"-") -> 8.2 | I11: =IFERROR(IF(ISBLANK(INDEX(Date_unitati!$W:$W,MATCH($B11,Date_unitati!$B:$B,0))),"-",INDEX(Date_unitati!$W:$W,MATCH($B11,Date_unitati!$B:$B,0))),"-") -> 8.3316456 | J11: =IFERROR(IF(ISBLANK(INDEX(Date_unitati!$X:$X,MATCH($B11,Date_unitati!$B:$B,0))),"-",INDEX(Date_unitati!$X:$X,MATCH($B11,Date_unitati!$B:$B,0))),"-") -> 8.3454023 | K11: =IFERROR(IF(ISBLANK(INDEX(Date_unitati!$Y:$Y,MATCH($B11,Date_unitati!$B:$B,0))),"-",INDEX(Date_unitati!$Y:$Y,MATCH($B11,Date_unitati!$B:$B,0))),"-") -> 8.0150943 | L11: =IFERROR(IF(OR(ISTEXT(E11),ISTEXT(K11)),"-",ROUND(K11-E11,2)),"-") -> -0.95
A12: 9 | B12: ŞCOALA GIMNAZIALĂ HĂŞMAŞ | C12: HĂŞMAŞ | D12: RURAL | E12: =IFERROR(IF(ISBLANK(INDEX(Date_unitati!$S:$S,MATCH($B12,Date_unitati!$B:$B,0))),"-",INDEX(Date_unitati!$S:$S,MATCH($B12,Date_unitati!$B:$B,0))),"-") -> 6.2818182 | F12: =IFERROR(IF(ISBLANK(INDEX(Date_unitati!$T:$T,MATCH($B12,Date_unitati!$B:$B,0))),"-",INDEX(Date_unitati!$T:$T,MATCH($B12,Date_unitati!$B:$B,0))),"-") -> 5.9055556 | G12: =IFERROR(IF(ISBLANK(INDEX(Date_unitati!$U:$U,MATCH($B12,Date_unitati!$B:$B,0))),"-",INDEX(Date_unitati!$U:$U,MATCH($B12,Date_unitati!$B:$B,0))),"-") -> 5.7227273 | H12: =IFERROR(IF(ISBLANK(INDEX(Date_unitati!$V:$V,MATCH($B12,Date_unitati!$B:$B,0))),"-",INDEX(Date_unitati!$V:$V,MATCH($B12,Date_unitati!$B:$B,0))),"-") -> 4.3529412 | I12: =IFERROR(IF(ISBLANK(INDEX(Date_unitati!$W:$W,MATCH($B12,Date_unitati!$B:$B,0))),"-",INDEX(Date_unitati!$W:$W,MATCH($B12,Date_unitati!$B:$B,0))),"-") -> 5.3 | J12: =IFERROR(IF(ISBLANK(INDEX(Date_unitati!$X:$X,MATCH($B12,Date_unitati!$B:$B,0))),"-",INDEX(Date_unitati!$X:$X,MATCH($B12,Date_unitati!$B:$B,0))),"-") -> 6.2625 | K12: =IFERROR(IF(ISBLANK(INDEX(Date_unitati!$Y:$Y,MATCH($B12,Date_unitati!$B:$B,0))),"-",INDEX(Date_unitati!$Y:$Y,MATCH($B12,Date_unitati!$B:$B,0))),"-") -> 7.6333333 | L12: =IFERROR(IF(OR(ISTEXT(E12),ISTEXT(K12)),"-",ROUND(K12-E12,2)),"-") -> 1.35
A13: 10 | B13: LICEUL TEORETIC SEBIŞ | C13: SEBIŞ | D13: URBAN | E13: =IFERROR(IF(ISBLANK(INDEX(Date_unitati!$S:$S,MATCH($B13,Date_unitati!$B:$B,0))),"-",INDEX(Date_unitati!$S:$S,MATCH($B13,Date_unitati!$B:$B,0))),"-") -> 7.2884615 | F13: =IFERROR(IF(ISBLANK(INDEX(Date_unitati!$T:$T,MATCH($B13,Date_unitati!$B:$B,0))),"-",INDEX(Date_unitati!$T:$T,MATCH($B13,Date_unitati!$B:$B,0))),"-") -> 7.098913 | G13: =IFERROR(IF(ISBLANK(INDEX(Date_unitati!$U:$U,MATCH($B13,Date_unitati!$B:$B,0))),"-",INDEX(Date_unitati!$U:$U,MATCH($B13,Date_unitati!$B:$B,0))),"-") -> 6.8587302 | H13: =IFERROR(IF(ISBLANK(INDEX(Date_unitati!$V:$V,MATCH($B13,Date_unitati!$B:$B,0))),"-",INDEX(Date_unitati!$V:$V,MATCH($B13,Date_unitati!$B:$B,0))),"-") -> 6.9416667 | I13: =IFERROR(IF(ISBLANK(INDEX(Date_unitati!$W:$W,MATCH($B13,Date_unitati!$B:$B,0))),"-",INDEX(Date_unitati!$W:$W,MATCH($B13,Date_unitati!$B:$B,0))),"-") -> 6.8005882 | J13: =IFERROR(IF(ISBLANK(INDEX(Date_unitati!$X:$X,MATCH($B13,Date_unitati!$B:$B,0))),"-",INDEX(Date_unitati!$X:$X,MATCH($B13,Date_unitati!$B:$B,0))),"-") -> 7.2990566 | K13: =IFERROR(IF(ISBLANK(INDEX(Date_unitati!$Y:$Y,MATCH($B13,Date_unitati!$B:$B,0))),"-",INDEX(Date_unitati!$Y:$Y,MATCH($B13,Date_unitati!$B:$B,0))),"-") -> 7.3414894 | L13: =IFERROR(IF(OR(ISTEXT(E13),ISTEXT(K13)),"-",ROUND(K13-E13,2)),"-") -> 0.05
A14: 11 | B14: ŞCOALA GIMNAZIALĂ "CAIUS IACOB" ARAD | C14: ARAD | D14: URBAN | E14: =IFERROR(IF(ISBLANK(INDEX(Date_unitati!$S:$S,MATCH($B14,Date_unitati!$B:$B,0))),"-",INDEX(Date_unitati!$S:$S,MATCH($B14,Date_unitati!$B:$B,0))),"-") -> 7.3401408 | F14: =IFERROR(IF(ISBLANK(INDEX(Date_unitati!$T:$T,MATCH($B14,Date_unitati!$B:$B,0))),"-",INDEX(Date_unitati!$T:$T,MATCH($B14,Date_unitati!$B:$B,0))),"-") -> 7.1734694 | G14: =IFERROR(IF(ISBLANK(INDEX(Date_unitati!$U:$U,MATCH($B14,Date_unitati!$B:$B,0))),"-",INDEX(Date_unitati!$U:$U,MATCH($B14,Date_unitati!$B:$B,0))),"-") -> 7.5594203 | H14: =IFERROR(IF(ISBLANK(INDEX(Date_unitati!$V:$V,MATCH($B14,Date_unitati!$B:$B,0))),"-",INDEX(Date_unitati!$V:$V,MATCH($B14,Date_unitati!$B:$B,0))),"-") -> 7.3936047 | I14: =IFERROR(IF(ISBLANK(INDEX(Date_unitati!$W:$W,MATCH($B14,Date_unitati!$B:$B,0))),"-",INDEX(Date_unitati!$W:$W,MATCH($B14,Date_unitati!$B:$B,0))),"-") -> 7.0988372 | J14: =IFERROR(IF(ISBLANK(INDEX(Date_unitati!$X:$X,MATCH($B14,Date_unitati!$B:$B,0))),"-",INDEX(Date_unitati!$X:$X,MATCH($B14,Date_unitati!$B:$B,0))),"-") -> 7.6129032 | K14: =IFERROR(IF(ISBLANK(INDEX(Date_unitati!$Y:$Y,MATCH($B14,Date_unitati!$B:$B,0))),"-",INDEX(Date_unitati!$Y:$Y,MATCH($B14,Date_unitati!$B:$B,0))),"-") -> 7.19125 | L14: =IFERROR(IF(OR(ISTEXT(E14),ISTEXT(K14)),"-",ROUND(K14-E14,2)),"-") -> -0.15
A15: 12 | B15: ŞCOALA GIMNAZIALĂ "VIRGIL IOVĂNAŞ" ŞOFRONEA | C15: ŞOFRONEA | D15: RURAL | E15: =IFERROR(IF(ISBLANK(INDEX(Date_unitati!$S:$S,MATCH($B15,Date_unitati!$B:$B,0))),"-",INDEX(Date_unitati!$S:$S,MATCH($B15,Date_unitati!$B:$B,0))),"-") -> 6.38 | F15: =IFERROR(IF(ISBLANK(INDEX(Date_unitati!$T:$T,MATCH($B15,Date_unitati!$B:$B,0))),"-",INDEX(Date_unitati!$T:$T,MATCH($B15,Date_unitati!$B:$B,0))),"-") -> 5.9 | G15: =IFERROR(IF(ISBLANK(INDEX(Date_unitati!$U:$U,MATCH($B15,Date_unitati!$B:$B,0))),"-",INDEX(Date_unitati!$U:$U,MATCH($B15,Date_unitati!$B:$B,0))),"-") -> 6.6409091 | H15: =IFERROR(IF(ISBLANK(INDEX(Date_unitati!$V:$V,MATCH($B15,Date_unitati!$B:$B,0))),"-",INDEX(Date_unitati!$V:$V,MATCH($B15,Date_unitati!$B:$B,0))),"-") -> 4.8681818 | I15: =IFERROR(IF(ISBLANK(INDEX(Date_unitati!$W:$W,MATCH($B15,Date_unitati!$B:$B,0))),"-",INDEX(Date_unitati!$W:$W,MATCH($B15,Date_unitati!$B:$B,0))),"-") -> 5.875 | J15: =IFERROR(IF(ISBLANK(INDEX(Date_unitati!$X:$X,MATCH($B15,Date_unitati!$B:$B,0))),"-",INDEX(Date_unitati!$X:$X,MATCH($B15,Date_unitati!$B:$B,0))),"-") -> 6.6615385 | K15: =IFERROR(IF(ISBLANK(INDEX(Date_unitati!$Y:$Y,MATCH($B15,Date_unitati!$B:$B,0))),"-",INDEX(Date_unitati!$Y:$Y,MATCH($B15,Date_unitati!$B:$B,0))),"-") -> 7.1571429 | L15: =IFERROR(IF(OR(ISTEXT(E15),ISTEXT(K15)),"-",ROUND(K15-E15,2)),"-") -> 0.78
... A116: 113 | B116: ŞCOALA GIMNAZIALĂ FISCUT | C116: FISCUT | D116: RURAL | E116: =IFERROR(IF(ISBLANK(INDEX(Date_unitati!$S:$S,MATCH($B116,Date_unitati!$B:$B,0))),"-",INDEX(Date_unitati!$S:$S,MATCH($B116,Date_unitati!$B:$B,0))),"-") -> 4.3 | F116: =IFERROR(IF(ISBLANK(INDEX(Date_unitati!$T:$T,MATCH($B116,Date_unitati!$B:$B,0))),"-",INDEX(Date_unitati!$T:$T,MATCH($B116,Date_unitati!$B:$B,0))),"-") -> 2.4285714 | G116: =IFERROR(IF(ISBLANK(INDEX(Date_unitati!$U:$U,MATCH($B116,Date_unitati!$B:$B,0))),"-",INDEX(Date_unitati!$U:$U,MATCH($B116,Date_unitati!$B:$B,0))),"-") -> 3.78 | H116: =IFERROR(IF(ISBLANK(INDEX(Date_unitati!$V:$V,MATCH($B116,Date_unitati!$B:$B,0))),"-",INDEX(Date_unitati!$V:$V,MATCH($B116,Date_unitati!$B:$B,0))),"-") -> 3.8766667 | I116: =IFERROR(IF(ISBLANK(INDEX(Date_unitati!$W:$W,MATCH($B116,Date_unitati!$B:$B,0))),"-",INDEX(Date_unitati!$W:$W,MATCH($B116,Date_unitati!$B:$B,0))),"-") -> 5.5333333 | J116: =IFERROR(IF(ISBLANK(INDEX(Date_unitati!$X:$X,MATCH($B116,Date_unitati!$B:$B,0))),"-",INDEX(Date_unitati!$X:$X,MATCH($B116,Date_unitati!$B:$B,0))),"-") -> 3.62 | K116: =IFERROR(IF(ISBLANK(INDEX(Date_unitati!$Y:$Y,MATCH($B116,Date_unitati!$B:$B,0))),"-",INDEX(Date_unitati!$Y:$Y,MATCH($B116,Date_unitati!$B:$B,0))),"-") -> - | L116: =IFERROR(IF(OR(ISTEXT(E116),ISTEXT(K116)),"-",ROUND(K116-E116,2)),"-") -> -

Sheet Evoluție Matematică
A1: Evoluția mediei la Matematică pe fiecare unitate, 2020→2026.
A3: Loc | B3: Unitate | C3: Localitate | D3: Mediu | E3: 2020 | F3: 2021 | G3: 2022 | H3: 2023 | I3: 2024 | J3: 2025 | K3: 2026 | L3: Δ total
A4: 1 | B4: COLEGIUL NAŢIONAL "MOISE NICOARĂ" ARAD | C4: ARAD | D4: URBAN | E4: =IFERROR(IF(ISBLANK(INDEX(Date_unitati!$Z:$Z,MATCH($B4,Date_unitati!$B:$B,0))),"-",INDEX(Date_unitati!$Z:$Z,MATCH($B4,Date_unitati!$B:$B,0))),"-") -> 9.0222222 | F4: =IFERROR(IF(ISBLANK(INDEX(Date_unitati!$AA:$AA,MATCH($B4,Date_unitati!$B:$B,0))),"-",INDEX(Date_unitati!$AA:$AA,MATCH($B4,Date_unitati!$B:$B,0))),"-") -> 8.6517045 | G4: =IFERROR(IF(ISBLANK(INDEX(Date_unitati!$AB:$AB,MATCH($B4,Date_unitati!$B:$B,0))),"-",INDEX(Date_unitati!$AB:$AB,MATCH($B4,Date_unitati!$B:$B,0))),"-") -> 8.6910714 | H4: =IFERROR(IF(ISBLANK(INDEX(Date_unitati!$AC:$AC,MATCH($B4,Date_unitati!$B:$B,0))),"-",INDEX(Date_unitati!$AC:$AC,MATCH($B4,Date_unitati!$B:$B,0))),"-") -> 9.1430233 | I4: =IFERROR(IF(ISBLANK(INDEX(Date_unitati!$AD:$AD,MATCH($B4,Date_unitati!$B:$B,0))),"-",INDEX(Date_unitati!$AD:$AD,MATCH($B4,Date_unitati!$B:$B,0))),"-") -> 8.4977528 | J4: =IFERROR(IF(ISBLANK(INDEX(Date_unitati!$AE:$AE,MATCH($B4,Date_unitati!$B:$B,0))),"-",INDEX(Date_unitati!$AE:$AE,MATCH($B4,Date_unitati!$B:$B,0))),"-") -> 8.5560241 | K4: =IFERROR(IF(ISBLANK(INDEX(Date_unitati!$AF:$AF,MATCH($B4,Date_unitati!$B:$B,0))),"-",INDEX(Date_unitati!$AF:$AF,MATCH($B4,Date_unitati!$B:$B,0))),"-") -> 8.7393258 | L4: =IFERROR(IF(OR(ISTEXT(E4),ISTEXT(K4)),"-",ROUND(K4-E4,2)),"-") -> -0.28
A5: 2 | B5: COLEGIUL NAŢIONAL "PREPARANDIA-DIMITRIE ŢICHINDEAL" ARAD | C5: ARAD | D5: URBAN | E5: =IFERROR(IF(ISBLANK(INDEX(Date_unitati!$Z:$Z,MATCH($B5,Date_unitati!$B:$B,0))),"-",INDEX(Date_unitati!$Z:$Z,MATCH($B5,Date_unitati!$B:$B,0))),"-") -> 7.8887097 | F5: =IFERROR(IF(ISBLANK(INDEX(Date_unitati!$AA:$AA,MATCH($B5,Date_unitati!$B:$B,0))),"-",INDEX(Date_unitati!$AA:$AA,MATCH($B5,Date_unitati!$B:$B,0))),"-") -> 7.0103261 | G5: =IFERROR(IF(ISBLANK(INDEX(Date_unitati!$AB:$AB,MATCH($B5,Date_unitati!$B:$B,0))),"-",INDEX(Date_unitati!$AB:$AB,MATCH($B5,Date_unitati!$B:$B,0))),"-") -> 7.7486842 | H5: =IFERROR(IF(ISBLANK(INDEX(Date_unitati!$AC:$AC,MATCH($B5,Date_unitati!$B:$B,0))),"-",INDEX(Date_unitati!$AC:$AC,MATCH($B5,Date_unitati!$B:$B,0))),"-") -> 7.7552846 | I5: =IFERROR(IF(ISBLANK(INDEX(Date_unitati!$AD:$AD,MATCH($B5,Date_unitati!$B:$B,0))),"-",INDEX(Date_unitati!$AD:$AD,MATCH($B5,Date_unitati!$B:$B,0))),"-") -> 7.110084 | J5: =IFERROR(IF(ISBLANK(INDEX(Date_unitati!$AE:$AE,MATCH($B5,Date_unitati!$B:$B,0))),"-",INDEX(Date_unitati!$AE:$AE,MATCH($B5,Date_unitati!$B:$B,0))),"-") -> 7.8901709 | K5: =IFERROR(IF(ISBLANK(INDEX(Date_unitati!$AF:$AF,MATCH($B5,Date_unitati!$B:$B,0))),"-",INDEX(Date_unitati!$AF:$AF,MATCH($B5,Date_unitati!$B:$B,0))),"-") -> 7.9645833 | L5: =IFERROR(IF(OR(ISTEXT(E5),ISTEXT(K5)),"-",ROUND(K5-E5,2)),"-") -> 0.08
A6: 3 | B6: LICEUL TEORETIC "SFÂNTUL IERARH NICOLAE" ARAD | C6: ARAD | D6: URBAN | E6: =IFERROR(IF(ISBLANK(INDEX(Date_unitati!$Z:$Z,MATCH($B6,Date_unitati!$B:$B,0))),"-",INDEX(Date_unitati!$Z:$Z,MATCH($B6,Date_unitati!$B:$B,0))),"-") -> - | F6: =IFERROR(IF(ISBLANK(INDEX(Date_unitati!$AA:$AA,MATCH($B6,Date_unitati!$B:$B,0))),"-",INDEX(Date_unitati!$AA:$AA,MATCH($B6,Date_unitati!$B:$B,0))),"-") -> - | G6: =IFERROR(IF(ISBLANK(INDEX(Date_unitati!$AB:$AB,MATCH($B6,Date_unitati!$B:$B,0))),"-",INDEX(Date_unitati!$AB:$AB,MATCH($B6,Date_unitati!$B:$B,0))),"-") -> - | H6: =IFERROR(IF(ISBLANK(INDEX(Date_unitati!$AC:$AC,MATCH($B6,Date_unitati!$B:$B,0))),"-",INDEX(Date_unitati!$AC:$AC,MATCH($B6,Date_unitati!$B:$B,0))),"-") -> - | I6: =IFERROR(IF(ISBLANK(INDEX(Date_unitati!$AD:$AD,MATCH($B6,Date_unitati!$B:$B,0))),"-",INDEX(Date_unitati!$AD:$AD,MATCH($B6,Date_unitati!$B:$B,0))),"-") -> - | J6: =IFERROR(IF(ISBLANK(INDEX(Date_unitati!$AE:$AE,MATCH($B6,Date_unitati!$B:$B,0))),"-",INDEX(Date_unitati!$AE:$AE,MATCH($B6,Date_unitati!$B:$B,0))),"-") -> 7.8181818 | K6: =IFERROR(IF(ISBLANK(INDEX(Date_unitati!$AF:$AF,MATCH($B6,Date_unitati!$B:$B,0))),"-",INDEX(Date_unitati!$AF:$AF,MATCH($B6,Date_unitati!$B:$B,0))),"-") -> 7.9366667 | L6: =IFERROR(IF(OR(ISTEXT(E6),ISTEXT(K6)),"-",ROUND(K6-E6,2)),"-") -> -
A7: 4 | B7: LICEUL TEOLOGIC BAPTIST "ALEXA POPOVICI" ARAD | C7: ARAD | D7: URBAN | E7: =IFERROR(IF(ISBLANK(INDEX(Date_unitati!$Z:$Z,MATCH($B7,Date_unitati!$B:$B,0))),"-",INDEX(Date_unitati!$Z:$Z,MATCH($B7,Date_unitati!$B:$B,0))),"-") -> 7.8032258 | F7: =IFERROR(IF(ISBLANK(INDEX(Date_unitati!$AA:$AA,MATCH($B7,Date_unitati!$B:$B,0))),"-",INDEX(Date_unitati!$AA:$AA,MATCH($B7,Date_unitati!$B:$B,0))),"-") -> 6.8454545 | G7: =IFERROR(IF(ISBLANK(INDEX(Date_unitati!$AB:$AB,MATCH($B7,Date_unitati!$B:$B,0))),"-",INDEX(Date_unitati!$AB:$AB,MATCH($B7,Date_unitati!$B:$B,0))),"-") -> 7.7826923 | H7: =IFERROR(IF(ISBLANK(INDEX(Date_unitati!$AC:$AC,MATCH($B7,Date_unitati!$B:$B,0))),"-",INDEX(Date_unitati!$AC:$AC,MATCH($B7,Date_unitati!$B:$B,0))),"-") -> 8.404386 | I7: =IFERROR(IF(ISBLANK(INDEX(Date_unitati!$AD:$AD,MATCH($B7,Date_unitati!$B:$B,0))),"-",INDEX(Date_unitati!$AD:$AD,MATCH($B7,Date_unitati!$B:$B,0))),"-") -> 7.6025316 | J7: =IFERROR(IF(ISBLANK(INDEX(Date_unitati!$AE:$AE,MATCH($B7,Date_unitati!$B:$B,0))),"-",INDEX(Date_unitati!$AE:$AE,MATCH($B7,Date_unitati!$B:$B,0))),"-") -> 7.6408046 | K7: =IFERROR(IF(ISBLANK(INDEX(Date_unitati!$AF:$AF,MATCH($B7,Date_unitati!$B:$B,0))),"-",INDEX(Date_unitati!$AF:$AF,MATCH($B7,Date_unitati!$B:$B,0))),"-") -> 7.7768868 | L7: =IFERROR(IF(OR(ISTEXT(E7),ISTEXT(K7)),"-",ROUND(K7-E7,2)),"-") -> -0.03
A8: 5 | B8: COLEGIUL NAŢIONAL "VASILE GOLDIŞ" ARAD | C8: ARAD | D8: URBAN | E8: =IFERROR(IF(ISBLANK(INDEX(Date_unitati!$Z:$Z,MATCH($B8,Date_unitati!$B:$B,0))),"-",INDEX(Date_unitati!$Z:$Z,MATCH($B8,Date_unitati!$B:$B,0))),"-") -> 7.025 | F8: =IFERROR(IF(ISBLANK(INDEX(Date_unitati!$AA:$AA,MATCH($B8,Date_unitati!$B:$B,0))),"-",INDEX(Date_unitati!$AA:$AA,MATCH($B8,Date_unitati!$B:$B,0))),"-") -> 6.8813333 | G8: =IFERROR(IF(ISBLANK(INDEX(Date_unitati!$AB:$AB,MATCH($B8,Date_unitati!$B:$B,0))),"-",INDEX(Date_unitati!$AB:$AB,MATCH($B8,Date_unitati!$B:$B,0))),"-") -> 7.4140625 | H8: =IFERROR(IF(ISBLANK(INDEX(Date_unitati!$AC:$AC,MATCH($B8,Date_unitati!$B:$B,0))),"-",INDEX(Date_unitati!$AC:$AC,MATCH($B8,Date_unitati!$B:$B,0))),"-") -> 7.2087719 | I8: =IFERROR(IF(ISBLANK(INDEX(Date_unitati!$AD:$AD,MATCH($B8,Date_unitati!$B:$B,0))),"-",INDEX(Date_unitati!$AD:$AD,MATCH($B8,Date_unitati!$B:$B,0))),"-") -> 6.8645631 | J8: =IFERROR(IF(ISBLANK(INDEX(Date_unitati!$AE:$AE,MATCH($B8,Date_unitati!$B:$B,0))),"-",INDEX(Date_unitati!$AE:$AE,MATCH($B8,Date_unitati!$B:$B,0))),"-") -> 7.4307692 | K8: =IFERROR(IF(ISBLANK(INDEX(Date_unitati!$AF:$AF,MATCH($B8,Date_unitati!$B:$B,0))),"-",INDEX(Date_unitati!$AF:$AF,MATCH($B8,Date_unitati!$B:$B,0))),"-") -> 7.6777778 | L8: =IFERROR(IF(OR(ISTEXT(E8),ISTEXT(K8)),"-",ROUND(K8-E8,2)),"-") -> 0.65
A9: 6 | B9: LICEUL NAŢIONAL DE INFORMATICĂ ARAD | C9: ARAD | D9: URBAN | E9: =IFERROR(IF(ISBLANK(INDEX(Date_unitati!$Z:$Z,MATCH($B9,Date_unitati!$B:$B,0))),"-",INDEX(Date_unitati!$Z:$Z,MATCH($B9,Date_unitati!$B:$B,0))),"-") -> 7.8428571 | F9: =IFERROR(IF(ISBLANK(INDEX(Date_unitati!$AA:$AA,MATCH($B9,Date_unitati!$B:$B,0))),"-",INDEX(Date_unitati!$AA:$AA,MATCH($B9,Date_unitati!$B:$B,0))),"-") -> 7.6030303 | G9: =IFERROR(IF(ISBLANK(INDEX(Date_unitati!$AB:$AB,MATCH($B9,Date_unitati!$B:$B,0))),"-",INDEX(Date_unitati!$AB:$AB,MATCH($B9,Date_unitati!$B:$B,0))),"-") -> 7.9051724 | H9: =IFERROR(IF(ISBLANK(INDEX(Date_unitati!$AC:$AC,MATCH($B9,Date_unitati!$B:$B,0))),"-",INDEX(Date_unitati!$AC:$AC,MATCH($B9,Date_unitati!$B:$B,0))),"-") -> 7.8073643 | I9: =IFERROR(IF(ISBLANK(INDEX(Date_unitati!$AD:$AD,MATCH($B9,Date_unitati!$B:$B,0))),"-",INDEX(Date_unitati!$AD:$AD,MATCH($B9,Date_unitati!$B:$B,0))),"-") -> 7.3992366 | J9: =IFERROR(IF(ISBLANK(INDEX(Date_unitati!$AE:$AE,MATCH($B9,Date_unitati!$B:$B,0))),"-",INDEX(Date_unitati!$AE:$AE,MATCH($B9,Date_unitati!$B:$B,0))),"-") -> 8.2936242 | K9: =IFERROR(IF(ISBLANK(INDEX(Date_unitati!$AF:$AF,MATCH($B9,Date_unitati!$B:$B,0))),"-",INDEX(Date_unitati!$AF:$AF,MATCH($B9,Date_unitati!$B:$B,0))),"-") -> 7.5822034 | L9: =IFERROR(IF(OR(ISTEXT(E9),ISTEXT(K9)),"-",ROUND(K9-E9,2)),"-") -> -0.26
A10: 7 | B10: ŞCOALA GIMNAZIALĂ HĂLMĂGEL | C10: HĂLMĂGEL | D10: RURAL | E10: =IFERROR(IF(ISBLANK(INDEX(Date_unitati!$Z:$Z,MATCH($B10,Date_unitati!$B:$B,0))),"-",INDEX(Date_unitati!$Z:$Z,MATCH($B10,Date_unitati!$B:$B,0))),"-") -> 5.4214286 | F10: =IFERROR(IF(ISBLANK(INDEX(Date_unitati!$AA:$AA,MATCH($B10,Date_unitati!$B:$B,0))),"-",INDEX(Date_unitati!$AA:$AA,MATCH($B10,Date_unitati!$B:$B,0))),"-") -> 6.815 | G10: =IFERROR(IF(ISBLANK(INDEX(Date_unitati!$AB:$AB,MATCH($B10,Date_unitati!$B:$B,0))),"-",INDEX(Date_unitati!$AB:$AB,MATCH($B10,Date_unitati!$B:$B,0))),"-") -> 6.75 | H10: =IFERROR(IF(ISBLANK(INDEX(Date_unitati!$AC:$AC,MATCH($B10,Date_unitati!$B:$B,0))),"-",INDEX(Date_unitati!$AC:$AC,MATCH($B10,Date_unitati!$B:$B,0))),"-") -> 7.36 | I10: =IFERROR(IF(ISBLANK(INDEX(Date_unitati!$AD:$AD,MATCH($B10,Date_unitati!$B:$B,0))),"-",INDEX(Date_unitati!$AD:$AD,MATCH($B10,Date_unitati!$B:$B,0))),"-") -> - | J10: =IFERROR(IF(ISBLANK(INDEX(Date_unitati!$AE:$AE,MATCH($B10,Date_unitati!$B:$B,0))),"-",INDEX(Date_unitati!$AE:$AE,MATCH($B10,Date_unitati!$B:$B,0))),"-") -> 7.55 | K10: =IFERROR(IF(ISBLANK(INDEX(Date_unitati!$AF:$AF,MATCH($B10,Date_unitati!$B:$B,0))),"-",INDEX(Date_unitati!$AF:$AF,MATCH($B10,Date_unitati!$B:$B,0))),"-") -> 7.5 | L10: =IFERROR(IF(OR(ISTEXT(E10),ISTEXT(K10)),"-",ROUND(K10-E10,2)),"-") -> 2.08
A11: 8 | B11: ŞCOALA GIMNAZIALĂ CĂRAND | C11: CĂRAND | D11: RURAL | E11: =IFERROR(IF(ISBLANK(INDEX(Date_unitati!$Z:$Z,MATCH($B11,Date_unitati!$B:$B,0))),"-",INDEX(Date_unitati!$Z:$Z,MATCH($B11,Date_unitati!$B:$B,0))),"-") -> 5.35 | F11: =IFERROR(IF(ISBLANK(INDEX(Date_unitati!$AA:$AA,MATCH($B11,Date_unitati!$B:$B,0))),"-",INDEX(Date_unitati!$AA:$AA,MATCH($B11,Date_unitati!$B:$B,0))),"-") -> 5.36 | G11: =IFERROR(IF(ISBLANK(INDEX(Date_unitati!$AB:$AB,MATCH($B11,Date_unitati!$B:$B,0))),"-",INDEX(Date_unitati!$AB:$AB,MATCH($B11,Date_unitati!$B:$B,0))),"-") -> 7.31 | H11: =IFERROR(IF(ISBLANK(INDEX(Date_unitati!$AC:$AC,MATCH($B11,Date_unitati!$B:$B,0))),"-",INDEX(Date_unitati!$AC:$AC,MATCH($B11,Date_unitati!$B:$B,0))),"-") -> 4.9944444 | I11: =IFERROR(IF(ISBLANK(INDEX(Date_unitati!$AD:$AD,MATCH($B11,Date_unitati!$B:$B,0))),"-",INDEX(Date_unitati!$AD:$AD,MATCH($B11,Date_unitati!$B:$B,0))),"-") -> 6.1125 | J11: =IFERROR(IF(ISBLANK(INDEX(Date_unitati!$AE:$AE,MATCH($B11,Date_unitati!$B:$B,0))),"-",INDEX(Date_unitati!$AE:$AE,MATCH($B11,Date_unitati!$B:$B,0))),"-") -> 4.99375 | K11: =IFERROR(IF(ISBLANK(INDEX(Date_unitati!$AF:$AF,MATCH($B11,Date_unitati!$B:$B,0))),"-",INDEX(Date_unitati!$AF:$AF,MATCH($B11,Date_unitati!$B:$B,0))),"-") -> 7.27 | L11: =IFERROR(IF(OR(ISTEXT(E11),ISTEXT(K11)),"-",ROUND(K11-E11,2)),"-") -> 1.92
A12: 9 | B12: ŞCOALA GIMNAZIALĂ "VIRGIL IOVĂNAŞ" ŞOFRONEA | C12: ŞOFRONEA | D12: RURAL | E12: =IFERROR(IF(ISBLANK(INDEX(Date_unitati!$Z:$Z,MATCH($B12,Date_unitati!$B:$B,0))),"-",INDEX(Date_unitati!$Z:$Z,MATCH($B12,Date_unitati!$B:$B,0))),"-") -> 6.33 | F12: =IFERROR(IF(ISBLANK(INDEX(Date_unitati!$AA:$AA,MATCH($B12,Date_unitati!$B:$B,0))),"-",INDEX(Date_unitati!$AA:$AA,MATCH($B12,Date_unitati!$B:$B,0))),"-") -> 5.625 | G12: =IFERROR(IF(ISBLANK(INDEX(Date_unitati!$AB:$AB,MATCH($B12,Date_unitati!$B:$B,0))),"-",INDEX(Date_unitati!$AB:$AB,MATCH($B12,Date_unitati!$B:$B,0))),"-") -> 6.3727273 | H12: =IFERROR(IF(ISBLANK(INDEX(Date_unitati!$AC:$AC,MATCH($B12,Date_unitati!$B:$B,0))),"-",INDEX(Date_unitati!$AC:$AC,MATCH($B12,Date_unitati!$B:$B,0))),"-") -> 6.1454545 | I12: =IFERROR(IF(ISBLANK(INDEX(Date_unitati!$AD:$AD,MATCH($B12,Date_unitati!$B:$B,0))),"-",INDEX(Date_unitati!$AD:$AD,MATCH($B12,Date_unitati!$B:$B,0))),"-") -> 5.51 | J12: =IFERROR(IF(ISBLANK(INDEX(Date_unitati!$AE:$AE,MATCH($B12,Date_unitati!$B:$B,0))),"-",INDEX(Date_unitati!$AE:$AE,MATCH($B12,Date_unitati!$B:$B,0))),"-") -> 6.8846154 | K12: =IFERROR(IF(ISBLANK(INDEX(Date_unitati!$AF:$AF,MATCH($B12,Date_unitati!$B:$B,0))),"-",INDEX(Date_unitati!$AF:$AF,MATCH($B12,Date_unitati!$B:$B,0))),"-") -> 7.1142857 | L12: =IFERROR(IF(OR(ISTEXT(E12),ISTEXT(K12)),"-",ROUND(K12-E12,2)),"-") -> 0.78
A13: 10 | B13: COLEGIUL NAŢIONAL "ELENA GHIBA BIRTA" ARAD | C13: ARAD | D13: URBAN | E13: =IFERROR(IF(ISBLANK(INDEX(Date_unitati!$Z:$Z,MATCH($B13,Date_unitati!$B:$B,0))),"-",INDEX(Date_unitati!$Z:$Z,MATCH($B13,Date_unitati!$B:$B,0))),"-") -> 7.247619 | F13: =IFERROR(IF(ISBLANK(INDEX(Date_unitati!$AA:$AA,MATCH($B13,Date_unitati!$B:$B,0))),"-",INDEX(Date_unitati!$AA:$AA,MATCH($B13,Date_unitati!$B:$B,0))),"-") -> 6.5081081 | G13: =IFERROR(IF(ISBLANK(INDEX(Date_unitati!$AB:$AB,MATCH($B13,Date_unitati!$B:$B,0))),"-",INDEX(Date_unitati!$AB:$AB,MATCH($B13,Date_unitati!$B:$B,0))),"-") -> 7.1617647 | H13: =IFERROR(IF(ISBLANK(INDEX(Date_unitati!$AC:$AC,MATCH($B13,Date_unitati!$B:$B,0))),"-",INDEX(Date_unitati!$AC:$AC,MATCH($B13,Date_unitati!$B:$B,0))),"-") -> 6.88 | I13: =IFERROR(IF(ISBLANK(INDEX(Date_unitati!$AD:$AD,MATCH($B13,Date_unitati!$B:$B,0))),"-",INDEX(Date_unitati!$AD:$AD,MATCH($B13,Date_unitati!$B:$B,0))),"-") -> 6.9566667 | J13: =IFERROR(IF(ISBLANK(INDEX(Date_unitati!$AE:$AE,MATCH($B13,Date_unitati!$B:$B,0))),"-",INDEX(Date_unitati!$AE:$AE,MATCH($B13,Date_unitati!$B:$B,0))),"-") -> 7.3712766 | K13: =IFERROR(IF(ISBLANK(INDEX(Date_unitati!$AF:$AF,MATCH($B13,Date_unitati!$B:$B,0))),"-",INDEX(Date_unitati!$AF:$AF,MATCH($B13,Date_unitati!$B:$B,0))),"-") -> 6.8943182 | L13: =IFERROR(IF(OR(ISTEXT(E13),ISTEXT(K13)),"-",ROUND(K13-E13,2)),"-") -> -0.35
A14: 11 | B14: ŞCOALA GIMNAZIALĂ "ARON COTRUŞ" ARAD | C14: ARAD | D14: URBAN | E14: =IFERROR(IF(ISBLANK(INDEX(Date_unitati!$Z:$Z,MATCH($B14,Date_unitati!$B:$B,0))),"-",INDEX(Date_unitati!$Z:$Z,MATCH($B14,Date_unitati!$B:$B,0))),"-") -> 6.0545455 | F14: =IFERROR(IF(ISBLANK(INDEX(Date_unitati!$AA:$AA,MATCH($B14,Date_unitati!$B:$B,0))),"-",INDEX(Date_unitati!$AA:$AA,MATCH($B14,Date_unitati!$B:$B,0))),"-") -> 6.0390909 | G14: =IFERROR(IF(ISBLANK(INDEX(Date_unitati!$AB:$AB,MATCH($B14,Date_unitati!$B:$B,0))),"-",INDEX(Date_unitati!$AB:$AB,MATCH($B14,Date_unitati!$B:$B,0))),"-") -> 6.495082 | H14: =IFERROR(IF(ISBLANK(INDEX(Date_unitati!$AC:$AC,MATCH($B14,Date_unitati!$B:$B,0))),"-",INDEX(Date_unitati!$AC:$AC,MATCH($B14,Date_unitati!$B:$B,0))),"-") -> 7.0441667 | I14: =IFERROR(IF(ISBLANK(INDEX(Date_unitati!$AD:$AD,MATCH($B14,Date_unitati!$B:$B,0))),"-",INDEX(Date_unitati!$AD:$AD,MATCH($B14,Date_unitati!$B:$B,0))),"-") -> 6.7291667 | J14: =IFERROR(IF(ISBLANK(INDEX(Date_unitati!$AE:$AE,MATCH($B14,Date_unitati!$B:$B,0))),"-",INDEX(Date_unitati!$AE:$AE,MATCH($B14,Date_unitati!$B:$B,0))),"-") -> 6.16 | K14: =IFERROR(IF(ISBLANK(INDEX(Date_unitati!$AF:$AF,MATCH($B14,Date_unitati!$B:$B,0))),"-",INDEX(Date_unitati!$AF:$AF,MATCH($B14,Date_unitati!$B:$B,0))),"-") -> 6.8431034 | L14: =IFERROR(IF(OR(ISTEXT(E14),ISTEXT(K14)),"-",ROUND(K14-E14,2)),"-") -> 0.79
A15: 12 | B15: LICEUL TEORETIC "MIHAI VELICIU" CHIŞINEU CRIŞ | C15: CHIŞINEU-CRIŞ | D15: URBAN | E15: =IFERROR(IF(ISBLANK(INDEX(Date_unitati!$Z:$Z,MATCH($B15,Date_unitati!$B:$B,0))),"-",INDEX(Date_unitati!$Z:$Z,MATCH($B15,Date_unitati!$B:$B,0))),"-") -> 6.1835526 | F15: =IFERROR(IF(ISBLANK(INDEX(Date_unitati!$AA:$AA,MATCH($B15,Date_unitati!$B:$B,0))),"-",INDEX(Date_unitati!$AA:$AA,MATCH($B15,Date_unitati!$B:$B,0))),"-") -> 5.3014706 | G15: =IFERROR(IF(ISBLANK(INDEX(Date_unitati!$AB:$AB,MATCH($B15,Date_unitati!$B:$B,0))),"-",INDEX(Date_unitati!$AB:$AB,MATCH($B15,Date_unitati!$B:$B,0))),"-") -> 6.3346154 | H15: =IFERROR(IF(ISBLANK(INDEX(Date_unitati!$AC:$AC,MATCH($B15,Date_unitati!$B:$B,0))),"-",INDEX(Date_unitati!$AC:$AC,MATCH($B15,Date_unitati!$B:$B,0))),"-") -> 6.7678571 | I15: =IFERROR(IF(ISBLANK(INDEX(Date_unitati!$AD:$AD,MATCH($B15,Date_unitati!$B:$B,0))),"-",INDEX(Date_unitati!$AD:$AD,MATCH($B15,Date_unitati!$B:$B,0))),"-") -> 5.9556604 | J15: =IFERROR(IF(ISBLANK(INDEX(Date_unitati!$AE:$AE,MATCH($B15,Date_unitati!$B:$B,0))),"-",INDEX(Date_unitati!$AE:$AE,MATCH($B15,Date_unitati!$B:$B,0))),"-") -> 6.0789474 | K15: =IFERROR(IF(ISBLANK(INDEX(Date_unitati!$AF:$AF,MATCH($B15,Date_unitati!$B:$B,0))),"-",INDEX(Date_unitati!$AF:$AF,MATCH($B15,Date_unitati!$B:$B,0))),"-") -> 6.8321429 | L15: =IFERROR(IF(OR(ISTEXT(E15),ISTEXT(K15)),"-",ROUND(K15-E15,2)),"-") -> 0.65
... A116: 113 | B116: ŞCOALA GIMNAZIALĂ FISCUT | C116: FISCUT | D116: RURAL | E116: =IFERROR(IF(ISBLANK(INDEX(Date_unitati!$Z:$Z,MATCH($B116,Date_unitati!$B:$B,0))),"-",INDEX(Date_unitati!$Z:$Z,MATCH($B116,Date_unitati!$B:$B,0))),"-") -> 4.385 | F116: =IFERROR(IF(ISBLANK(INDEX(Date_unitati!$AA:$AA,MATCH($B116,Date_unitati!$B:$B,0))),"-",INDEX(Date_unitati!$AA:$AA,MATCH($B116,Date_unitati!$B:$B,0))),"-") -> 3.5857143 | G116: =IFERROR(IF(ISBLANK(INDEX(Date_unitati!$AB:$AB,MATCH($B116,Date_unitati!$B:$B,0))),"-",INDEX(Date_unitati!$AB:$AB,MATCH($B116,Date_unitati!$B:$B,0))),"-") -> 4.51 | H116: =IFERROR(IF(ISBLANK(INDEX(Date_unitati!$AC:$AC,MATCH($B116,Date_unitati!$B:$B,0))),"-",INDEX(Date_unitati!$AC:$AC,MATCH($B116,Date_unitati!$B:$B,0))),"-") -> 4.25 | I116: =IFERROR(IF(ISBLANK(INDEX(Date_unitati!$AD:$AD,MATCH($B116,Date_unitati!$B:$B,0))),"-",INDEX(Date_unitati!$AD:$AD,MATCH($B116,Date_unitati!$B:$B,0))),"-") -> 4.1833333 | J116: =IFERROR(IF(ISBLANK(INDEX(Date_unitati!$AE:$AE,MATCH($B116,Date_unitati!$B:$B,0))),"-",INDEX(Date_unitati!$AE:$AE,MATCH($B116,Date_unitati!$B:$B,0))),"-") -> 3.32 | K116: =IFERROR(IF(ISBLANK(INDEX(Date_unitati!$AF:$AF,MATCH($B116,Date_unitati!$B:$B,0))),"-",INDEX(Date_unitati!$AF:$AF,MATCH($B116,Date_unitati!$B:$B,0))),"-") -> - | L116: =IFERROR(IF(OR(ISTEXT(E116),ISTEXT(K116)),"-",ROUND(K116-E116,2)),"-") -> -

Sheet Date_Materna
A1: Limba | B1: Unitate | C1: Localitate | D1: Mediu | E1: Nr_2020 | F1: Medie_2020 | G1: Nr_2021 | H1: Medie_2021 | I1: Nr_2022 | J1: Medie_2022 | K1: Nr_2023 | L1: Medie_2023 | M1: Nr_2024 | N1: Medie_2024 | O1: Nr_2025 | P1: Medie_2025 | Q1: Nr_2026 | R1: Medie_2026 | S1: Cheie
A2: germană | B2: LICEUL TEHNOLOGIC "STEFAN HELL" SÂNTANA | C2: SÂNTANA | D2: URBAN | G2: 8 | H2: 4.0375 | I2: 12 | J2: 3.8541667 | K2: 12 | L2: 1.6916667 | M2: 15 | N2: 4.2366667 | O2: 11 | P2: 3.4772727 | Q2: 8 | R2: 1.975 | S2: =A2&"||"&B2 -> germană||LICEUL TEHNOLOGIC "STEFAN HELL" SÂNTANA
A3: germană | B3: LICEUL TEORETIC "ADAM MULLER GUTTENBRUNN" ARAD | C3: ARAD | D3: URBAN | E3: 42 | F3: 7.5380952 | G3: 33 | H3: 6.8848485 | I3: 53 | J3: 8.490566 | K3: 53 | L3: 7.1207547 | M3: 66 | N3: 7.2340909 | O3: 53 | P3: 6.5792453 | Q3: 61 | R3: 7.2057377 | S3: =A3&"||"&B3 -> germană||LICEUL TEORETIC "ADAM MULLER GUTTENBRUNN" ARAD
A4: maghiară | B4: COLEGIUL"CSIKY GERGELY" ARAD | C4: ARAD | D4: URBAN | E4: 22 | F4: 7.2704545 | G4: 27 | H4: 8.1277778 | I4: 33 | J4: 8.1424242 | K4: 21 | L4: 8.0142857 | M4: 35 | N4: 8.5028571 | O4: 28 | P4: 8.6214286 | Q4: 34 | R4: 8.2308824 | S4: =A4&"||"&B4 -> maghiară||COLEGIUL"CSIKY GERGELY" ARAD
A5: maghiară | B5: ŞCOALA GIMNAZIALĂ "AUREL VLAICU" ARAD | C5: ARAD | D5: URBAN | E5: 12 | F5: 7.1 | I5: 8 | J5: 7.89375 | K5: 8 | L5: 7.6125 | M5: 13 | N5: 6.9423077 | Q5: 6 | R5: 7.2083333 | S5: =A5&"||"&B5 -> maghiară||ŞCOALA GIMNAZIALĂ "AUREL VLAICU" ARAD
A6: maghiară | B6: ŞCOALA GIMNAZIALĂ "MORA FERENC" ZIMANDU NOU | C6: ZIMANDU NOU | D6: RURAL | E6: 4 | F6: 6.7 | G6: 4 | H6: 7.25 | I6: 2 | J6: 6 | O6: 1 | P6: 8.25 | Q6: 4 | R6: 7.9 | S6: =A6&"||"&B6 -> maghiară||ŞCOALA GIMNAZIALĂ "MORA FERENC" ZIMANDU NOU
A7: maghiară | B7: ŞCOALA GIMNAZIALĂ "OLOSZ LAJOS" ADEA | C7: ADEA | D7: RURAL | E7: 9 | F7: 5.75 | G7: 4 | H7: 4.1375 | I7: 3 | J7: 8.0166667 | K7: 7 | L7: 5.5785714 | M7: 3 | N7: 6.1833333 | O7: 7 | P7: 7.9785714 | Q7: 8 | R7: 6.09375 | S7: =A7&"||"&B7 -> maghiară||ŞCOALA GIMNAZIALĂ "OLOSZ LAJOS" ADEA
A8: maghiară | B8: ŞCOALA GIMNAZIALĂ "ORMÓS ZSIGMOND" PECICA | C8: PECICA | D8: URBAN | E8: 14 | F8: 6.8535714 | G8: 3 | H8: 8.2333333 | I8: 12 | J8: 7.3958333 | K8: 13 | L8: 5.8576923 | M8: 19 | N8: 7.4657895 | O8: 9 | P8: 7.2666667 | Q8: 13 | R8: 6.8076923 | S8: =A8&"||"&B8 -> maghiară||ŞCOALA GIMNAZIALĂ "ORMÓS ZSIGMOND" PECICA
A9: maghiară | B9: ŞCOALA GIMNAZIALĂ "PATER GODO MIHALY" DOROBANŢI | C9: DOROBANŢI | D9: RURAL | E9: 9 | F9: 7.7444444 | G9: 10 | H9: 8.045 | I9: 14 | J9: 8.2 | K9: 6 | L9: 6.5333333 | M9: 8 | N9: 7.8125 | O9: 9 | P9: 7.8055556 | Q9: 13 | R9: 6.8076923 | S9: =A9&"||"&B9 -> maghiară||ŞCOALA GIMNAZIALĂ "PATER GODO MIHALY" DOROBANŢI
A10: maghiară | B10: ŞCOALA GIMNAZIALĂ "PĂDURENI" CHIŞINEU CRIŞ | C10: CHIŞINEU-CRIŞ | D10: URBAN | E10: 6 | F10: 6.6583333 | G10: 2 | H10: 6.4 | I10: 5 | J10: 4.69 | K10: 5 | L10: 3.01 | M10: 8 | N10: 3.9375 | O10: 8 | P10: 3.6875 | Q10: 10 | R10: 3.965 | S10: =A10&"||"&B10 -> maghiară||ŞCOALA GIMNAZIALĂ "PĂDURENI" CHIŞINEU CRIŞ
A11: maghiară | B11: ŞCOALA GIMNAZIALĂ "SIMONYI IMRE" SATU NOU | C11: SATU NOU | D11: RURAL | E11: 10 | F11: 7.93 | G11: 7 | H11: 7.2714286 | I11: 6 | J11: 7.3416667 | K11: 6 | L11: 5.65 | M11: 3 | N11: 8.2166667 | O11: 9 | P11: 7.1666667 | Q11: 5 | R11: 4.51 | S11: =A11&"||"&B11 -> maghiară||ŞCOALA GIMNAZIALĂ "SIMONYI IMRE" SATU NOU
A12: maghiară | B12: ŞCOALA GIMNAZIALĂ "TABAJDI KAROLY" ZERIND | C12: ZERIND | D12: RURAL | E12: 6 | F12: 7.5833333 | G12: 6 | H12: 7.5916667 | I12: 8 | J12: 6.8125 | K12: 9 | L12: 8.2222222 | M12: 6 | N12: 7.0833333 | O12: 6 | P12: 8.2583333 | Q12: 11 | R12: 7.3636364 | S12: =A12&"||"&B12 -> maghiară||ŞCOALA GIMNAZIALĂ "TABAJDI KAROLY" ZERIND
A13: maghiară | B13: ŞCOALA GIMNAZIALĂ MAILAT | C13: MAILAT | D13: RURAL | E13: 5 | F13: 7.05 | G13: 7 | H13: 7.1285714 | K13: 7 | L13: 7.8642857 | M13: 2 | N13: 7.475 | O13: 6 | P13: 5.5083333 | Q13: 5 | R13: 7.23 | S13: =A13&"||"&B13 -> maghiară||ŞCOALA GIMNAZIALĂ MAILAT
A14: slovacă | B14: LICEUL TEORETIC "JOZEF GREGOR TAJOVSKY" NĂDLAC | C14: NĂDLAC | D14: URBAN | E14: 17 | F14: 8.1735294 | G14: 11 | H14: 7.5909091 | I14: 20 | J14: 7.715 | K14: 10 | L14: 7.73 | M14: 15 | N14: 8.8266667 | O14: 12 | P14: 8.5 | Q14: 12 | R14: 7.8583333 | S14: =A14&"||"&B14 -> slovacă||LICEUL TEORETIC "JOZEF GREGOR TAJOVSKY" NĂDLAC

Sheet Evoluție Lb. Maternă
A1: Evoluția numărului de elevi și a mediei la proba de limbă maternă, pe fiecare limbă și unitate, 2020→2026 (13 unități cu predare/probă în limbă maternă: maghiară, germană — Adam Muller Guttenbrunn și Ştefan Hell Sântana, slovacă — Jozef Gregor Tajovsky Nădlac). "-" = nicio prezență la această probă în acel an, la acea unitate.
A4: Limba germană
A5: Loc | B5: Unitate | C5: Localitate | D5: Mediu | E5: Nr 2020 | F5: Medie 2020 | G5: Nr 2021 | H5: Medie 2021 | I5: Nr 2022 | J5: Medie 2022 | K5: Nr 2023 | L5: Medie 2023 | M5: Nr 2024 | N5: Medie 2024 | O5: Nr 2025 | P5: Medie 2025 | Q5: Nr 2026 | R5: Medie 2026 | S5: Δ medie total
A6: 1 | B6: LICEUL TEORETIC "ADAM MULLER GUTTENBRUNN" ARAD | C6: ARAD | D6: URBAN | E6: =IFERROR(IF(ISBLANK(INDEX(Date_Materna!$E:$E,MATCH("germană"&"||"&$B6,Date_Materna!$S:$S,0))),"-",INDEX(Date_Materna!$E:$E,MATCH("germană"&"||"&$B6,Date_Materna!$S:$S,0))),"-") -> 42 | F6: =IFERROR(IF(ISBLANK(INDEX(Date_Materna!$F:$F,MATCH("germană"&"||"&$B6,Date_Materna!$S:$S,0))),"-",INDEX(Date_Materna!$F:$F,MATCH("germană"&"||"&$B6,Date_Materna!$S:$S,0))),"-") -> 7.5380952 | G6: =IFERROR(IF(ISBLANK(INDEX(Date_Materna!$G:$G,MATCH("germană"&"||"&$B6,Date_Materna!$S:$S,0))),"-",INDEX(Date_Materna!$G:$G,MATCH("germană"&"||"&$B6,Date_Materna!$S:$S,0))),"-") -> 33 | H6: =IFERROR(IF(ISBLANK(INDEX(Date_Materna!$H:$H,MATCH("germană"&"||"&$B6,Date_Materna!$S:$S,0))),"-",INDEX(Date_Materna!$H:$H,MATCH("germană"&"||"&$B6,Date_Materna!$S:$S,0))),"-") -> 6.8848485 | I6: =IFERROR(IF(ISBLANK(INDEX(Date_Materna!$I:$I,MATCH("germană"&"||"&$B6,Date_Materna!$S:$S,0))),"-",INDEX(Date_Materna!$I:$I,MATCH("germană"&"||"&$B6,Date_Materna!$S:$S,0))),"-") -> 53 | J6: =IFERROR(IF(ISBLANK(INDEX(Date_Materna!$J:$J,MATCH("germană"&"||"&$B6,Date_Materna!$S:$S,0))),"-",INDEX(Date_Materna!$J:$J,MATCH("germană"&"||"&$B6,Date_Materna!$S:$S,0))),"-") -> 8.490566 | K6: =IFERROR(IF(ISBLANK(INDEX(Date_Materna!$K:$K,MATCH("germană"&"||"&$B6,Date_Materna!$S:$S,0))),"-",INDEX(Date_Materna!$K:$K,MATCH("germană"&"||"&$B6,Date_Materna!$S:$S,0))),"-") -> 53 | L6: =IFERROR(IF(ISBLANK(INDEX(Date_Materna!$L:$L,MATCH("germană"&"||"&$B6,Date_Materna!$S:$S,0))),"-",INDEX(Date_Materna!$L:$L,MATCH("germană"&"||"&$B6,Date_Materna!$S:$S,0))),"-") -> 7.1207547 | M6: =IFERROR(IF(ISBLANK(INDEX(Date_Materna!$M:$M,MATCH("germană"&"||"&$B6,Date_Materna!$S:$S,0))),"-",INDEX(Date_Materna!$M:$M,MATCH("germană"&"||"&$B6,Date_Materna!$S:$S,0))),"-") -> 66 | N6: =IFERROR(IF(ISBLANK(INDEX(Date_Materna!$N:$N,MATCH("germană"&"||"&$B6,Date_Materna!$S:$S,0))),"-",INDEX(Date_Materna!$N:$N,MATCH("germană"&"||"&$B6,Date_Materna!$S:$S,0))),"-") -> 7.2340909 | O6: =IFERROR(IF(ISBLANK(INDEX(Date_Materna!$O:$O,MATCH("germană"&"||"&$B6,Date_Materna!$S:$S,0))),"-",INDEX(Date_Materna!$O:$O,MATCH("germană"&"||"&$B6,Date_Materna!$S:$S,0))),"-") -> 53 | P6: =IFERROR(IF(ISBLANK(INDEX(Date_Materna!$P:$P,MATCH("germană"&"||"&$B6,Date_Materna!$S:$S,0))),"-",INDEX(Date_Materna!$P:$P,MATCH("germană"&"||"&$B6,Date_Materna!$S:$S,0))),"-") -> 6.5792453 | Q6: =IFERROR(IF(ISBLANK(INDEX(Date_Materna!$Q:$Q,MATCH("germană"&"||"&$B6,Date_Materna!$S:$S,0))),"-",INDEX(Date_Materna!$Q:$Q,MATCH("germană"&"||"&$B6,Date_Materna!$S:$S,0))),"-") -> 61 | R6: =IFERROR(IF(ISBLANK(INDEX(Date_Materna!$R:$R,MATCH("germană"&"||"&$B6,Date_Materna!$S:$S,0))),"-",INDEX(Date_Materna!$R:$R,MATCH("germană"&"||"&$B6,Date_Materna!$S:$S,0))),"-") -> 7.2057377 | S6: =IFERROR(IF(OR(ISTEXT(F6),ISTEXT(R6)),"-",ROUND(R6-F6,2)),"-") -> -0.33
A7: 2 | B7: LICEUL TEHNOLOGIC "STEFAN HELL" SÂNTANA | C7: SÂNTANA | D7: URBAN | E7: =IFERROR(IF(ISBLANK(INDEX(Date_Materna!$E:$E,MATCH("germană"&"||"&$B7,Date_Materna!$S:$S,0))),"-",INDEX(Date_Materna!$E:$E,MATCH("germană"&"||"&$B7,Date_Materna!$S:$S,0))),"-") -> - | F7: =IFERROR(IF(ISBLANK(INDEX(Date_Materna!$F:$F,MATCH("germană"&"||"&$B7,Date_Materna!$S:$S,0))),"-",INDEX(Date_Materna!$F:$F,MATCH("germană"&"||"&$B7,Date_Materna!$S:$S,0))),"-") -> - | G7: =IFERROR(IF(ISBLANK(INDEX(Date_Materna!$G:$G,MATCH("germană"&"||"&$B7,Date_Materna!$S:$S,0))),"-",INDEX(Date_Materna!$G:$G,MATCH("germană"&"||"&$B7,Date_Materna!$S:$S,0))),"-") -> 8 | H7: =IFERROR(IF(ISBLANK(INDEX(Date_Materna!$H:$H,MATCH("germană"&"||"&$B7,Date_Materna!$S:$S,0))),"-",INDEX(Date_Materna!$H:$H,MATCH("germană"&"||"&$B7,Date_Materna!$S:$S,0))),"-") -> 4.0375 | I7: =IFERROR(IF(ISBLANK(INDEX(Date_Materna!$I:$I,MATCH("germană"&"||"&$B7,Date_Materna!$S:$S,0))),"-",INDEX(Date_Materna!$I:$I,MATCH("germană"&"||"&$B7,Date_Materna!$S:$S,0))),"-") -> 12 | J7: =IFERROR(IF(ISBLANK(INDEX(Date_Materna!$J:$J,MATCH("germană"&"||"&$B7,Date_Materna!$S:$S,0))),"-",INDEX(Date_Materna!$J:$J,MATCH("germană"&"||"&$B7,Date_Materna!$S:$S,0))),"-") -> 3.8541667 | K7: =IFERROR(IF(ISBLANK(INDEX(Date_Materna!$K:$K,MATCH("germană"&"||"&$B7,Date_Materna!$S:$S,0))),"-",INDEX(Date_Materna!$K:$K,MATCH("germană"&"||"&$B7,Date_Materna!$S:$S,0))),"-") -> 12 | L7: =IFERROR(IF(ISBLANK(INDEX(Date_Materna!$L:$L,MATCH("germană"&"||"&$B7,Date_Materna!$S:$S,0))),"-",INDEX(Date_Materna!$L:$L,MATCH("germană"&"||"&$B7,Date_Materna!$S:$S,0))),"-") -> 1.6916667 | M7: =IFERROR(IF(ISBLANK(INDEX(Date_Materna!$M:$M,MATCH("germană"&"||"&$B7,Date_Materna!$S:$S,0))),"-",INDEX(Date_Materna!$M:$M,MATCH("germană"&"||"&$B7,Date_Materna!$S:$S,0))),"-") -> 15 | N7: =IFERROR(IF(ISBLANK(INDEX(Date_Materna!$N:$N,MATCH("germană"&"||"&$B7,Date_Materna!$S:$S,0))),"-",INDEX(Date_Materna!$N:$N,MATCH("germană"&"||"&$B7,Date_Materna!$S:$S,0))),"-") -> 4.2366667 | O7: =IFERROR(IF(ISBLANK(INDEX(Date_Materna!$O:$O,MATCH("germană"&"||"&$B7,Date_Materna!$S:$S,0))),"-",INDEX(Date_Materna!$O:$O,MATCH("germană"&"||"&$B7,Date_Materna!$S:$S,0))),"-") -> 11 | P7: =IFERROR(IF(ISBLANK(INDEX(Date_Materna!$P:$P,MATCH("germană"&"||"&$B7,Date_Materna!$S:$S,0))),"-",INDEX(Date_Materna!$P:$P,MATCH("germană"&"||"&$B7,Date_Materna!$S:$S,0))),"-") -> 3.4772727 | Q7: =IFERROR(IF(ISBLANK(INDEX(Date_Materna!$Q:$Q,MATCH("germană"&"||"&$B7,Date_Materna!$S:$S,0))),"-",INDEX(Date_Materna!$Q:$Q,MATCH("germană"&"||"&$B7,Date_Materna!$S:$S,0))),"-") -> 8 | R7: =IFERROR(IF(ISBLANK(INDEX(Date_Materna!$R:$R,MATCH("germană"&"||"&$B7,Date_Materna!$S:$S,0))),"-",INDEX(Date_Materna!$R:$R,MATCH("germană"&"||"&$B7,Date_Materna!$S:$S,0))),"-") -> 1.975 | S7: =IFERROR(IF(OR(ISTEXT(F7),ISTEXT(R7)),"-",ROUND(R7-F7,2)),"-") -> -
A8: Limba maghiară
A9: Loc | B9: Unitate | C9: Localitate | D9: Mediu | E9: Nr 2020 | F9: Medie 2020 | G9: Nr 2021 | H9: Medie 2021 | I9: Nr 2022 | J9: Medie 2022 | K9: Nr 2023 | L9: Medie 2023 | M9: Nr 2024 | N9: Medie 2024 | O9: Nr 2025 | P9: Medie 2025 | Q9: Nr 2026 | R9: Medie 2026 | S9: Δ medie total
A10: 1 | B10: COLEGIUL"CSIKY GERGELY" ARAD | C10: ARAD | D10: URBAN | E10: =IFERROR(IF(ISBLANK(INDEX(Date_Materna!$E:$E,MATCH("maghiară"&"||"&$B10,Date_Materna!$S:$S,0))),"-",INDEX(Date_Materna!$E:$E,MATCH("maghiară"&"||"&$B10,Date_Materna!$S:$S,0))),"-") -> 22 | F10: =IFERROR(IF(ISBLANK(INDEX(Date_Materna!$F:$F,MATCH("maghiară"&"||"&$B10,Date_Materna!$S:$S,0))),"-",INDEX(Date_Materna!$F:$F,MATCH("maghiară"&"||"&$B10,Date_Materna!$S:$S,0))),"-") -> 7.2704545 | G10: =IFERROR(IF(ISBLANK(INDEX(Date_Materna!$G:$G,MATCH("maghiară"&"||"&$B10,Date_Materna!$S:$S,0))),"-",INDEX(Date_Materna!$G:$G,MATCH("maghiară"&"||"&$B10,Date_Materna!$S:$S,0))),"-") -> 27 | H10: =IFERROR(IF(ISBLANK(INDEX(Date_Materna!$H:$H,MATCH("maghiară"&"||"&$B10,Date_Materna!$S:$S,0))),"-",INDEX(Date_Materna!$H:$H,MATCH("maghiară"&"||"&$B10,Date_Materna!$S:$S,0))),"-") -> 8.1277778 | I10: =IFERROR(IF(ISBLANK(INDEX(Date_Materna!$I:$I,MATCH("maghiară"&"||"&$B10,Date_Materna!$S:$S,0))),"-",INDEX(Date_Materna!$I:$I,MATCH("maghiară"&"||"&$B10,Date_Materna!$S:$S,0))),"-") -> 33 | J10: =IFERROR(IF(ISBLANK(INDEX(Date_Materna!$J:$J,MATCH("maghiară"&"||"&$B10,Date_Materna!$S:$S,0))),"-",INDEX(Date_Materna!$J:$J,MATCH("maghiară"&"||"&$B10,Date_Materna!$S:$S,0))),"-") -> 8.1424242 | K10: =IFERROR(IF(ISBLANK(INDEX(Date_Materna!$K:$K,MATCH("maghiară"&"||"&$B10,Date_Materna!$S:$S,0))),"-",INDEX(Date_Materna!$K:$K,MATCH("maghiară"&"||"&$B10,Date_Materna!$S:$S,0))),"-") -> 21 | L10: =IFERROR(IF(ISBLANK(INDEX(Date_Materna!$L:$L,MATCH("maghiară"&"||"&$B10,Date_Materna!$S:$S,0))),"-",INDEX(Date_Materna!$L:$L,MATCH("maghiară"&"||"&$B10,Date_Materna!$S:$S,0))),"-") -> 8.0142857 | M10: =IFERROR(IF(ISBLANK(INDEX(Date_Materna!$M:$M,MATCH("maghiară"&"||"&$B10,Date_Materna!$S:$S,0))),"-",INDEX(Date_Materna!$M:$M,MATCH("maghiară"&"||"&$B10,Date_Materna!$S:$S,0))),"-") -> 35 | N10: =IFERROR(IF(ISBLANK(INDEX(Date_Materna!$N:$N,MATCH("maghiară"&"||"&$B10,Date_Materna!$S:$S,0))),"-",INDEX(Date_Materna!$N:$N,MATCH("maghiară"&"||"&$B10,Date_Materna!$S:$S,0))),"-") -> 8.5028571 | O10: =IFERROR(IF(ISBLANK(INDEX(Date_Materna!$O:$O,MATCH("maghiară"&"||"&$B10,Date_Materna!$S:$S,0))),"-",INDEX(Date_Materna!$O:$O,MATCH("maghiară"&"||"&$B10,Date_Materna!$S:$S,0))),"-") -> 28 | P10: =IFERROR(IF(ISBLANK(INDEX(Date_Materna!$P:$P,MATCH("maghiară"&"||"&$B10,Date_Materna!$S:$S,0))),"-",INDEX(Date_Materna!$P:$P,MATCH("maghiară"&"||"&$B10,Date_Materna!$S:$S,0))),"-") -> 8.6214286 | Q10: =IFERROR(IF(ISBLANK(INDEX(Date_Materna!$Q:$Q,MATCH("maghiară"&"||"&$B10,Date_Materna!$S:$S,0))),"-",INDEX(Date_Materna!$Q:$Q,MATCH("maghiară"&"||"&$B10,Date_Materna!$S:$S,0))),"-") -> 34 | R10: =IFERROR(IF(ISBLANK(INDEX(Date_Materna!$R:$R,MATCH("maghiară"&"||"&$B10,Date_Materna!$S:$S,0))),"-",INDEX(Date_Materna!$R:$R,MATCH("maghiară"&"||"&$B10,Date_Materna!$S:$S,0))),"-") -> 8.2308824 | S10: =IFERROR(IF(OR(ISTEXT(F10),ISTEXT(R10)),"-",ROUND(R10-F10,2)),"-") -> 0.96
A11: 2 | B11: ŞCOALA GIMNAZIALĂ "MORA FERENC" ZIMANDU NOU | C11: ZIMANDU NOU | D11: RURAL | E11: =IFERROR(IF(ISBLANK(INDEX(Date_Materna!$E:$E,MATCH("maghiară"&"||"&$B11,Date_Materna!$S:$S,0))),"-",INDEX(Date_Materna!$E:$E,MATCH("maghiară"&"||"&$B11,Date_Materna!$S:$S,0))),"-") -> 4 | F11: =IFERROR(IF(ISBLANK(INDEX(Date_Materna!$F:$F,MATCH("maghiară"&"||"&$B11,Date_Materna!$S:$S,0))),"-",INDEX(Date_Materna!$F:$F,MATCH("maghiară"&"||"&$B11,Date_Materna!$S:$S,0))),"-") -> 6.7 | G11: =IFERROR(IF(ISBLANK(INDEX(Date_Materna!$G:$G,MATCH("maghiară"&"||"&$B11,Date_Materna!$S:$S,0))),"-",INDEX(Date_Materna!$G:$G,MATCH("maghiară"&"||"&$B11,Date_Materna!$S:$S,0))),"-") -> 4 | H11: =IFERROR(IF(ISBLANK(INDEX(Date_Materna!$H:$H,MATCH("maghiară"&"||"&$B11,Date_Materna!$S:$S,0))),"-",INDEX(Date_Materna!$H:$H,MATCH("maghiară"&"||"&$B11,Date_Materna!$S:$S,0))),"-") -> 7.25 | I11: =IFERROR(IF(ISBLANK(INDEX(Date_Materna!$I:$I,MATCH("maghiară"&"||"&$B11,Date_Materna!$S:$S,0))),"-",INDEX(Date_Materna!$I:$I,MATCH("maghiară"&"||"&$B11,Date_Materna!$S:$S,0))),"-") -> 2 | J11: =IFERROR(IF(ISBLANK(INDEX(Date_Materna!$J:$J,MATCH("maghiară"&"||"&$B11,Date_Materna!$S:$S,0))),"-",INDEX(Date_Materna!$J:$J,MATCH("maghiară"&"||"&$B11,Date_Materna!$S:$S,0))),"-") -> 6 | K11: =IFERROR(IF(ISBLANK(INDEX(Date_Materna!$K:$K,MATCH("maghiară"&"||"&$B11,Date_Materna!$S:$S,0))),"-",INDEX(Date_Materna!$K:$K,MATCH("maghiară"&"||"&$B11,Date_Materna!$S:$S,0))),"-") -> - | L11: =IFERROR(IF(ISBLANK(INDEX(Date_Materna!$L:$L,MATCH("maghiară"&"||"&$B11,Date_Materna!$S:$S,0))),"-",INDEX(Date_Materna!$L:$L,MATCH("maghiară"&"||"&$B11,Date_Materna!$S:$S,0))),"-") -> - | M11: =IFERROR(IF(ISBLANK(INDEX(Date_Materna!$M:$M,MATCH("maghiară"&"||"&$B11,Date_Materna!$S:$S,0))),"-",INDEX(Date_Materna!$M:$M,MATCH("maghiară"&"||"&$B11,Date_Materna!$S:$S,0))),"-") -> - | N11: =IFERROR(IF(ISBLANK(INDEX(Date_Materna!$N:$N,MATCH("maghiară"&"||"&$B11,Date_Materna!$S:$S,0))),"-",INDEX(Date_Materna!$N:$N,MATCH("maghiară"&"||"&$B11,Date_Materna!$S:$S,0))),"-") -> - | O11: =IFERROR(IF(ISBLANK(INDEX(Date_Materna!$O:$O,MATCH("maghiară"&"||"&$B11,Date_Materna!$S:$S,0))),"-",INDEX(Date_Materna!$O:$O,MATCH("maghiară"&"||"&$B11,Date_Materna!$S:$S,0))),"-") -> 1 | P11: =IFERROR(IF(ISBLANK(INDEX(Date_Materna!$P:$P,MATCH("maghiară"&"||"&$B11,Date_Materna!$S:$S,0))),"-",INDEX(Date_Materna!$P:$P,MATCH("maghiară"&"||"&$B11,Date_Materna!$S:$S,0))),"-") -> 8.25 | Q11: =IFERROR(IF(ISBLANK(INDEX(Date_Materna!$Q:$Q,MATCH("maghiară"&"||"&$B11,Date_Materna!$S:$S,0))),"-",INDEX(Date_Materna!$Q:$Q,MATCH("maghiară"&"||"&$B11,Date_Materna!$S:$S,0))),"-") -> 4 | R11: =IFERROR(IF(ISBLANK(INDEX(Date_Materna!$R:$R,MATCH("maghiară"&"||"&$B11,Date_Materna!$S:$S,0))),"-",INDEX(Date_Materna!$R:$R,MATCH("maghiară"&"||"&$B11,Date_Materna!$S:$S,0))),"-") -> 7.9 | S11: =IFERROR(IF(OR(ISTEXT(F11),ISTEXT(R11)),"-",ROUND(R11-F11,2)),"-") -> 1.2
A12: 3 | B12: ŞCOALA GIMNAZIALĂ "TABAJDI KAROLY" ZERIND | C12: ZERIND | D12: RURAL | E12: =IFERROR(IF(ISBLANK(INDEX(Date_Materna!$E:$E,MATCH("maghiară"&"||"&$B12,Date_Materna!$S:$S,0))),"-",INDEX(Date_Materna!$E:$E,MATCH("maghiară"&"||"&$B12,Date_Materna!$S:$S,0))),"-") -> 6 | F12: =IFERROR(IF(ISBLANK(INDEX(Date_Materna!$F:$F,MATCH("maghiară"&"||"&$B12,Date_Materna!$S:$S,0))),"-",INDEX(Date_Materna!$F:$F,MATCH("maghiară"&"||"&$B12,Date_Materna!$S:$S,0))),"-") -> 7.5833333 | G12: =IFERROR(IF(ISBLANK(INDEX(Date_Materna!$G:$G,MATCH("maghiară"&"||"&$B12,Date_Materna!$S:$S,0))),"-",INDEX(Date_Materna!$G:$G,MATCH("maghiară"&"||"&$B12,Date_Materna!$S:$S,0))),"-") -> 6 | H12: =IFERROR(IF(ISBLANK(INDEX(Date_Materna!$H:$H,MATCH("maghiară"&"||"&$B12,Date_Materna!$S:$S,0))),"-",INDEX(Date_Materna!$H:$H,MATCH("maghiară"&"||"&$B12,Date_Materna!$S:$S,0))),"-") -> 7.5916667 | I12: =IFERROR(IF(ISBLANK(INDEX(Date_Materna!$I:$I,MATCH("maghiară"&"||"&$B12,Date_Materna!$S:$S,0))),"-",INDEX(Date_Materna!$I:$I,MATCH("maghiară"&"||"&$B12,Date_Materna!$S:$S,0))),"-") -> 8 | J12: =IFERROR(IF(ISBLANK(INDEX(Date_Materna!$J:$J,MATCH("maghiară"&"||"&$B12,Date_Materna!$S:$S,0))),"-",INDEX(Date_Materna!$J:$J,MATCH("maghiară"&"||"&$B12,Date_Materna!$S:$S,0))),"-") -> 6.8125 | K12: =IFERROR(IF(ISBLANK(INDEX(Date_Materna!$K:$K,MATCH("maghiară"&"||"&$B12,Date_Materna!$S:$S,0))),"-",INDEX(Date_Materna!$K:$K,MATCH("maghiară"&"||"&$B12,Date_Materna!$S:$S,0))),"-") -> 9 | L12: =IFERROR(IF(ISBLANK(INDEX(Date_Materna!$L:$L,MATCH("maghiară"&"||"&$B12,Date_Materna!$S:$S,0))),"-",INDEX(Date_Materna!$L:$L,MATCH("maghiară"&"||"&$B12,Date_Materna!$S:$S,0))),"-") -> 8.2222222 | M12: =IFERROR(IF(ISBLANK(INDEX(Date_Materna!$M:$M,MATCH("maghiară"&"||"&$B12,Date_Materna!$S:$S,0))),"-",INDEX(Date_Materna!$M:$M,MATCH("maghiară"&"||"&$B12,Date_Materna!$S:$S,0))),"-") -> 6 | N12: =IFERROR(IF(ISBLANK(INDEX(Date_Materna!$N:$N,MATCH("maghiară"&"||"&$B12,Date_Materna!$S:$S,0))),"-",INDEX(Date_Materna!$N:$N,MATCH("maghiară"&"||"&$B12,Date_Materna!$S:$S,0))),"-") -> 7.0833333 | O12: =IFERROR(IF(ISBLANK(INDEX(Date_Materna!$O:$O,MATCH("maghiară"&"||"&$B12,Date_Materna!$S:$S,0))),"-",INDEX(Date_Materna!$O:$O,MATCH("maghiară"&"||"&$B12,Date_Materna!$S:$S,0))),"-") -> 6 | P12: =IFERROR(IF(ISBLANK(INDEX(Date_Materna!$P:$P,MATCH("maghiară"&"||"&$B12,Date_Materna!$S:$S,0))),"-",INDEX(Date_Materna!$P:$P,MATCH("maghiară"&"||"&$B12,Date_Materna!$S:$S,0))),"-") -> 8.2583333 | Q12: =IFERROR(IF(ISBLANK(INDEX(Date_Materna!$Q:$Q,MATCH("maghiară"&"||"&$B12,Date_Materna!$S:$S,0))),"-",INDEX(Date_Materna!$Q:$Q,MATCH("maghiară"&"||"&$B12,Date_Materna!$S:$S,0))),"-") -> 11 | R12: =IFERROR(IF(ISBLANK(INDEX(Date_Materna!$R:$R,MATCH("maghiară"&"||"&$B12,Date_Materna!$S:$S,0))),"-",INDEX(Date_Materna!$R:$R,MATCH("maghiară"&"||"&$B12,Date_Materna!$S:$S,0))),"-") -> 7.3636364 | S12: =IFERROR(IF(OR(ISTEXT(F12),ISTEXT(R12)),"-",ROUND(R12-F12,2)),"-") -> -0.22
A13: 4 | B13: ŞCOALA GIMNAZIALĂ MAILAT | C13: MAILAT | D13: RURAL | E13: =IFERROR(IF(ISBLANK(INDEX(Date_Materna!$E:$E,MATCH("maghiară"&"||"&$B13,Date_Materna!$S:$S,0))),"-",INDEX(Date_Materna!$E:$E,MATCH("maghiară"&"||"&$B13,Date_Materna!$S:$S,0))),"-") -> 5 | F13: =IFERROR(IF(ISBLANK(INDEX(Date_Materna!$F:$F,MATCH("maghiară"&"||"&$B13,Date_Materna!$S:$S,0))),"-",INDEX(Date_Materna!$F:$F,MATCH("maghiară"&"||"&$B13,Date_Materna!$S:$S,0))),"-") -> 7.05 | G13: =IFERROR(IF(ISBLANK(INDEX(Date_Materna!$G:$G,MATCH("maghiară"&"||"&$B13,Date_Materna!$S:$S,0))),"-",INDEX(Date_Materna!$G:$G,MATCH("maghiară"&"||"&$B13,Date_Materna!$S:$S,0))),"-") -> 7 | H13: =IFERROR(IF(ISBLANK(INDEX(Date_Materna!$H:$H,MATCH("maghiară"&"||"&$B13,Date_Materna!$S:$S,0))),"-",INDEX(Date_Materna!$H:$H,MATCH("maghiară"&"||"&$B13,Date_Materna!$S:$S,0))),"-") -> 7.1285714 | I13: =IFERROR(IF(ISBLANK(INDEX(Date_Materna!$I:$I,MATCH("maghiară"&"||"&$B13,Date_Materna!$S:$S,0))),"-",INDEX(Date_Materna!$I:$I,MATCH("maghiară"&"||"&$B13,Date_Materna!$S:$S,0))),"-") -> - | J13: =IFERROR(IF(ISBLANK(INDEX(Date_Materna!$J:$J,MATCH("maghiară"&"||"&$B13,Date_Materna!$S:$S,0))),"-",INDEX(Date_Materna!$J:$J,MATCH("maghiară"&"||"&$B13,Date_Materna!$S:$S,0))),"-") -> - | K13: =IFERROR(IF(ISBLANK(INDEX(Date_Materna!$K:$K,MATCH("maghiară"&"||"&$B13,Date_Materna!$S:$S,0))),"-",INDEX(Date_Materna!$K:$K,MATCH("maghiară"&"||"&$B13,Date_Materna!$S:$S,0))),"-") -> 7 | L13: =IFERROR(IF(ISBLANK(INDEX(Date_Materna!$L:$L,MATCH("maghiară"&"||"&$B13,Date_Materna!$S:$S,0))),"-",INDEX(Date_Materna!$L:$L,MATCH("maghiară"&"||"&$B13,Date_Materna!$S:$S,0))),"-") -> 7.8642857 | M13: =IFERROR(IF(ISBLANK(INDEX(Date_Materna!$M:$M,MATCH("maghiară"&"||"&$B13,Date_Materna!$S:$S,0))),"-",INDEX(Date_Materna!$M:$M,MATCH("maghiară"&"||"&$B13,Date_Materna!$S:$S,0))),"-") -> 2 | N13: =IFERROR(IF(ISBLANK(INDEX(Date_Materna!$N:$N,MATCH("maghiară"&"||"&$B13,Date_Materna!$S:$S,0))),"-",INDEX(Date_Materna!$N:$N,MATCH("maghiară"&"||"&$B13,Date_Materna!$S:$S,0))),"-") -> 7.475 | O13: =IFERROR(IF(ISBLANK(INDEX(Date_Materna!$O:$O,MATCH("maghiară"&"||"&$B13,Date_Materna!$S:$S,0))),"-",INDEX(Date_Materna!$O:$O,MATCH("maghiară"&"||"&$B13,Date_Materna!$S:$S,0))),"-") -> 6 | P13: =IFERROR(IF(ISBLANK(INDEX(Date_Materna!$P:$P,MATCH("maghiară"&"||"&$B13,Date_Materna!$S:$S,0))),"-",INDEX(Date_Materna!$P:$P,MATCH("maghiară"&"||"&$B13,Date_Materna!$S:$S,0))),"-") -> 5.5083333 | Q13: =IFERROR(IF(ISBLANK(INDEX(Date_Materna!$Q:$Q,MATCH("maghiară"&"||"&$B13,Date_Materna!$S:$S,0))),"-",INDEX(Date_Materna!$Q:$Q,MATCH("maghiară"&"||"&$B13,Date_Materna!$S:$S,0))),"-") -> 5 | R13: =IFERROR(IF(ISBLANK(INDEX(Date_Materna!$R:$R,MATCH("maghiară"&"||"&$B13,Date_Materna!$S:$S,0))),"-",INDEX(Date_Materna!$R:$R,MATCH("maghiară"&"||"&$B13,Date_Materna!$S:$S,0))),"-") -> 7.23 | S13: =IFERROR(IF(OR(ISTEXT(F13),ISTEXT(R13)),"-",ROUND(R13-F13,2)),"-") -> 0.18
A14: 5 | B14: ŞCOALA GIMNAZIALĂ "AUREL VLAICU" ARAD | C14: ARAD | D14: URBAN | E14: =IFERROR(IF(ISBLANK(INDEX(Date_Materna!$E:$E,MATCH("maghiară"&"||"&$B14,Date_Materna!$S:$S,0))),"-",INDEX(Date_Materna!$E:$E,MATCH("maghiară"&"||"&$B14,Date_Materna!$S:$S,0))),"-") -> 12 | F14: =IFERROR(IF(ISBLANK(INDEX(Date_Materna!$F:$F,MATCH("maghiară"&"||"&$B14,Date_Materna!$S:$S,0))),"-",INDEX(Date_Materna!$F:$F,MATCH("maghiară"&"||"&$B14,Date_Materna!$S:$S,0))),"-") -> 7.1 | G14: =IFERROR(IF(ISBLANK(INDEX(Date_Materna!$G:$G,MATCH("maghiară"&"||"&$B14,Date_Materna!$S:$S,0))),"-",INDEX(Date_Materna!$G:$G,MATCH("maghiară"&"||"&$B14,Date_Materna!$S:$S,0))),"-") -> - | H14: =IFERROR(IF(ISBLANK(INDEX(Date_Materna!$H:$H,MATCH("maghiară"&"||"&$B14,Date_Materna!$S:$S,0))),"-",INDEX(Date_Materna!$H:$H,MATCH("maghiară"&"||"&$B14,Date_Materna!$S:$S,0))),"-") -> - | I14: =IFERROR(IF(ISBLANK(INDEX(Date_Materna!$I:$I,MATCH("maghiară"&"||"&$B14,Date_Materna!$S:$S,0))),"-",INDEX(Date_Materna!$I:$I,MATCH("maghiară"&"||"&$B14,Date_Materna!$S:$S,0))),"-") -> 8 | J14: =IFERROR(IF(ISBLANK(INDEX(Date_Materna!$J:$J,MATCH("maghiară"&"||"&$B14,Date_Materna!$S:$S,0))),"-",INDEX(Date_Materna!$J:$J,MATCH("maghiară"&"||"&$B14,Date_Materna!$S:$S,0))),"-") -> 7.89375 | K14: =IFERROR(IF(ISBLANK(INDEX(Date_Materna!$K:$K,MATCH("maghiară"&"||"&$B14,Date_Materna!$S:$S,0))),"-",INDEX(Date_Materna!$K:$K,MATCH("maghiară"&"||"&$B14,Date_Materna!$S:$S,0))),"-") -> 8 | L14: =IFERROR(IF(ISBLANK(INDEX(Date_Materna!$L:$L,MATCH("maghiară"&"||"&$B14,Date_Materna!$S:$S,0))),"-",INDEX(Date_Materna!$L:$L,MATCH("maghiară"&"||"&$B14,Date_Materna!$S:$S,0))),"-") -> 7.6125 | M14: =IFERROR(IF(ISBLANK(INDEX(Date_Materna!$M:$M,MATCH("maghiară"&"||"&$B14,Date_Materna!$S:$S,0))),"-",INDEX(Date_Materna!$M:$M,MATCH("maghiară"&"||"&$B14,Date_Materna!$S:$S,0))),"-") -> 13 | N14: =IFERROR(IF(ISBLANK(INDEX(Date_Materna!$N:$N,MATCH("maghiară"&"||"&$B14,Date_Materna!$S:$S,0))),"-",INDEX(Date_Materna!$N:$N,MATCH("maghiară"&"||"&$B14,Date_Materna!$S:$S,0))),"-") -> 6.9423077 | O14: =IFERROR(IF(ISBLANK(INDEX(Date_Materna!$O:$O,MATCH("maghiară"&"||"&$B14,Date_Materna!$S:$S,0))),"-",INDEX(Date_Materna!$O:$O,MATCH("maghiară"&"||"&$B14,Date_Materna!$S:$S,0))),"-") -> - | P14: =IFERROR(IF(ISBLANK(INDEX(Date_Materna!$P:$P,MATCH("maghiară"&"||"&$B14,Date_Materna!$S:$S,0))),"-",INDEX(Date_Materna!$P:$P,MATCH("maghiară"&"||"&$B14,Date_Materna!$S:$S,0))),"-") -> - | Q14: =IFERROR(IF(ISBLANK(INDEX(Date_Materna!$Q:$Q,MATCH("maghiară"&"||"&$B14,Date_Materna!$S:$S,0))),"-",INDEX(Date_Materna!$Q:$Q,MATCH("maghiară"&"||"&$B14,Date_Materna!$S:$S,0))),"-") -> 6 | R14: =IFERROR(IF(ISBLANK(INDEX(Date_Materna!$R:$R,MATCH("maghiară"&"||"&$B14,Date_Materna!$S:$S,0))),"-",INDEX(Date_Materna!$R:$R,MATCH("maghiară"&"||"&$B14,Date_Materna!$S:$S,0))),"-") -> 7.2083333 | S14: =IFERROR(IF(OR(ISTEXT(F14),ISTEXT(R14)),"-",ROUND(R14-F14,2)),"-") -> 0.11
A15: 6 | B15: ŞCOALA GIMNAZIALĂ "ORMÓS ZSIGMOND" PECICA | C15: PECICA | D15: URBAN | E15: =IFERROR(IF(ISBLANK(INDEX(Date_Materna!$E:$E,MATCH("maghiară"&"||"&$B15,Date_Materna!$S:$S,0))),"-",INDEX(Date_Materna!$E:$E,MATCH("maghiară"&"||"&$B15,Date_Materna!$S:$S,0))),"-") -> 14 | F15: =IFERROR(IF(ISBLANK(INDEX(Date_Materna!$F:$F,MATCH("maghiară"&"||"&$B15,Date_Materna!$S:$S,0))),"-",INDEX(Date_Materna!$F:$F,MATCH("maghiară"&"||"&$B15,Date_Materna!$S:$S,0))),"-") -> 6.8535714 | G15: =IFERROR(IF(ISBLANK(INDEX(Date_Materna!$G:$G,MATCH("maghiară"&"||"&$B15,Date_Materna!$S:$S,0))),"-",INDEX(Date_Materna!$G:$G,MATCH("maghiară"&"||"&$B15,Date_Materna!$S:$S,0))),"-") -> 3 | H15: =IFERROR(IF(ISBLANK(INDEX(Date_Materna!$H:$H,MATCH("maghiară"&"||"&$B15,Date_Materna!$S:$S,0))),"-",INDEX(Date_Materna!$H:$H,MATCH("maghiară"&"||"&$B15,Date_Materna!$S:$S,0))),"-") -> 8.2333333 | I15: =IFERROR(IF(ISBLANK(INDEX(Date_Materna!$I:$I,MATCH("maghiară"&"||"&$B15,Date_Materna!$S:$S,0))),"-",INDEX(Date_Materna!$I:$I,MATCH("maghiară"&"||"&$B15,Date_Materna!$S:$S,0))),"-") -> 12 | J15: =IFERROR(IF(ISBLANK(INDEX(Date_Materna!$J:$J,MATCH("maghiară"&"||"&$B15,Date_Materna!$S:$S,0))),"-",INDEX(Date_Materna!$J:$J,MATCH("maghiară"&"||"&$B15,Date_Materna!$S:$S,0))),"-") -> 7.3958333 | K15: =IFERROR(IF(ISBLANK(INDEX(Date_Materna!$K:$K,MATCH("maghiară"&"||"&$B15,Date_Materna!$S:$S,0))),"-",INDEX(Date_Materna!$K:$K,MATCH("maghiară"&"||"&$B15,Date_Materna!$S:$S,0))),"-") -> 13 | L15: =IFERROR(IF(ISBLANK(INDEX(Date_Materna!$L:$L,MATCH("maghiară"&"||"&$B15,Date_Materna!$S:$S,0))),"-",INDEX(Date_Materna!$L:$L,MATCH("maghiară"&"||"&$B15,Date_Materna!$S:$S,0))),"-") -> 5.8576923 | M15: =IFERROR(IF(ISBLANK(INDEX(Date_Materna!$M:$M,MATCH("maghiară"&"||"&$B15,Date_Materna!$S:$S,0))),"-",INDEX(Date_Materna!$M:$M,MATCH("maghiară"&"||"&$B15,Date_Materna!$S:$S,0))),"-") -> 19 | N15: =IFERROR(IF(ISBLANK(INDEX(Date_Materna!$N:$N,MATCH("maghiară"&"||"&$B15,Date_Materna!$S:$S,0))),"-",INDEX(Date_Materna!$N:$N,MATCH("maghiară"&"||"&$B15,Date_Materna!$S:$S,0))),"-") -> 7.4657895 | O15: =IFERROR(IF(ISBLANK(INDEX(Date_Materna!$O:$O,MATCH("maghiară"&"||"&$B15,Date_Materna!$S:$S,0))),"-",INDEX(Date_Materna!$O:$O,MATCH("maghiară"&"||"&$B15,Date_Materna!$S:$S,0))),"-") -> 9 | P15: =IFERROR(IF(ISBLANK(INDEX(Date_Materna!$P:$P,MATCH("maghiară"&"||"&$B15,Date_Materna!$S:$S,0))),"-",INDEX(Date_Materna!$P:$P,MATCH("maghiară"&"||"&$B15,Date_Materna!$S:$S,0))),"-") -> 7.2666667 | Q15: =IFERROR(IF(ISBLANK(INDEX(Date_Materna!$Q:$Q,MATCH("maghiară"&"||"&$B15,Date_Materna!$S:$S,0))),"-",INDEX(Date_Materna!$Q:$Q,MATCH("maghiară"&"||"&$B15,Date_Materna!$S:$S,0))),"-") -> 13 | R15: =IFERROR(IF(ISBLANK(INDEX(Date_Materna!$R:$R,MATCH("maghiară"&"||"&$B15,Date_Materna!$S:$S,0))),"-",INDEX(Date_Materna!$R:$R,MATCH("maghiară"&"||"&$B15,Date_Materna!$S:$S,0))),"-") -> 6.8076923 | S15: =IFERROR(IF(OR(ISTEXT(F15),ISTEXT(R15)),"-",ROUND(R15-F15,2)),"-") -> -0.05
A16: 7 | B16: ŞCOALA GIMNAZIALĂ "PATER GODO MIHALY" DOROBANŢI | C16: DOROBANŢI | D16: RURAL | E16: =IFERROR(IF(ISBLANK(INDEX(Date_Materna!$E:$E,MATCH("maghiară"&"||"&$B16,Date_Materna!$S:$S,0))),"-",INDEX(Date_Materna!$E:$E,MATCH("maghiară"&"||"&$B16,Date_Materna!$S:$S,0))),"-") -> 9 | F16: =IFERROR(IF(ISBLANK(INDEX(Date_Materna!$F:$F,MATCH("maghiară"&"||"&$B16,Date_Materna!$S:$S,0))),"-",INDEX(Date_Materna!$F:$F,MATCH("maghiară"&"||"&$B16,Date_Materna!$S:$S,0))),"-") -> 7.7444444 | G16: =IFERROR(IF(ISBLANK(INDEX(Date_Materna!$G:$G,MATCH("maghiară"&"||"&$B16,Date_Materna!$S:$S,0))),"-",INDEX(Date_Materna!$G:$G,MATCH("maghiară"&"||"&$B16,Date_Materna!$S:$S,0))),"-") -> 10 | H16: =IFERROR(IF(ISBLANK(INDEX(Date_Materna!$H:$H,MATCH("maghiară"&"||"&$B16,Date_Materna!$S:$S,0))),"-",INDEX(Date_Materna!$H:$H,MATCH("maghiară"&"||"&$B16,Date_Materna!$S:$S,0))),"-") -> 8.045 | I16: =IFERROR(IF(ISBLANK(INDEX(Date_Materna!$I:$I,MATCH("maghiară"&"||"&$B16,Date_Materna!$S:$S,0))),"-",INDEX(Date_Materna!$I:$I,MATCH("maghiară"&"||"&$B16,Date_Materna!$S:$S,0))),"-") -> 14 | J16: =IFERROR(IF(ISBLANK(INDEX(Date_Materna!$J:$J,MATCH("maghiară"&"||"&$B16,Date_Materna!$S:$S,0))),"-",INDEX(Date_Materna!$J:$J,MATCH("maghiară"&"||"&$B16,Date_Materna!$S:$S,0))),"-") -> 8.2 | K16: =IFERROR(IF(ISBLANK(INDEX(Date_Materna!$K:$K,MATCH("maghiară"&"||"&$B16,Date_Materna!$S:$S,0))),"-",INDEX(Date_Materna!$K:$K,MATCH("maghiară"&"||"&$B16,Date_Materna!$S:$S,0))),"-") -> 6 | L16: =IFERROR(IF(ISBLANK(INDEX(Date_Materna!$L:$L,MATCH("maghiară"&"||"&$B16,Date_Materna!$S:$S,0))),"-",INDEX(Date_Materna!$L:$L,MATCH("maghiară"&"||"&$B16,Date_Materna!$S:$S,0))),"-") -> 6.5333333 | M16: =IFERROR(IF(ISBLANK(INDEX(Date_Materna!$M:$M,MATCH("maghiară"&"||"&$B16,Date_Materna!$S:$S,0))),"-",INDEX(Date_Materna!$M:$M,MATCH("maghiară"&"||"&$B16,Date_Materna!$S:$S,0))),"-") -> 8 | N16: =IFERROR(IF(ISBLANK(INDEX(Date_Materna!$N:$N,MATCH("maghiară"&"||"&$B16,Date_Materna!$S:$S,0))),"-",INDEX(Date_Materna!$N:$N,MATCH("maghiară"&"||"&$B16,Date_Materna!$S:$S,0))),"-") -> 7.8125 | O16: =IFERROR(IF(ISBLANK(INDEX(Date_Materna!$O:$O,MATCH("maghiară"&"||"&$B16,Date_Materna!$S:$S,0))),"-",INDEX(Date_Materna!$O:$O,MATCH("maghiară"&"||"&$B16,Date_Materna!$S:$S,0))),"-") -> 9 | P16: =IFERROR(IF(ISBLANK(INDEX(Date_Materna!$P:$P,MATCH("maghiară"&"||"&$B16,Date_Materna!$S:$S,0))),"-",INDEX(Date_Materna!$P:$P,MATCH("maghiară"&"||"&$B16,Date_Materna!$S:$S,0))),"-") -> 7.8055556 | Q16: =IFERROR(IF(ISBLANK(INDEX(Date_Materna!$Q:$Q,MATCH("maghiară"&"||"&$B16,Date_Materna!$S:$S,0))),"-",INDEX(Date_Materna!$Q:$Q,MATCH("maghiară"&"||"&$B16,Date_Materna!$S:$S,0))),"-") -> 13 | R16: =IFERROR(IF(ISBLANK(INDEX(Date_Materna!$R:$R,MATCH("maghiară"&"||"&$B16,Date_Materna!$S:$S,0))),"-",INDEX(Date_Materna!$R:$R,MATCH("maghiară"&"||"&$B16,Date_Materna!$S:$S,0))),"-") -> 6.8076923 | S16: =IFERROR(IF(OR(ISTEXT(F16),ISTEXT(R16)),"-",ROUND(R16-F16,2)),"-") -> -0.94
A17: 8 | B17: ŞCOALA GIMNAZIALĂ "OLOSZ LAJOS" ADEA | C17: ADEA | D17: RURAL | E17: =IFERROR(IF(ISBLANK(INDEX(Date_Materna!$E:$E,MATCH("maghiară"&"||"&$B17,Date_Materna!$S:$S,0))),"-",INDEX(Date_Materna!$E:$E,MATCH("maghiară"&"||"&$B17,Date_Materna!$S:$S,0))),"-") -> 9 | F17: =IFERROR(IF(ISBLANK(INDEX(Date_Materna!$F:$F,MATCH("maghiară"&"||"&$B17,Date_Materna!$S:$S,0))),"-",INDEX(Date_Materna!$F:$F,MATCH("maghiară"&"||"&$B17,Date_Materna!$S:$S,0))),"-") -> 5.75 | G17: =IFERROR(IF(ISBLANK(INDEX(Date_Materna!$G:$G,MATCH("maghiară"&"||"&$B17,Date_Materna!$S:$S,0))),"-",INDEX(Date_Materna!$G:$G,MATCH("maghiară"&"||"&$B17,Date_Materna!$S:$S,0))),"-") -> 4 | H17: =IFERROR(IF(ISBLANK(INDEX(Date_Materna!$H:$H,MATCH("maghiară"&"||"&$B17,Date_Materna!$S:$S,0))),"-",INDEX(Date_Materna!$H:$H,MATCH("maghiară"&"||"&$B17,Date_Materna!$S:$S,0))),"-") -> 4.1375 | I17: =IFERROR(IF(ISBLANK(INDEX(Date_Materna!$I:$I,MATCH("maghiară"&"||"&$B17,Date_Materna!$S:$S,0))),"-",INDEX(Date_Materna!$I:$I,MATCH("maghiară"&"||"&$B17,Date_Materna!$S:$S,0))),"-") -> 3 | J17: =IFERROR(IF(ISBLANK(INDEX(Date_Materna!$J:$J,MATCH("maghiară"&"||"&$B17,Date_Materna!$S:$S,0))),"-",INDEX(Date_Materna!$J:$J,MATCH("maghiară"&"||"&$B17,Date_Materna!$S:$S,0))),"-") -> 8.0166667 | K17: =IFERROR(IF(ISBLANK(INDEX(Date_Materna!$K:$K,MATCH("maghiară"&"||"&$B17,Date_Materna!$S:$S,0))),"-",INDEX(Date_Materna!$K:$K,MATCH("maghiară"&"||"&$B17,Date_Materna!$S:$S,0))),"-") -> 7 | L17: =IFERROR(IF(ISBLANK(INDEX(Date_Materna!$L:$L,MATCH("maghiară"&"||"&$B17,Date_Materna!$S:$S,0))),"-",INDEX(Date_Materna!$L:$L,MATCH("maghiară"&"||"&$B17,Date_Materna!$S:$S,0))),"-") -> 5.5785714 | M17: =IFERROR(IF(ISBLANK(INDEX(Date_Materna!$M:$M,MATCH("maghiară"&"||"&$B17,Date_Materna!$S:$S,0))),"-",INDEX(Date_Materna!$M:$M,MATCH("maghiară"&"||"&$B17,Date_Materna!$S:$S,0))),"-") -> 3 | N17: =IFERROR(IF(ISBLANK(INDEX(Date_Materna!$N:$N,MATCH("maghiară"&"||"&$B17,Date_Materna!$S:$S,0))),"-",INDEX(Date_Materna!$N:$N,MATCH("maghiară"&"||"&$B17,Date_Materna!$S:$S,0))),"-") -> 6.1833333 | O17: =IFERROR(IF(ISBLANK(INDEX(Date_Materna!$O:$O,MATCH("maghiară"&"||"&$B17,Date_Materna!$S:$S,0))),"-",INDEX(Date_Materna!$O:$O,MATCH("maghiară"&"||"&$B17,Date_Materna!$S:$S,0))),"-") -> 7 | P17: =IFERROR(IF(ISBLANK(INDEX(Date_Materna!$P:$P,MATCH("maghiară"&"||"&$B17,Date_Materna!$S:$S,0))),"-",INDEX(Date_Materna!$P:$P,MATCH("maghiară"&"||"&$B17,Date_Materna!$S:$S,0))),"-") -> 7.9785714 | Q17: =IFERROR(IF(ISBLANK(INDEX(Date_Materna!$Q:$Q,MATCH("maghiară"&"||"&$B17,Date_Materna!$S:$S,0))),"-",INDEX(Date_Materna!$Q:$Q,MATCH("maghiară"&"||"&$B17,Date_Materna!$S:$S,0))),"-") -> 8 | R17: =IFERROR(IF(ISBLANK(INDEX(Date_Materna!$R:$R,MATCH("maghiară"&"||"&$B17,Date_Materna!$S:$S,0))),"-",INDEX(Date_Materna!$R:$R,MATCH("maghiară"&"||"&$B17,Date_Materna!$S:$S,0))),"-") -> 6.09375 | S17: =IFERROR(IF(OR(ISTEXT(F17),ISTEXT(R17)),"-",ROUND(R17-F17,2)),"-") -> 0.34
A18: 9 | B18: ŞCOALA GIMNAZIALĂ "SIMONYI IMRE" SATU NOU | C18: SATU NOU | D18: RURAL | E18: =IFERROR(IF(ISBLANK(INDEX(Date_Materna!$E:$E,MATCH("maghiară"&"||"&$B18,Date_Materna!$S:$S,0))),"-",INDEX(Date_Materna!$E:$E,MATCH("maghiară"&"||"&$B18,Date_Materna!$S:$S,0))),"-") -> 10 | F18: =IFERROR(IF(ISBLANK(INDEX(Date_Materna!$F:$F,MATCH("maghiară"&"||"&$B18,Date_Materna!$S:$S,0))),"-",INDEX(Date_Materna!$F:$F,MATCH("maghiară"&"||"&$B18,Date_Materna!$S:$S,0))),"-") -> 7.93 | G18: =IFERROR(IF(ISBLANK(INDEX(Date_Materna!$G:$G,MATCH("maghiară"&"||"&$B18,Date_Materna!$S:$S,0))),"-",INDEX(Date_Materna!$G:$G,MATCH("maghiară"&"||"&$B18,Date_Materna!$S:$S,0))),"-") -> 7 | H18: =IFERROR(IF(ISBLANK(INDEX(Date_Materna!$H:$H,MATCH("maghiară"&"||"&$B18,Date_Materna!$S:$S,0))),"-",INDEX(Date_Materna!$H:$H,MATCH("maghiară"&"||"&$B18,Date_Materna!$S:$S,0))),"-") -> 7.2714286 | I18: =IFERROR(IF(ISBLANK(INDEX(Date_Materna!$I:$I,MATCH("maghiară"&"||"&$B18,Date_Materna!$S:$S,0))),"-",INDEX(Date_Materna!$I:$I,MATCH("maghiară"&"||"&$B18,Date_Materna!$S:$S,0))),"-") -> 6 | J18: =IFERROR(IF(ISBLANK(INDEX(Date_Materna!$J:$J,MATCH("maghiară"&"||"&$B18,Date_Materna!$S:$S,0))),"-",INDEX(Date_Materna!$J:$J,MATCH("maghiară"&"||"&$B18,Date_Materna!$S:$S,0))),"-") -> 7.3416667 | K18: =IFERROR(IF(ISBLANK(INDEX(Date_Materna!$K:$K,MATCH("maghiară"&"||"&$B18,Date_Materna!$S:$S,0))),"-",INDEX(Date_Materna!$K:$K,MATCH("maghiară"&"||"&$B18,Date_Materna!$S:$S,0))),"-") -> 6 | L18: =IFERROR(IF(ISBLANK(INDEX(Date_Materna!$L:$L,MATCH("maghiară"&"||"&$B18,Date_Materna!$S:$S,0))),"-",INDEX(Date_Materna!$L:$L,MATCH("maghiară"&"||"&$B18,Date_Materna!$S:$S,0))),"-") -> 5.65 | M18: =IFERROR(IF(ISBLANK(INDEX(Date_Materna!$M:$M,MATCH("maghiară"&"||"&$B18,Date_Materna!$S:$S,0))),"-",INDEX(Date_Materna!$M:$M,MATCH("maghiară"&"||"&$B18,Date_Materna!$S:$S,0))),"-") -> 3 | N18: =IFERROR(IF(ISBLANK(INDEX(Date_Materna!$N:$N,MATCH("maghiară"&"||"&$B18,Date_Materna!$S:$S,0))),"-",INDEX(Date_Materna!$N:$N,MATCH("maghiară"&"||"&$B18,Date_Materna!$S:$S,0))),"-") -> 8.2166667 | O18: =IFERROR(IF(ISBLANK(INDEX(Date_Materna!$O:$O,MATCH("maghiară"&"||"&$B18,Date_Materna!$S:$S,0))),"-",INDEX(Date_Materna!$O:$O,MATCH("maghiară"&"||"&$B18,Date_Materna!$S:$S,0))),"-") -> 9 | P18: =IFERROR(IF(ISBLANK(INDEX(Date_Materna!$P:$P,MATCH("maghiară"&"||"&$B18,Date_Materna!$S:$S,0))),"-",INDEX(Date_Materna!$P:$P,MATCH("maghiară"&"||"&$B18,Date_Materna!$S:$S,0))),"-") -> 7.1666667 | Q18: =IFERROR(IF(ISBLANK(INDEX(Date_Materna!$Q:$Q,MATCH("maghiară"&"||"&$B18,Date_Materna!$S:$S,0))),"-",INDEX(Date_Materna!$Q:$Q,MATCH("maghiară"&"||"&$B18,Date_Materna!$S:$S,0))),"-") -> 5 | R18: =IFERROR(IF(ISBLANK(INDEX(Date_Materna!$R:$R,MATCH("maghiară"&"||"&$B18,Date_Materna!$S:$S,0))),"-",INDEX(Date_Materna!$R:$R,MATCH("maghiară"&"||"&$B18,Date_Materna!$S:$S,0))),"-") -> 4.51 | S18: =IFERROR(IF(OR(ISTEXT(F18),ISTEXT(R18)),"-",ROUND(R18-F18,2)),"-") -> -3.42
A19: 10 | B19: ŞCOALA GIMNAZIALĂ "PĂDURENI" CHIŞINEU CRIŞ | C19: CHIŞINEU-CRIŞ | D19: URBAN | E19: =IFERROR(IF(ISBLANK(INDEX(Date_Materna!$E:$E,MATCH("maghiară"&"||"&$B19,Date_Materna!$S:$S,0))),"-",INDEX(Date_Materna!$E:$E,MATCH("maghiară"&"||"&$B19,Date_Materna!$S:$S,0))),"-") -> 6 | F19: =IFERROR(IF(ISBLANK(INDEX(Date_Materna!$F:$F,MATCH("maghiară"&"||"&$B19,Date_Materna!$S:$S,0))),"-",INDEX(Date_Materna!$F:$F,MATCH("maghiară"&"||"&$B19,Date_Materna!$S:$S,0))),"-") -> 6.6583333 | G19: =IFERROR(IF(ISBLANK(INDEX(Date_Materna!$G:$G,MATCH("maghiară"&"||"&$B19,Date_Materna!$S:$S,0))),"-",INDEX(Date_Materna!$G:$G,MATCH("maghiară"&"||"&$B19,Date_Materna!$S:$S,0))),"-") -> 2 | H19: =IFERROR(IF(ISBLANK(INDEX(Date_Materna!$H:$H,MATCH("maghiară"&"||"&$B19,Date_Materna!$S:$S,0))),"-",INDEX(Date_Materna!$H:$H,MATCH("maghiară"&"||"&$B19,Date_Materna!$S:$S,0))),"-") -> 6.4 | I19: =IFERROR(IF(ISBLANK(INDEX(Date_Materna!$I:$I,MATCH("maghiară"&"||"&$B19,Date_Materna!$S:$S,0))),"-",INDEX(Date_Materna!$I:$I,MATCH("maghiară"&"||"&$B19,Date_Materna!$S:$S,0))),"-") -> 5 | J19: =IFERROR(IF(ISBLANK(INDEX(Date_Materna!$J:$J,MATCH("maghiară"&"||"&$B19,Date_Materna!$S:$S,0))),"-",INDEX(Date_Materna!$J:$J,MATCH("maghiară"&"||"&$B19,Date_Materna!$S:$S,0))),"-") -> 4.69 | K19: =IFERROR(IF(ISBLANK(INDEX(Date_Materna!$K:$K,MATCH("maghiară"&"||"&$B19,Date_Materna!$S:$S,0))),"-",INDEX(Date_Materna!$K:$K,MATCH("maghiară"&"||"&$B19,Date_Materna!$S:$S,0))),"-") -> 5 | L19: =IFERROR(IF(ISBLANK(INDEX(Date_Materna!$L:$L,MATCH("maghiară"&"||"&$B19,Date_Materna!$S:$S,0))),"-",INDEX(Date_Materna!$L:$L,MATCH("maghiară"&"||"&$B19,Date_Materna!$S:$S,0))),"-") -> 3.01 | M19: =IFERROR(IF(ISBLANK(INDEX(Date_Materna!$M:$M,MATCH("maghiară"&"||"&$B19,Date_Materna!$S:$S,0))),"-",INDEX(Date_Materna!$M:$M,MATCH("maghiară"&"||"&$B19,Date_Materna!$S:$S,0))),"-") -> 8 | N19: =IFERROR(IF(ISBLANK(INDEX(Date_Materna!$N:$N,MATCH("maghiară"&"||"&$B19,Date_Materna!$S:$S,0))),"-",INDEX(Date_Materna!$N:$N,MATCH("maghiară"&"||"&$B19,Date_Materna!$S:$S,0))),"-") -> 3.9375 | O19: =IFERROR(IF(ISBLANK(INDEX(Date_Materna!$O:$O,MATCH("maghiară"&"||"&$B19,Date_Materna!$S:$S,0))),"-",INDEX(Date_Materna!$O:$O,MATCH("maghiară"&"||"&$B19,Date_Materna!$S:$S,0))),"-") -> 8 | P19: =IFERROR(IF(ISBLANK(INDEX(Date_Materna!$P:$P,MATCH("maghiară"&"||"&$B19,Date_Materna!$S:$S,0))),"-",INDEX(Date_Materna!$P:$P,MATCH("maghiară"&"||"&$B19,Date_Materna!$S:$S,0))),"-") -> 3.6875 | Q19: =IFERROR(IF(ISBLANK(INDEX(Date_Materna!$Q:$Q,MATCH("maghiară"&"||"&$B19,Date_Materna!$S:$S,0))),"-",INDEX(Date_Materna!$Q:$Q,MATCH("maghiară"&"||"&$B19,Date_Materna!$S:$S,0))),"-") -> 10 | R19: =IFERROR(IF(ISBLANK(INDEX(Date_Materna!$R:$R,MATCH("maghiară"&"||"&$B19,Date_Materna!$S:$S,0))),"-",INDEX(Date_Materna!$R:$R,MATCH("maghiară"&"||"&$B19,Date_Materna!$S:$S,0))),"-") -> 3.965 | S19: =IFERROR(IF(OR(ISTEXT(F19),ISTEXT(R19)),"-",ROUND(R19-F19,2)),"-") -> -2.69
A20: Limba slovacă
A21: Loc | B21: Unitate | C21: Localitate | D21: Mediu | E21: Nr 2020 | F21: Medie 2020 | G21: Nr 2021 | H21: Medie 2021 | I21: Nr 2022 | J21: Medie 2022 | K21: Nr 2023 | L21: Medie 2023 | M21: Nr 2024 | N21: Medie 2024 | O21: Nr 2025 | P21: Medie 2025 | Q21: Nr 2026 | R21: Medie 2026 | S21: Δ medie total
A22: 1 | B22: LICEUL TEORETIC "JOZEF GREGOR TAJOVSKY" NĂDLAC | C22: NĂDLAC | D22: URBAN | E22: =IFERROR(IF(ISBLANK(INDEX(Date_Materna!$E:$E,MATCH("slovacă"&"||"&$B22,Date_Materna!$S:$S,0))),"-",INDEX(Date_Materna!$E:$E,MATCH("slovacă"&"||"&$B22,Date_Materna!$S:$S,0))),"-") -> 17 | F22: =IFERROR(IF(ISBLANK(INDEX(Date_Materna!$F:$F,MATCH("slovacă"&"||"&$B22,Date_Materna!$S:$S,0))),"-",INDEX(Date_Materna!$F:$F,MATCH("slovacă"&"||"&$B22,Date_Materna!$S:$S,0))),"-") -> 8.1735294 | G22: =IFERROR(IF(ISBLANK(INDEX(Date_Materna!$G:$G,MATCH("slovacă"&"||"&$B22,Date_Materna!$S:$S,0))),"-",INDEX(Date_Materna!$G:$G,MATCH("slovacă"&"||"&$B22,Date_Materna!$S:$S,0))),"-") -> 11 | H22: =IFERROR(IF(ISBLANK(INDEX(Date_Materna!$H:$H,MATCH("slovacă"&"||"&$B22,Date_Materna!$S:$S,0))),"-",INDEX(Date_Materna!$H:$H,MATCH("slovacă"&"||"&$B22,Date_Materna!$S:$S,0))),"-") -> 7.5909091 | I22: =IFERROR(IF(ISBLANK(INDEX(Date_Materna!$I:$I,MATCH("slovacă"&"||"&$B22,Date_Materna!$S:$S,0))),"-",INDEX(Date_Materna!$I:$I,MATCH("slovacă"&"||"&$B22,Date_Materna!$S:$S,0))),"-") -> 20 | J22: =IFERROR(IF(ISBLANK(INDEX(Date_Materna!$J:$J,MATCH("slovacă"&"||"&$B22,Date_Materna!$S:$S,0))),"-",INDEX(Date_Materna!$J:$J,MATCH("slovacă"&"||"&$B22,Date_Materna!$S:$S,0))),"-") -> 7.715 | K22: =IFERROR(IF(ISBLANK(INDEX(Date_Materna!$K:$K,MATCH("slovacă"&"||"&$B22,Date_Materna!$S:$S,0))),"-",INDEX(Date_Materna!$K:$K,MATCH("slovacă"&"||"&$B22,Date_Materna!$S:$S,0))),"-") -> 10 | L22: =IFERROR(IF(ISBLANK(INDEX(Date_Materna!$L:$L,MATCH("slovacă"&"||"&$B22,Date_Materna!$S:$S,0))),"-",INDEX(Date_Materna!$L:$L,MATCH("slovacă"&"||"&$B22,Date_Materna!$S:$S,0))),"-") -> 7.73 | M22: =IFERROR(IF(ISBLANK(INDEX(Date_Materna!$M:$M,MATCH("slovacă"&"||"&$B22,Date_Materna!$S:$S,0))),"-",INDEX(Date_Materna!$M:$M,MATCH("slovacă"&"||"&$B22,Date_Materna!$S:$S,0))),"-") -> 15 | N22: =IFERROR(IF(ISBLANK(INDEX(Date_Materna!$N:$N,MATCH("slovacă"&"||"&$B22,Date_Materna!$S:$S,0))),"-",INDEX(Date_Materna!$N:$N,MATCH("slovacă"&"||"&$B22,Date_Materna!$S:$S,0))),"-") -> 8.8266667 | O22: =IFERROR(IF(ISBLANK(INDEX(Date_Materna!$O:$O,MATCH("slovacă"&"||"&$B22,Date_Materna!$S:$S,0))),"-",INDEX(Date_Materna!$O:$O,MATCH("slovacă"&"||"&$B22,Date_Materna!$S:$S,0))),"-") -> 12 | P22: =IFERROR(IF(ISBLANK(INDEX(Date_Materna!$P:$P,MATCH("slovacă"&"||"&$B22,Date_Materna!$S:$S,0))),"-",INDEX(Date_Materna!$P:$P,MATCH("slovacă"&"||"&$B22,Date_Materna!$S:$S,0))),"-") -> 8.5 | Q22: =IFERROR(IF(ISBLANK(INDEX(Date_Materna!$Q:$Q,MATCH("slovacă"&"||"&$B22,Date_Materna!$S:$S,0))),"-",INDEX(Date_Materna!$Q:$Q,MATCH("slovacă"&"||"&$B22,Date_Materna!$S:$S,0))),"-") -> 12 | R22: =IFERROR(IF(ISBLANK(INDEX(Date_Materna!$R:$R,MATCH("slovacă"&"||"&$B22,Date_Materna!$S:$S,0))),"-",INDEX(Date_Materna!$R:$R,MATCH("slovacă"&"||"&$B22,Date_Materna!$S:$S,0))),"-") -> 7.8583333 | S22: =IFERROR(IF(OR(ISTEXT(F22),ISTEXT(R22)),"-",ROUND(R22-F22,2)),"-") -> -0.32

Sheet Metodologie
A1: Metodologie — Analiza comparativă EN 2020-2026, Județul Arad
A3: 1. Surse de date
A4: Fișierele-sursă sunt cele șapte workbook-uri deja auditate și livrate anterior: EN2020_Arad_analiza.xlsx ... EN2026_Arad_analiza.xlsx. Fiecare a fost construit direct din exportul brut al rezultatelor Evaluării Naționale (jud. Arad) și verificat independent (recalculare fără erori, comparație cu agregări independente în pandas). Prezentul workbook preia datele elev-cu-elev din fila "Date_Elevi" a fiecărui workbook anual (nu redeschide fișierele brute originale) și recalculează agregatele pe unitate pentru cei șapte ani, pentru a permite comparația directă.
A6: 2. De ce datele de bază sunt introduse ca valori, nu ca legături live către celelalte fișiere
A7: Excel/LibreOffice nu păstrează fiabil legăturile de tip formulă către alte fișiere externe după reprocesare. Din acest motiv, valorile din filele "Date_unitati" și "Date_Materna" sunt introduse ca date brute (analog rolului filei "Date_Elevi" din fiecare workbook anual), iar TOATE calculele derivate din acest workbook — sortări, diferențe (Δ) an-pe-an, regăsiri prin INDEX/MATCH — sunt formule reale, recalculabile în Excel.
A9: 3. Unități de învățământ incluse și reconcilierea denumirilor între ani
A10: S-a folosit reuniunea unităților care au avut elevi evaluați la EN în cel puțin unul din cei șapte ani: 113 unități în total, dintre care 97 au avut elevi evaluați în toți cei șapte ani. Fiecare fișier anual a fost construit dintr-un export brut diferit, cu denumiri de unități ușor diferite de la an la an (diacritice, ortografie veche/nouă — ex. "Bîrsa"/"Bârsa", "Tîrnova"/"Târnova" — sau redenumiri reale ale unității). Denumirile au fost reconciliate manual, unitate cu unitate, pe baza localității și a continuității în timp; principalele redenumiri identificate: Liceul Tehnologic Beliu → Liceul Tehnologic "Emil Crăciun Lăzureanu" Beliu (din 2024); Liceul Tehnologic de Construcții și Protecția Mediului Arad → Liceul Tehnologic de Științe Aplicate Arad (din 2026); Şcoala Gimnazială Agrişu Mare → Şcoala Gimnazială "Romul Motorca" Agrişu Mare (din 2023); Şcoala Gimnazială Buteni → Şcoala Gimnazială "Gabriel Brola" Buteni (din 2021); Şcoala Gimnazială "Regina Maria" Arad → Liceul Tehnologic "Regina Maria" Arad (din 2026); Şcoala Gimnazială Nr 2 Pecica → Şcoala Gimnazială "Ormós Zsigmond" Pecica (din 2025); Şcoala "Sfântul Ierarh Nicolae" Arad (unitate nouă din 2025) → Liceul Teoretic "Sfântul Ierarh Nicolae" Arad (din 2026). Pentru anii în care o unitate nu a avut elevi evaluați (sau nu a fost identificată sub acest nume în fișierul respectiv), celulele corespunzătoare afișează "-".
A12: 4. Unități noi, dispărute sau cu întreruperi
A13: Câteva unități apar doar în parte din cei șapte ani, fără a fi vorba de o redenumire: "Liceul Tehnologic 'Sava Brancovici' Ineu" și "Liceul Teologic Penticostal Arad" apar ca unități distincte abia din 2023, respectiv 2025 (intrări noi sau dobândire de personalitate juridică proprie). Un grup de unități mici din Arad și din mediul rural (Şcoala Gimnazială "Adam Nicolae" Arad, Fiscut, "Nicolae Bălcescu" Arad, "Ilarion Felea" Arad, "Sabin Manuilă" Sîmbăteni) nu apar ca unități separate în fișierul 2026 — cel mai probabil au fost arondate altei unități cu personalitate juridică în acel an; fișierele sursă nu documentează explicit motivul, iar acest workbook nu presupune o continuitate cu altă unitate fără confirmare directă din date.
A15: 5. Definiții ale indicatorilor
A16: Media generală = media aritmetică a "MEDIA FINALĂ" a elevilor evaluați ai unității (elevi cu status Prezent la Română și Matematică și cu medie finală validă — vezi fila "Metodologie" a fiecărui workbook anual pentru particularitățile exacte de curățare a datelor, diferite de la an la an). Media Lb. Română / Media Matematică = media notelor finale la cele două probe obligatorii. Media Lb. Maternă = media notei finale la proba de limbă maternă, calculată doar pentru elevii care au susținut-o. % elevi cu media ≥ 5 = procentul elevilor evaluați ai unității cu media generală de cel puțin 5 (prag informativ — EN nu are un prag oficial de promovare, spre deosebire de Bacalaureat).
A18: 6. Limba probei de limbă maternă
... A24: Document generat automat pe 15.09.2026.
