Workbook

Sheet Rezumat
A1: Evaluare Națională 2020-2026 — Evoluție, Județul Arad
A2: Analiză comparativă pe unități de învățământ cu personalitate juridică, șapte sesiuni consecutive
A3: Sursă: workbook-urile "EN2020_Arad_analiza.xlsx" ... "EN2026_Arad_analiza.xlsx" (deja auditate) · Fișier prelucrat: 15.09.2026
A5: Indicator (nivel județ) | B5: 2020 | C5: 2021 | D5: 2022 | E5: 2023 | F5: 2024 | G5: 2025 | H5: 2026 | I5: Δ 2020→2026
A6: Elevi evaluați | B6: 3245 | C6: 2363 | D6: 3035 | E6: 3144 | F6: 3133 | G6: 3025 | H6: 3045 | I6: =H6-B6 -> -200
A7: Unități analizate | B7: 109 | C7: 106 | D7: 109 | E7: 110 | F7: 109 | G7: 112 | H7: 107 | I7: =H7-B7 -> -2
A8: Media generală | B8: 6.385661 | C8: 6.1701693 | D8: 6.5027743 | E8: 6.2307284 | F8: 6.1047367 | G8: 6.4757091 | H8: 6.2541346 | I8: =H8-B8 -> -0.13152637
A9: Media Limba Română | B9: 6.9815408 | C9: 6.6302666 | D9: 6.8491763 | E9: 6.2794847 | F9: 6.4678423 | G9: 6.8675372 | H9: 6.5187685 | I9: =H9-B9 -> -0.46277236
A10: Media Matematică | B10: 5.7471803 | C10: 5.6706094 | D10: 6.105799 | E10: 6.1630725 | F10: 5.6960581 | G10: 6.0498678 | H10: 5.951445 | I10: =H10-B10 -> 0.20426471
A11: Media Limba Maternă (elevii cu probă) | B11: 7.3391026 | C11: 7.15 | D11: 7.6363636 | E11: 6.6025478 | F11: 7.242228 | G11: 6.9603774 | H11: 6.8918421 | I11: =H11-B11 -> -0.44726046
A12: Nr. elevi cu probă la limba maternă | B12: 156 | C12: 122 | D12: 176 | E12: 157 | F12: 193 | G12: 159 | H12: 190 | I12: =H12-B12 -> 34
A13: % elevi cu media generală ≥ 5 | B13: 72.881356 | C13: 72.450275 | D13: 78.187809 | E13: 69.592875 | F13: 69.518034 | G13: 76.92562 | H13: 73.267652 | I13: =H13-B13 -> 0.38629596
A14: Media generală — URBAN | B14: 6.7808248 | C14: 6.564983 | D14: 6.9188313 | E14: 6.6154683 | F14: 6.4874239 | G14: 6.9635941 | H14: 6.751026 | I14: =H14-B14 -> -0.029798743
A15: Media generală — RURAL | B15: 5.7086622 | C15: 5.5190807 | D15: 5.8150437 | E15: 5.5708895 | F15: 5.3605827 | G15: 5.6609885 | H15: 5.4511684 | I15: =H15-B15 -> -0.25749382
A17: Notă: mediile sunt reluate din workbook-urile anuale deja auditate; vezi fila "Metodologie" pentru particularitățile fiecărui an.

Sheet Date_unitati
A1: Nr | B1: Unitate | C1: Localitate | D1: Mediu | E1: NrElevi_2020 | F1: NrElevi_2021 | G1: NrElevi_2022 | H1: NrElevi_2023 | I1: NrElevi_2024 | J1: NrElevi_2025 | K1: NrElevi_2026 | L1: Medie_2020 | M1: Medie_2021 | N1: Medie_2022 | O1: Medie_2023 | P1: Medie_2024 | Q1: Medie_2025 | R1: Medie_2026 | S1: Romana_2020 | T1: Romana_2021 | U1: Romana_2022 | V1: Romana_2023 | W1: Romana_2024 | X1: Romana_2025 | Y1: Romana_2026 | Z1: Matematica_2020 | AA1: Matematica_2021 | AB1: Matematica_2022 | AC1: Matematica_2023 | AD1: Matematica_2024 | AE1: Matematica_2025 | AF1: Matematica_2026 | AG1: Pct5_2020 | AH1: Pct5_2021 | AI1: Pct5_2022 | AJ1: Pct5_2023 | AK1: Pct5_2024 | AL1: Pct5_2025 | AM1: Pct5_2026
A2: 1 | B2: COLEGIUL "MIHAI VITEAZUL" INEU | C2: INEU | D2: URBAN | E2: 85 | F2: 57 | G2: 65 | H2: 72 | I2: 65 | J2: 64 | K2: 74 | L2: 6.5838824 | M2: 6.0819298 | N2: 6.6830769 | O2: 5.7733333 | P2: 5.9458462 | Q2: 6.7065625 | R2: 6.7785135 | S2: 7.0735294 | T2: 6.5289474 | U2: 7.0630769 | V2: 6.0340278 | W2: 6.4269231 | X2: 7.071875 | Y2: 7.0527027 | Z2: 6.0994118 | AA2: 5.6394737 | AB2: 6.3061538 | AC2: 5.5173611 | AD2: 5.47 | AE2: 6.3460937 | AF2: 6.5087838 | AG2: 77.647059 | AH2: 75.438596 | AI2: 78.461538 | AJ2: 56.944444 | AK2: 66.153846 | AL2: 82.8125 | AM2: 86.486486
A3: 2 | B3: COLEGIUL DE ARTE "SABIN DRĂGOI" ARAD | C3: ARAD | D3: URBAN | E3: 82 | F3: 72 | G3: 71 | H3: 87 | I3: 83 | J3: 78 | K3: 76 | L3: 6.5909756 | M3: 6.0541667 | N3: 6.3157746 | O3: 5.8152874 | P3: 5.4875904 | Q3: 6.2355128 | R3: 6.2311842 | S3: 7.3993902 | T3: 6.6965278 | U3: 7.0197183 | V3: 5.8775862 | W3: 5.8066265 | X3: 6.6576923 | Y3: 6.6703947 | Z3: 5.7878049 | AA3: 5.4180556 | AB3: 5.6161972 | AC3: 5.758046 | AD3: 5.1740964 | AE3: 5.8179487 | AF3: 5.7967105 | AG3: 85.365854 | AH3: 79.166667 | AI3: 87.323944 | AJ3: 71.264368 | AK3: 55.421687 | AL3: 84.615385 | AM3: 78.947368
A4: 3 | B4: COLEGIUL NAŢIONAL "ELENA GHIBA BIRTA" ARAD | C4: ARAD | D4: URBAN | E4: 63 | F4: 37 | G4: 17 | H4: 25 | I4: 60 | J4: 47 | K4: 44 | L4: 7.878254 | M4: 7.0527027 | N4: 7.61 | O4: 6.828 | P4: 7.1656667 | Q4: 7.6531915 | R4: 7.0179545 | S4: 8.5134921 | T4: 7.6027027 | U4: 8.0617647 | V4: 6.782 | W4: 7.38 | X4: 7.9404255 | Y4: 7.1465909 | Z4: 7.247619 | AA4: 6.5081081 | AB4: 7.1617647 | AC4: 6.88 | AD4: 6.9566667 | AE4: 7.3712766 | AF4: 6.8943182 | AG4: 95.238095 | AH4: 97.297297 | AI4: 100 | AJ4: 92 | AK4: 91.666667 | AL4: 97.87234 | AM4: 86.363636
A5: 4 | B5: COLEGIUL NAŢIONAL "MOISE NICOARĂ" ARAD | C5: ARAD | D5: URBAN | E5: 90 | F5: 88 | G5: 84 | H5: 86 | I5: 89 | J5: 83 | K5: 89 | L5: 9.1715556 | M5: 8.7840909 | N5: 8.8245238 | O5: 9.0148837 | P5: 8.532809 | Q5: 8.6940964 | R5: 8.6824719 | S5: 9.3255556 | T5: 8.9215909 | U5: 8.9619048 | V5: 8.8912791 | W5: 8.5724719 | X5: 8.836747 | Y5: 8.6308989 | Z5: 9.0222222 | AA5: 8.6517045 | AB5: 8.6910714 | AC5: 9.1430233 | AD5: 8.4977528 | AE5: 8.5560241 | AF5: 8.7393258 | AG5: 100 | AH5: 100 | AI5: 100 | AJ5: 100 | AK5: 100 | AL5: 100 | AM5: 100
A6: 5 | B6: COLEGIUL NAŢIONAL "PREPARANDIA-DIMITRIE ŢICHINDEAL" ARAD | C6: ARAD | D6: URBAN | E6: 93 | F6: 92 | G6: 114 | H6: 123 | I6: 119 | J6: 117 | K6: 96 | L6: 8.3816129 | M6: 7.5738043 | N6: 8.0660526 | O6: 7.6141463 | P6: 7.4442017 | Q6: 8.1235043 | R6: 8.1480208 | S6: 8.8784946 | T6: 8.1429348 | U6: 8.3877193 | V6: 7.4772358 | W6: 7.7827731 | X6: 8.3619658 | Y6: 8.3369792 | Z6: 7.8887097 | AA6: 7.0103261 | AB6: 7.7486842 | AC6: 7.7552846 | AD6: 7.110084 | AE6: 7.8901709 | AF6: 7.9645833 | AG6: 98.924731 | AH6: 93.478261 | AI6: 99.122807 | AJ6: 96.747967 | AK6: 99.159664 | AL6: 97.435897 | AM6: 98.958333
A7: 6 | B7: COLEGIUL NAŢIONAL "VASILE GOLDIŞ" ARAD | C7: ARAD | D7: URBAN | E7: 84 | F7: 75 | G7: 96 | H7: 114 | I7: 103 | J7: 91 | K7: 99 | L7: 7.5917857 | M7: 7.2846667 | N7: 7.7046875 | O7: 7.467193 | P7: 7.3446602 | Q7: 7.7489011 | R7: 7.8737374 | S7: 8.1636905 | T7: 7.6926667 | U7: 8 | V7: 7.7302632 | W7: 7.8300971 | X7: 8.071978 | Y7: 8.0742424 | Z7: 7.025 | AA7: 6.8813333 | AB7: 7.4140625 | AC7: 7.2087719 | AD7: 6.8645631 | AE7: 7.4307692 | AF7: 7.6777778 | AG7: 92.857143 | AH7: 93.333333 | AI7: 98.958333 | AJ7: 94.736842 | AK7: 96.116505 | AL7: 96.703297 | AM7: 100
A8: 7 | B8: COLEGIUL"CSIKY GERGELY" ARAD | C8: ARAD | D8: URBAN | E8: 22 | F8: 27 | G8: 33 | H8: 21 | I8: 35 | J8: 28 | K8: 34 | L8: 6.0513636 | M8: 7.2751852 | N8: 7.2339394 | O8: 7.5485714 | P8: 7.6462857 | Q8: 7.2707143 | R8: 7.1423529 | S8: 5.9727273 | T8: 6.8337037 | U8: 7.4181818 | V8: 7.1809524 | W8: 7.99 | X8: 7.225 | Y8: 7.1205882 | Z8: 4.9204545 | AA8: 6.8740741 | AB8: 6.1515152 | AC8: 7.4595238 | AD8: 6.4557143 | AE8: 5.9767857 | AF8: 6.0867647 | AG8: 68.181818 | AH8: 96.296296 | AI8: 96.969697 | AJ8: 100 | AK8: 100 | AL8: 92.857143 | AM8: 97.058824
A9: 8 | B9: LICEUL "ATANASIE MARIENESCU" LIPOVA | C9: LIPOVA | D9: URBAN | E9: 64 | F9: 36 | G9: 40 | H9: 41 | I9: 76 | J9: 38 | K9: 55 | L9: 5.4578125 | M9: 6.0211111 | N9: 6.0715 | O9: 5.545122 | P9: 5.0401316 | Q9: 5.5839474 | R9: 6.1201818 | S9: 6.6101563 | T9: 6.7638889 | U9: 6.4725 | V9: 5.6914634 | W9: 5.4381579 | X9: 6.1223684 | Y9: 6.4981818 | Z9: 4.3085938 | AA9: 5.2833333 | AB9: 5.675 | AC9: 5.4036585 | AD9: 4.6467105 | AE9: 5.05 | AF9: 5.7481818 | AG9: 60.9375 | AH9: 69.444444 | AI9: 70 | AJ9: 53.658537 | AK9: 43.421053 | AL9: 57.894737 | AM9: 61.818182
A10: 9 | B10: LICEUL "IOAN BUTEANU" GURAHONŢ | C10: GURAHONŢ | D10: RURAL | E10: 39 | F10: 25 | G10: 27 | H10: 18 | I10: 26 | J10: 35 | K10: 31 | L10: 5.8761538 | M10: 5.9076 | N10: 6.6440741 | O10: 7.0461111 | P10: 4.8773077 | Q10: 5.7631429 | R10: 5.3083871 | S10: 6.2871795 | T10: 5.796 | U10: 6.9722222 | V10: 6.9888889 | W10: 5.1865385 | X10: 6.0942857 | Y10: 5.4903226 | Z10: 5.4666667 | AA10: 6.024 | AB10: 6.3203704 | AC10: 7.1083333 | AD10: 4.5730769 | AE10: 5.4371429 | AF10: 5.1322581 | AG10: 74.358974 | AH10: 76 | AI10: 81.481481 | AJ10: 88.888889 | AK10: 38.461538 | AL10: 68.571429 | AM10: 48.387097
A11: 10 | B11: LICEUL "SEVER BOCU" LIPOVA | C11: LIPOVA | D11: URBAN | E11: 22 | F11: 25 | G11: 28 | H11: 49 | I11: 31 | J11: 41 | K11: 28 | L11: 6.4840909 | M11: 5.9232 | N11: 6.8653571 | O11: 6.1012245 | P11: 5.7532258 | Q11: 6.2209756 | R11: 5.5382143 | S11: 6.8681818 | T11: 6.862 | U11: 7.0678571 | V11: 6.1061224 | W11: 6.0790323 | X11: 6.7512195 | Y11: 5.7214286 | Z11: 6.1022727 | AA11: 4.99 | AB11: 6.6678571 | AC11: 6.0989796 | AD11: 5.4322581 | AE11: 5.6963415 | AF11: 5.3607143 | AG11: 77.272727 | AH11: 72 | AI11: 100 | AJ11: 75.510204 | AK11: 74.193548 | AL11: 80.487805 | AM11: 64.285714
A12: 11 | B12: LICEUL CU PROGRAM SPORTIV ARAD | C12: ARAD | D12: URBAN | E12: 45 | F12: 37 | G12: 35 | H12: 31 | I12: 25 | J12: 38 | K12: 18 | L12: 5.3637778 | M12: 4.9335135 | N12: 4.5368571 | O12: 5.0403226 | P12: 4.7216 | Q12: 5.5623684 | R12: 4.6994444 | S12: 5.9855556 | T12: 5.3662162 | U12: 4.6542857 | V12: 5.0080645 | W12: 5.18 | X12: 6.0328947 | Y12: 4.9111111 | Z12: 4.7466667 | AA12: 4.5040541 | AB12: 4.4228571 | AC12: 5.0790323 | AD12: 4.268 | AE12: 5.0973684 | AF12: 4.4944444 | AG12: 53.333333 | AH12: 48.648649 | AI12: 34.285714 | AJ12: 41.935484 | AK12: 32 | AL12: 57.894737 | AM12: 44.444444
A13: 12 | B13: LICEUL NAŢIONAL DE INFORMATICĂ ARAD | C13: ARAD | D13: URBAN | E13: 126 | F13: 99 | G13: 116 | H13: 129 | I13: 131 | J13: 149 | K13: 118 | L13: 8.246746 | M13: 7.9217172 | N13: 8.1039655 | O13: 7.8630233 | P13: 7.6962595 | Q13: 8.4479195 | R13: 7.805 | S13: 8.6543651 | T13: 8.2459596 | U13: 8.3073276 | V13: 7.9228682 | W13: 7.998855 | X13: 8.607047 | Y13: 8.0334746 | Z13: 7.8428571 | AA13: 7.6030303 | AB13: 7.9051724 | AC13: 7.8073643 | AD13: 7.3992366 | AE13: 8.2936242 | AF13: 7.5822034 | AG13: 96.031746 | AH13: 98.989899 | AI13: 98.275862 | AJ13: 98.449612 | AK13: 97.709924 | AL13: 99.328859 | AM13: 99.152542
... A19: 18 | B19: LICEUL TEHNOLOGIC "REGINA MARIA" ARAD | C19: ARAD | D19: URBAN | E19: 68 | F19: 28 | G19: 53 | H19: 80 | I19: 65 | J19: 38 | K19: 44 | L19: 6.4339706 | M19: 7.3482143 | N19: 6.3964151 | O19: 6.279625 | P19: 6.5153846 | Q19: 7.3805263 | R19: 6.0577273 | S19: 6.7683824 | T19: 7.5821429 | U19: 6.6037736 | V19: 5.976875 | W19: 6.6215385 | X19: 7.5605263 | Y19: 6.4670455 | Z19: 6.1044118 | AA19: 7.1196429 | AB19: 6.1924528 | AC19: 6.5875 | AD19: 6.4153846 | AE19: 7.2039474 | AF19: 5.6534091 | AG19: 80.882353 | AH19: 92.857143 | AI19: 79.245283 | AJ19: 77.5 | AK19: 78.461538 | AL19: 89.473684 | AM19: 79.545455
A20: 19 | B20: LICEUL TEHNOLOGIC "SAVA BRANCOVICI" INEU | C20: INEU | D20: URBAN | H20: 15 | I20: 10 | J20: 14 | K20: 16 | O20: 4.9746667 | P20: 3.934 | Q20: 4.3157143 | R20: 4.49375 | V20: 5.11 | W20: 4.17 | X20: 4.4964286 | Y20: 5.0125 | AC20: 4.8433333 | AD20: 3.705 | AE20: 4.1392857 | AF20: 3.98125 | AJ20: 53.333333 | AK20: 0 | AL20: 35.714286 | AM20: 31.25
A21: 20 | B21: LICEUL TEHNOLOGIC "STEFAN HELL" SÂNTANA | C21: SÂNTANA | D21: URBAN | E21: 64 | F21: 39 | G21: 47 | H21: 60 | I21: 64 | J21: 47 | K21: 35 | L21: 5.7934375 | M21: 5.4666667 | N21: 6.2806383 | O21: 6.174 | P21: 5.4554687 | Q21: 6.5485106 | R21: 5.4202857 | S21: 6.5148437 | T21: 6.0448718 | U21: 6.943617 | V21: 6.7575 | W21: 5.9726562 | X21: 7.3723404 | Y21: 6.0914286 | Z21: 5.0765625 | AA21: 5.0179487 | AB21: 5.9148936 | AC21: 5.9608333 | AD21: 5.1171875 | AE21: 6.1382979 | AF21: 5.0657143 | AG21: 67.1875 | AH21: 51.282051 | AI21: 78.723404 | AJ21: 66.666667 | AK21: 56.25 | AL21: 80.851064 | AM21: 65.714286
A22: 21 | B22: LICEUL TEHNOLOGIC "VASILE JUNCU" MINIŞ | C22: MINIŞ | D22: RURAL | E22: 22 | G22: 16 | H22: 26 | I22: 13 | J22: 15 | K22: 12 | L22: 5.7172727 | N22: 5.3825 | O22: 5.8426923 | P22: 5.5907692 | Q22: 6.4553333 | R22: 5.8916667 | S22: 6.9681818 | U22: 6.115625 | V22: 6.25 | W22: 6.5230769 | X22: 7.1466667 | Y22: 6.8083333 | Z22: 4.4681818 | AB22: 4.653125 | AC22: 5.4403846 | AD22: 4.6653846 | AE22: 5.7666667 | AF22: 4.9791667 | AG22: 63.636364 | AI22: 68.75 | AJ22: 65.384615 | AK22: 53.846154 | AL22: 86.666667 | AM22: 75
A23: 22 | B23: LICEUL TEHNOLOGIC DE ȘTIINȚE APLICATE ARAD | C23: ARAD | D23: URBAN | E23: 49 | F23: 42 | G23: 51 | H23: 42 | I23: 41 | J23: 39 | K23: 43 | L23: 6.715102 | M23: 5.9438095 | N23: 6.6305882 | O23: 5.7292857 | P23: 6.0846341 | Q23: 7.1192308 | R23: 6.0923256 | S23: 7.5520408 | T23: 6.622619 | U23: 7.0029412 | V23: 6.2571429 | W23: 7.0743902 | X23: 7.7346154 | Y23: 6.8046512 | Z23: 5.8826531 | AA23: 5.2690476 | AB23: 6.2637255 | AC23: 5.2047619 | AD23: 5.1012195 | AE23: 6.5089744 | AF23: 5.3848837 | AG23: 77.55102 | AH23: 69.047619 | AI23: 74.509804 | AJ23: 61.904762 | AK23: 78.04878 | AL23: 100 | AM23: 74.418605
A24: 23 | B24: LICEUL TEHNOLOGIC VINGA | C24: VINGA | D24: RURAL | E24: 42 | F24: 37 | G24: 23 | H24: 37 | I24: 49 | J24: 47 | K24: 33 | L24: 5.0692857 | M24: 5.4202703 | N24: 5.5304348 | O24: 5.2548649 | P24: 5.3653061 | Q24: 4.9882979 | R24: 4.6945455 | S24: 5.8571429 | T24: 5.9891892 | U24: 5.8782609 | V24: 5.4297297 | W24: 5.4030612 | X24: 5.0946809 | Y24: 4.65 | Z24: 4.2845238 | AA24: 4.8567568 | AB24: 5.1869565 | AC24: 5.0851351 | AD24: 5.3326531 | AE24: 4.8861702 | AF24: 4.7439394 | AG24: 50 | AH24: 59.459459 | AI24: 65.217391 | AJ24: 48.648649 | AK24: 59.183673 | AL24: 44.680851 | AM24: 39.393939
A25: 24 | B25: LICEUL TEHNOLOGIC ”REGELE MIHAI I” SĂVÂRŞIN | C25: SĂVÂRŞIN | D25: RURAL | E25: 22 | F25: 22 | G25: 16 | H25: 22 | I25: 21 | J25: 21 | K25: 26 | L25: 6.0690909 | M25: 5.2186364 | N25: 5.5525 | O25: 5.9627273 | P25: 6.1419048 | Q25: 6.6609524 | R25: 5.3676923 | S25: 7.5590909 | T25: 5.8113636 | U25: 6.378125 | V25: 6.4340909 | W25: 6.6214286 | X25: 7.202381 | Y25: 5.8115385 | Z25: 4.5840909 | AA25: 4.6295455 | AB25: 4.734375 | AC25: 5.4954545 | AD25: 5.6666667 | AE25: 6.1238095 | AF25: 4.9288462 | AG25: 68.181818 | AH25: 50 | AI25: 68.75 | AJ25: 68.181818 | AK25: 71.428571 | AL25: 90.47619 | AM25: 61.538462
A26: 25 | B26: LICEUL TEOLOGIC BAPTIST "ALEXA POPOVICI" ARAD | C26: ARAD | D26: URBAN | E26: 62 | F26: 55 | G26: 52 | H26: 57 | I26: 79 | J26: 87 | K26: 106 | L26: 8.3841935 | M26: 7.5609091 | N26: 8.2140385 | O26: 8.2996491 | P26: 7.9641772 | Q26: 7.9903448 | R26: 7.8932075 | S26: 8.9685484 | T26: 8.2827273 | U26: 8.65 | V26: 8.2 | W26: 8.3316456 | X26: 8.3454023 | Y26: 8.0150943 | Z26: 7.8032258 | AA26: 6.8454545 | AB26: 7.7826923 | AC26: 8.404386 | AD26: 7.6025316 | AE26: 7.6408046 | AF26: 7.7768868 | AG26: 100 | AH26: 98.181818 | AI26: 100 | AJ26: 100 | AK26: 98.734177 | AL26: 100 | AM26: 98.113208
A27: 26 | B27: LICEUL TEOLOGIC PENTICOSTAL ARAD | C27: ARAD | D27: URBAN | J27: 28 | K27: 22 | Q27: 6.6567857 | R27: 6.0613636 | X27: 7.5142857 | Y27: 5.9272727 | AE27: 5.8035714 | AF27: 6.2 | AL27: 92.857143 | AM27: 86.363636
A28: 27 | B28: LICEUL TEORETIC "ADAM MULLER GUTTENBRUNN" ARAD | C28: ARAD | D28: URBAN | E28: 90 | F28: 64 | G28: 95 | H28: 90 | I28: 118 | J28: 95 | K28: 114 | L28: 6.034 | M28: 6.0654687 | N28: 7.0181053 | O28: 6.1373333 | P28: 6.1966949 | Q28: 6.0367368 | R28: 6.6332456 | S28: 6.8222222 | T28: 6.4351563 | U28: 7.2505263 | V28: 6.1344444 | W28: 6.7300847 | X28: 6.7863158 | Y28: 6.9635965 | Z28: 5.1483333 | AA28: 5.5484375 | AB28: 6.3626316 | AC28: 6.0327778 | AD28: 5.4504237 | AE28: 5.2510526 | AF28: 6.3144737 | AG28: 71.111111 | AH28: 75 | AI28: 89.473684 | AJ28: 73.333333 | AK28: 74.576271 | AL28: 73.684211 | AM28: 86.842105
A29: 28 | B29: LICEUL TEORETIC "GHEORGHE LAZĂR" PECICA | C29: PECICA | D29: URBAN | E29: 52 | F29: 41 | G29: 43 | H29: 54 | I29: 49 | J29: 49 | K29: 36 | L29: 5.6148077 | M29: 4.832439 | N29: 6.0737209 | O29: 5.1603704 | P29: 5.8267347 | Q29: 5.6708163 | R29: 5.09 | S29: 5.9451923 | T29: 5.4487805 | U29: 6.4104651 | V29: 5.1944444 | W29: 6.1622449 | X29: 6.0357143 | Y29: 5.4861111 | Z29: 5.2865385 | AA29: 4.2207317 | AB29: 5.7406977 | AC29: 5.1314815 | AD29: 5.4959184 | AE29: 5.3102041 | AF29: 4.6986111 | AG29: 59.615385 | AH29: 34.146341 | AI29: 74.418605 | AJ29: 51.851852 | AK29: 71.428571 | AL29: 51.020408 | AM29: 44.444444
A30: 29 | B30: LICEUL TEORETIC "JOZEF GREGOR TAJOVSKY" NĂDLAC | C30: NĂDLAC | D30: URBAN | E30: 60 | F30: 33 | G30: 54 | H30: 48 | I30: 49 | J30: 50 | K30: 45 | L30: 6.2871667 | M30: 5.7739394 | N30: 6.257037 | O30: 6.3391667 | P30: 6.0787755 | Q30: 6.2308 | R30: 5.9108889 | S30: 7.0483333 | T30: 6.4045455 | U30: 6.6 | V30: 6.3114583 | W30: 6.6316327 | X30: 6.874 | Y30: 6.37 | Z30: 5.0433333 | AA30: 4.6651515 | AB30: 5.5462963 | AC30: 6.2010417 | AD30: 4.9734694 | AE30: 5.151 | AF30: 5.2111111 | AG30: 73.333333 | AH30: 69.69697 | AI30: 77.777778 | AJ30: 75 | AK30: 67.346939 | AL30: 86 | AM30: 71.111111
A31: 30 | B31: LICEUL TEORETIC "MIHAI VELICIU" CHIŞINEU CRIŞ | C31: CHIŞINEU-CRIŞ | D31: URBAN | E31: 76 | F31: 34 | G31: 65 | H31: 70 | I31: 53 | J31: 38 | K31: 42 | L31: 6.7453947 | M31: 5.6655882 | N31: 6.8046154 | O31: 6.6614286 | P31: 6.0739623 | Q31: 6.3186842 | R31: 6.8704762 | S31: 7.3118421 | T31: 6.0338235 | U31: 7.2792308 | V31: 6.5592857 | W31: 6.1981132 | X31: 6.5631579 | Y31: 6.9130952 | Z31: 6.1835526 | AA31: 5.3014706 | AB31: 6.3346154 | AC31: 6.7678571 | AD31: 5.9556604 | AE31: 6.0789474 | AF31: 6.8321429 | AG31: 77.631579 | AH31: 64.705882 | AI31: 86.153846 | AJ31: 78.571429 | AK31: 60.377358 | AL31: 73.684211 | AM31: 83.333333
A32: 31 | B32: LICEUL TEORETIC "SFÂNTUL IERARH NICOLAE" ARAD | C32: ARAD | D32: URBAN | J32: 11 | K32: 15 | Q32: 8.1863636 | R32: 8.0733333 | X32: 8.5590909 | Y32: 8.2166667 | AE32: 7.8181818 | AF32: 7.9366667 | AL32: 100 | AM32: 93.333333
A33: 32 | B33: LICEUL TEORETIC CERMEI | C33: CERMEI | D33: RURAL | E33: 17 | F33: 20 | G33: 19 | H33: 20 | I33: 15 | J33: 9 | K33: 14 | L33: 4.0829412 | M33: 5.197 | N33: 6.4273684 | O33: 5.5995 | P33: 5.0693333 | Q33: 5.1055556 | R33: 5.3685714 | S33: 4.2352941 | T33: 5.5575 | U33: 6.7894737 | V33: 5.585 | W33: 4.9033333 | X33: 5.2833333 | Y33: 5.6714286 | Z33: 3.9352941 | AA33: 4.84 | AB33: 6.0684211 | AC33: 5.62 | AD33: 5.24 | AE33: 4.9333333 | AF33: 5.0678571 | AG33: 35.294118 | AH33: 60 | AI33: 78.947368 | AJ33: 50 | AK33: 46.666667 | AL33: 66.666667 | AM33: 64.285714
A34: 33 | B34: LICEUL TEORETIC PÂNCOTA | C34: PÂNCOTA | D34: URBAN | E34: 70 | F34: 47 | G34: 72 | H34: 69 | I34: 59 | J34: 61 | K34: 60 | L34: 5.6625714 | M34: 5.447234 | N34: 5.4769444 | O34: 5.3875362 | P34: 5.5427119 | Q34: 5.3321311 | R34: 5.5526667 | S34: 6.4071429 | T34: 5.9702128 | U34: 5.7777778 | V34: 5.4268116 | W34: 5.95 | X34: 5.852459 | Y34: 5.8016667 | Z34: 4.9235714 | AA34: 4.9287234 | AB34: 5.1798611 | AC34: 5.3528986 | AD34: 5.1398305 | AE34: 4.8172131 | AF34: 5.3083333 | AG34: 61.428571 | AH34: 55.319149 | AI34: 52.777778 | AJ34: 52.173913 | AK34: 57.627119 | AL34: 57.377049 | AM34: 61.666667
A35: 34 | B35: LICEUL TEORETIC SEBIŞ | C35: SEBIŞ | D35: URBAN | E35: 65 | F35: 46 | G35: 63 | H35: 42 | I35: 85 | J35: 53 | K35: 47 | L35: 6.7273846 | M35: 6.7680435 | N35: 6.3971429 | O35: 6.8095238 | P35: 6.5982353 | Q35: 6.960566 | R35: 6.9542553 | S35: 7.2884615 | T35: 7.098913 | U35: 6.8587302 | V35: 6.9416667 | W35: 6.8005882 | X35: 7.2990566 | Y35: 7.3414894 | Z35: 6.1715385 | AA35: 6.4423913 | AB35: 5.9396825 | AC35: 6.6833333 | AD35: 6.4 | AE35: 6.6264151 | AF35: 6.5712766 | AG35: 76.923077 | AH35: 93.478261 | AI35: 84.126984 | AJ35: 78.571429 | AK35: 83.529412 | AL35: 84.90566 | AM35: 85.106383
A36: 35 | B36: ŞCOALA GIMNAZIALĂ "ADAM MULLER GUTTENBRUNN" ZĂBRANI | C36: CHESINŢ | D36: RURAL | E36: 37 | F36: 26 | G36: 31 | H36: 30 | I36: 12 | J36: 22 | K36: 31 | L36: 5.7945946 | M36: 5.9861538 | N36: 5.5825806 | O36: 5.021 | P36: 5.5025 | Q36: 5.7718182 | R36: 6.0583871 | S36: 6.622973 | T36: 6.9423077 | U36: 6.4596774 | V36: 5.3366667 | W36: 6.3041667 | X36: 6.4863636 | Y36: 6.5806452 | Z36: 4.9689189 | AA36: 5.0346154 | AB36: 4.7112903 | AC36: 4.71 | AD36: 4.7041667 | AE36: 5.0613636 | AF36: 5.5403226 | AG36: 62.162162 | AH36: 73.076923 | AI36: 58.064516 | AJ36: 53.333333 | AK36: 66.666667 | AL36: 68.181818 | AM36: 70.967742
A37: 36 | B37: ŞCOALA GIMNAZIALĂ "ADAM NICOLAE" ARAD | C37: ARAD | D37: URBAN | E37: 18 | F37: 8 | G37: 10 | H37: 16 | I37: 9 | J37: 5 | L37: 6.2211111 | M37: 5.66625 | N37: 5.648 | O37: 5.489375 | P37: 5.4066667 | Q37: 6.598 | S37: 7.1166667 | T37: 5.5875 | U37: 5.965 | V37: 5.53125 | W37: 5.2 | X37: 7.72 | Z37: 5.3305556 | AA37: 5.75 | AB37: 5.335 | AC37: 5.453125 | AD37: 5.6166667 | AE37: 5.48 | AG37: 72.222222 | AH37: 62.5 | AI37: 70 | AJ37: 56.25 | AK37: 66.666667 | AL37: 100
A38: 37 | B38: ŞCOALA GIMNAZIALĂ "ALEXANDRU MOCIONI" BIRCHIŞ | C38: BIRCHIŞ | D38: RURAL | E38: 13 | F38: 13 | G38: 16 | H38: 8 | I38: 11 | J38: 11 | K38: 5 | L38: 5.9276923 | M38: 5.6538462 | N38: 5.213125 | O38: 5.01 | P38: 4.1581818 | Q38: 4.4990909 | R38: 4.438 | S38: 6.9269231 | T38: 6.4115385 | U38: 5.221875 | V38: 5.64375 | W38: 4.5409091 | X38: 5.1636364 | Y38: 4.19 | Z38: 4.9307692 | AA38: 4.9 | AB38: 5.209375 | AC38: 4.38125 | AD38: 3.7818182 | AE38: 3.8409091 | AF38: 4.69 | AG38: 61.538462 | AH38: 61.538462 | AI38: 37.5 | AJ38: 50 | AK38: 9.0909091 | AL38: 45.454545 | AM38: 40
A39: 38 | B39: ŞCOALA GIMNAZIALĂ "ANDREI ŞAGUNA" ANDREI ŞAGUNA | C39: ANDREI ŞAGUNA | D39: RURAL | E39: 21 | F39: 14 | G39: 17 | H39: 15 | I39: 13 | J39: 26 | K39: 13 | L39: 6.2480952 | M39: 6.1635714 | N39: 6.5823529 | O39: 5.8373333 | P39: 6.0684615 | Q39: 6.4780769 | R39: 5.45 | S39: 6.8690476 | T39: 6.1964286 | U39: 7.0617647 | V39: 6.1066667 | W39: 6.1461538 | X39: 6.7980769 | Y39: 5.7730769 | Z39: 5.6309524 | AA39: 6.1357143 | AB39: 6.1058824 | AC39: 5.5733333 | AD39: 5.9961538 | AE39: 6.1634615 | AF39: 5.1307692 | AG39: 61.904762 | AH39: 64.285714 | AI39: 76.470588 | AJ39: 53.333333 | AK39: 69.230769 | AL39: 76.923077 | AM39: 53.846154
A40: 39 | B40: ŞCOALA GIMNAZIALĂ "ARON COTRUŞ" ARAD | C40: ARAD | D40: URBAN | E40: 77 | F40: 55 | G40: 61 | H40: 60 | I40: 48 | J40: 65 | K40: 58 | L40: 6.6824675 | M40: 6.5316364 | N40: 7.007541 | O40: 7.0595 | P40: 7.144375 | Q40: 6.7166154 | R40: 6.982931 | S40: 7.3155844 | T40: 7.0290909 | U40: 7.5245902 | V40: 7.0791667 | W40: 7.5625 | X40: 7.2776923 | Y40: 7.1275862 | Z40: 6.0545455 | AA40: 6.0390909 | AB40: 6.495082 | AC40: 7.0441667 | AD40: 6.7291667 | AE40: 6.16 | AF40: 6.8431034 | AG40: 76.623377 | AH40: 89.090909 | AI40: 93.442623 | AJ40: 85 | AK40: 83.333333 | AL40: 84.615385 | AM40: 86.206897
A41: 40 | B41: ŞCOALA GIMNAZIALĂ "AUREL SEBEŞAN" FELNAC | C41: FELNAC | D41: RURAL | E41: 21 | F41: 17 | G41: 20 | H41: 15 | I41: 7 | J41: 18 | K41: 16 | L41: 7.2685714 | M41: 5.2382353 | N41: 5.2185 | O41: 5.47 | P41: 3.9671429 | Q41: 6.2238889 | R41: 4.671875 | S41: 8.1261905 | T41: 5.9235294 | U41: 5.6375 | V41: 5.43 | W41: 4.5 | X41: 6.8666667 | Y41: 4.9375 | Z41: 6.4166667 | AA41: 4.5588235 | AB41: 4.8025 | AC41: 5.5133333 | AD41: 3.4357143 | AE41: 5.5861111 | AF41: 4.4125 | AG41: 90.47619 | AH41: 58.823529 | AI41: 45 | AJ41: 60 | AK41: 14.285714 | AL41: 61.111111 | AM41: 43.75
A42: 41 | B42: ŞCOALA GIMNAZIALĂ "AUREL VLAICU" ARAD | C42: ARAD | D42: URBAN | E42: 130 | F42: 72 | G42: 159 | H42: 120 | I42: 115 | J42: 110 | K42: 137 | L42: 7.3410769 | M42: 7.2581944 | N42: 7.3484906 | O42: 6.9120833 | P42: 6.5523478 | Q42: 7.5840909 | R42: 6.6145985 | S42: 8.0596154 | T42: 7.9395833 | U42: 7.9103774 | V42: 7.1179167 | W42: 6.9269565 | X42: 7.9736364 | Y42: 6.950365 | Z42: 6.5646154 | AA42: 6.58125 | AB42: 6.7320755 | AC42: 6.6470833 | AD42: 6.0573913 | AE42: 7.1995455 | AF42: 6.2492701 | AG42: 90 | AH42: 91.666667 | AI42: 95.597484 | AJ42: 80.833333 | AK42: 81.73913 | AL42: 93.636364 | AM42: 83.941606
A43: 42 | B43: ŞCOALA GIMNAZIALĂ "AVRAM IANCU" ARAD | C43: ARAD | D43: URBAN | E43: 59 | F43: 38 | G43: 60 | H43: 59 | I43: 57 | J43: 52 | K43: 67 | L43: 7.2513559 | M43: 6.5147368 | N43: 6.8283333 | O43: 6.9661017 | P43: 6.6485965 | Q43: 7.0515385 | R43: 6.9313433 | S43: 7.8669492 | T43: 6.9592105 | U43: 7.2433333 | V43: 7.3144068 | W43: 7.054386 | X43: 7.4788462 | Y43: 7.0358209 | Z43: 6.640678 | AA43: 6.075 | AB43: 6.4183333 | AC43: 6.6228814 | AD43: 6.2482456 | AE43: 6.6288462 | AF43: 6.8313433 | AG43: 89.830508 | AH43: 89.473684 | AI43: 90 | AJ43: 88.135593 | AK43: 91.22807 | AL43: 96.153846 | AM43: 92.537313
A44: 43 | B44: ŞCOALA GIMNAZIALĂ "CAIUS IACOB" ARAD | C44: ARAD | D44: URBAN | E44: 71 | F44: 49 | G44: 69 | H44: 86 | I44: 86 | J44: 93 | K44: 80 | L44: 6.7814085 | M44: 6.8216327 | N44: 7.4330435 | O44: 7.4288372 | P44: 6.9304651 | Q44: 7.3894624 | R44: 6.927125 | S44: 7.3401408 | T44: 7.1734694 | U44: 7.5594203 | V44: 7.3936047 | W44: 7.0988372 | X44: 7.6129032 | Y44: 7.19125 | Z44: 6.2288732 | AA44: 6.4734694 | AB44: 7.3108696 | AC44: 7.4686047 | AD44: 6.7674419 | AE44: 7.1704301 | AF44: 6.66875 | AG44: 78.873239 | AH44: 79.591837 | AI44: 94.202899 | AJ44: 89.534884 | AK44: 87.209302 | AL44: 89.247312 | AM44: 91.25
A45: 44 | B45: ŞCOALA GIMNAZIALĂ "CORNELIU MICLOȘI" COVĂSÂNŢ | C45: COVĂSINŢ | D45: RURAL | E45: 17 | F45: 11 | G45: 14 | H45: 12 | I45: 12 | J45: 10 | K45: 14 | L45: 6.3352941 | M45: 6.2181818 | N45: 6.8135714 | O45: 5.9083333 | P45: 5.9233333 | Q45: 5.513 | R45: 5.6064286 | S45: 7.0441176 | T45: 7.2545455 | U45: 7.7571429 | V45: 6.4416667 | W45: 6.4125 | X45: 6.035 | Y45: 6.3892857 | Z45: 5.6294118 | AA45: 5.1863636 | AB45: 5.875 | AC45: 5.3833333 | AD45: 5.4375 | AE45: 4.995 | AF45: 4.8285714 | AG45: 76.470588 | AH45: 81.818182 | AI45: 85.714286 | AJ45: 66.666667 | AK45: 75 | AL45: 60 | AM45: 64.285714
...

Sheet Evoluție pct. media 5+
A1: Evoluția procentului de elevi cu media generală de cel puțin 5 (prag informativ, EN nu are un prag oficial de promovare), pe fiecare unitate, 2020→2026, sortată descrescător după valoarea din 2026. "-" = unitatea nu a avut elevi evaluați în acel an (nu a existat sub acest nume sau nu a fost identificată în fișierul respectiv).
A3: Loc | B3: Unitate | C3: Localitate | D3: Mediu | E3: 2020 | F3: 2021 | G3: 2022 | H3: 2023 | I3: 2024 | J3: 2025 | K3: 2026 | L3: Δ total
A4: 1 | B4: COLEGIUL NAŢIONAL "MOISE NICOARĂ" ARAD | C4: ARAD | D4: URBAN | E4: =IFERROR(IF(ISBLANK(INDEX(Date_unitati!$AG:$AG,MATCH($B4,Date_unitati!$B:$B,0))),"-",INDEX(Date_unitati!$AG:$AG,MATCH($B4,Date_unitati!$B:$B,0))),"-") -> 100 | F4: =IFERROR(IF(ISBLANK(INDEX(Date_unitati!$AH:$AH,MATCH($B4,Date_unitati!$B:$B,0))),"-",INDEX(Date_unitati!$AH:$AH,MATCH($B4,Date_unitati!$B:$B,0))),"-") -> 100 | G4: =IFERROR(IF(ISBLANK(INDEX(Date_unitati!$AI:$AI,MATCH($B4,Date_unitati!$B:$B,0))),"-",INDEX(Date_unitati!$AI:$AI,MATCH($B4,Date_unitati!$B:$B,0))),"-") -> 100 | H4: =IFERROR(IF(ISBLANK(INDEX(Date_unitati!$AJ:$AJ,MATCH($B4,Date_unitati!$B:$B,0))),"-",INDEX(Date_unitati!$AJ:$AJ,MATCH($B4,Date_unitati!$B:$B,0))),"-") -> 100 | I4: =IFERROR(IF(ISBLANK(INDEX(Date_unitati!$AK:$AK,MATCH($B4,Date_unitati!$B:$B,0))),"-",INDEX(Date_unitati!$AK:$AK,MATCH($B4,Date_unitati!$B:$B,0))),"-") -> 100 | J4: =IFERROR(IF(ISBLANK(INDEX(Date_unitati!$AL:$AL,MATCH($B4,Date_unitati!$B:$B,0))),"-",INDEX(Date_unitati!$AL:$AL,MATCH($B4,Date_unitati!$B:$B,0))),"-") -> 100 | K4: =IFERROR(IF(ISBLANK(INDEX(Date_unitati!$AM:$AM,MATCH($B4,Date_unitati!$B:$B,0))),"-",INDEX(Date_unitati!$AM:$AM,MATCH($B4,Date_unitati!$B:$B,0))),"-") -> 100 | L4: =IFERROR(IF(OR(ISTEXT(E4),ISTEXT(K4)),"-",ROUND(K4-E4,2)),"-") -> 0
A5: 2 | B5: COLEGIUL NAŢIONAL "VASILE GOLDIŞ" ARAD | C5: ARAD | D5: URBAN | E5: =IFERROR(IF(ISBLANK(INDEX(Date_unitati!$AG:$AG,MATCH($B5,Date_unitati!$B:$B,0))),"-",INDEX(Date_unitati!$AG:$AG,MATCH($B5,Date_unitati!$B:$B,0))),"-") -> 92.857143 | F5: =IFERROR(IF(ISBLANK(INDEX(Date_unitati!$AH:$AH,MATCH($B5,Date_unitati!$B:$B,0))),"-",INDEX(Date_unitati!$AH:$AH,MATCH($B5,Date_unitati!$B:$B,0))),"-") -> 93.333333 | G5: =IFERROR(IF(ISBLANK(INDEX(Date_unitati!$AI:$AI,MATCH($B5,Date_unitati!$B:$B,0))),"-",INDEX(Date_unitati!$AI:$AI,MATCH($B5,Date_unitati!$B:$B,0))),"-") -> 98.958333 | H5: =IFERROR(IF(ISBLANK(INDEX(Date_unitati!$AJ:$AJ,MATCH($B5,Date_unitati!$B:$B,0))),"-",INDEX(Date_unitati!$AJ:$AJ,MATCH($B5,Date_unitati!$B:$B,0))),"-") -> 94.736842 | I5: =IFERROR(IF(ISBLANK(INDEX(Date_unitati!$AK:$AK,MATCH($B5,Date_unitati!$B:$B,0))),"-",INDEX(Date_unitati!$AK:$AK,MATCH($B5,Date_unitati!$B:$B,0))),"-") -> 96.116505 | J5: =IFERROR(IF(ISBLANK(INDEX(Date_unitati!$AL:$AL,MATCH($B5,Date_unitati!$B:$B,0))),"-",INDEX(Date_unitati!$AL:$AL,MATCH($B5,Date_unitati!$B:$B,0))),"-") -> 96.703297 | K5: =IFERROR(IF(ISBLANK(INDEX(Date_unitati!$AM:$AM,MATCH($B5,Date_unitati!$B:$B,0))),"-",INDEX(Date_unitati!$AM:$AM,MATCH($B5,Date_unitati!$B:$B,0))),"-") -> 100 | L5: =IFERROR(IF(OR(ISTEXT(E5),ISTEXT(K5)),"-",ROUND(K5-E5,2)),"-") -> 7.14
A6: 3 | B6: ŞCOALA GIMNAZIALĂ "GHEORGHE GROZA" MONEASA | C6: MONEASA | D6: RURAL | E6: =IFERROR(IF(ISBLANK(INDEX(Date_unitati!$AG:$AG,MATCH($B6,Date_unitati!$B:$B,0))),"-",INDEX(Date_unitati!$AG:$AG,MATCH($B6,Date_unitati!$B:$B,0))),"-") -> - | F6: =IFERROR(IF(ISBLANK(INDEX(Date_unitati!$AH:$AH,MATCH($B6,Date_unitati!$B:$B,0))),"-",INDEX(Date_unitati!$AH:$AH,MATCH($B6,Date_unitati!$B:$B,0))),"-") -> 100 | G6: =IFERROR(IF(ISBLANK(INDEX(Date_unitati!$AI:$AI,MATCH($B6,Date_unitati!$B:$B,0))),"-",INDEX(Date_unitati!$AI:$AI,MATCH($B6,Date_unitati!$B:$B,0))),"-") -> 75 | H6: =IFERROR(IF(ISBLANK(INDEX(Date_unitati!$AJ:$AJ,MATCH($B6,Date_unitati!$B:$B,0))),"-",INDEX(Date_unitati!$AJ:$AJ,MATCH($B6,Date_unitati!$B:$B,0))),"-") -> 100 | I6: =IFERROR(IF(ISBLANK(INDEX(Date_unitati!$AK:$AK,MATCH($B6,Date_unitati!$B:$B,0))),"-",INDEX(Date_unitati!$AK:$AK,MATCH($B6,Date_unitati!$B:$B,0))),"-") -> 100 | J6: =IFERROR(IF(ISBLANK(INDEX(Date_unitati!$AL:$AL,MATCH($B6,Date_unitati!$B:$B,0))),"-",INDEX(Date_unitati!$AL:$AL,MATCH($B6,Date_unitati!$B:$B,0))),"-") -> - | K6: =IFERROR(IF(ISBLANK(INDEX(Date_unitati!$AM:$AM,MATCH($B6,Date_unitati!$B:$B,0))),"-",INDEX(Date_unitati!$AM:$AM,MATCH($B6,Date_unitati!$B:$B,0))),"-") -> 100 | L6: =IFERROR(IF(OR(ISTEXT(E6),ISTEXT(K6)),"-",ROUND(K6-E6,2)),"-") -> -
A7: 4 | B7: ŞCOALA GIMNAZIALĂ PLEŞCUŢA | C7: PLEŞCUŢA | D7: RURAL | E7: =IFERROR(IF(ISBLANK(INDEX(Date_unitati!$AG:$AG,MATCH($B7,Date_unitati!$B:$B,0))),"-",INDEX(Date_unitati!$AG:$AG,MATCH($B7,Date_unitati!$B:$B,0))),"-") -> 60 | F7: =IFERROR(IF(ISBLANK(INDEX(Date_unitati!$AH:$AH,MATCH($B7,Date_unitati!$B:$B,0))),"-",INDEX(Date_unitati!$AH:$AH,MATCH($B7,Date_unitati!$B:$B,0))),"-") -> 66.666667 | G7: =IFERROR(IF(ISBLANK(INDEX(Date_unitati!$AI:$AI,MATCH($B7,Date_unitati!$B:$B,0))),"-",INDEX(Date_unitati!$AI:$AI,MATCH($B7,Date_unitati!$B:$B,0))),"-") -> 66.666667 | H7: =IFERROR(IF(ISBLANK(INDEX(Date_unitati!$AJ:$AJ,MATCH($B7,Date_unitati!$B:$B,0))),"-",INDEX(Date_unitati!$AJ:$AJ,MATCH($B7,Date_unitati!$B:$B,0))),"-") -> 50 | I7: =IFERROR(IF(ISBLANK(INDEX(Date_unitati!$AK:$AK,MATCH($B7,Date_unitati!$B:$B,0))),"-",INDEX(Date_unitati!$AK:$AK,MATCH($B7,Date_unitati!$B:$B,0))),"-") -> 0 | J7: =IFERROR(IF(ISBLANK(INDEX(Date_unitati!$AL:$AL,MATCH($B7,Date_unitati!$B:$B,0))),"-",INDEX(Date_unitati!$AL:$AL,MATCH($B7,Date_unitati!$B:$B,0))),"-") -> 33.333333 | K7: =IFERROR(IF(ISBLANK(INDEX(Date_unitati!$AM:$AM,MATCH($B7,Date_unitati!$B:$B,0))),"-",INDEX(Date_unitati!$AM:$AM,MATCH($B7,Date_unitati!$B:$B,0))),"-") -> 100 | L7: =IFERROR(IF(OR(ISTEXT(E7),ISTEXT(K7)),"-",ROUND(K7-E7,2)),"-") -> 40
A8: 5 | B8: ŞCOALA GIMNAZIALĂ HĂŞMAŞ | C8: HĂŞMAŞ | D8: RURAL | E8: =IFERROR(IF(ISBLANK(INDEX(Date_unitati!$AG:$AG,MATCH($B8,Date_unitati!$B:$B,0))),"-",INDEX(Date_unitati!$AG:$AG,MATCH($B8,Date_unitati!$B:$B,0))),"-") -> 54.545455 | F8: =IFERROR(IF(ISBLANK(INDEX(Date_unitati!$AH:$AH,MATCH($B8,Date_unitati!$B:$B,0))),"-",INDEX(Date_unitati!$AH:$AH,MATCH($B8,Date_unitati!$B:$B,0))),"-") -> 77.777778 | G8: =IFERROR(IF(ISBLANK(INDEX(Date_unitati!$AI:$AI,MATCH($B8,Date_unitati!$B:$B,0))),"-",INDEX(Date_unitati!$AI:$AI,MATCH($B8,Date_unitati!$B:$B,0))),"-") -> 72.727273 | H8: =IFERROR(IF(ISBLANK(INDEX(Date_unitati!$AJ:$AJ,MATCH($B8,Date_unitati!$B:$B,0))),"-",INDEX(Date_unitati!$AJ:$AJ,MATCH($B8,Date_unitati!$B:$B,0))),"-") -> 35.294118 | I8: =IFERROR(IF(ISBLANK(INDEX(Date_unitati!$AK:$AK,MATCH($B8,Date_unitati!$B:$B,0))),"-",INDEX(Date_unitati!$AK:$AK,MATCH($B8,Date_unitati!$B:$B,0))),"-") -> 60 | J8: =IFERROR(IF(ISBLANK(INDEX(Date_unitati!$AL:$AL,MATCH($B8,Date_unitati!$B:$B,0))),"-",INDEX(Date_unitati!$AL:$AL,MATCH($B8,Date_unitati!$B:$B,0))),"-") -> 50 | K8: =IFERROR(IF(ISBLANK(INDEX(Date_unitati!$AM:$AM,MATCH($B8,Date_unitati!$B:$B,0))),"-",INDEX(Date_unitati!$AM:$AM,MATCH($B8,Date_unitati!$B:$B,0))),"-") -> 100 | L8: =IFERROR(IF(OR(ISTEXT(E8),ISTEXT(K8)),"-",ROUND(K8-E8,2)),"-") -> 45.45
A9: 6 | B9: ŞCOALA GIMNAZIALĂ HĂLMĂGEL | C9: HĂLMĂGEL | D9: RURAL | E9: =IFERROR(IF(ISBLANK(INDEX(Date_unitati!$AG:$AG,MATCH($B9,Date_unitati!$B:$B,0))),"-",INDEX(Date_unitati!$AG:$AG,MATCH($B9,Date_unitati!$B:$B,0))),"-") -> 57.142857 | F9: =IFERROR(IF(ISBLANK(INDEX(Date_unitati!$AH:$AH,MATCH($B9,Date_unitati!$B:$B,0))),"-",INDEX(Date_unitati!$AH:$AH,MATCH($B9,Date_unitati!$B:$B,0))),"-") -> 90 | G9: =IFERROR(IF(ISBLANK(INDEX(Date_unitati!$AI:$AI,MATCH($B9,Date_unitati!$B:$B,0))),"-",INDEX(Date_unitati!$AI:$AI,MATCH($B9,Date_unitati!$B:$B,0))),"-") -> 83.333333 | H9: =IFERROR(IF(ISBLANK(INDEX(Date_unitati!$AJ:$AJ,MATCH($B9,Date_unitati!$B:$B,0))),"-",INDEX(Date_unitati!$AJ:$AJ,MATCH($B9,Date_unitati!$B:$B,0))),"-") -> 80 | I9: =IFERROR(IF(ISBLANK(INDEX(Date_unitati!$AK:$AK,MATCH($B9,Date_unitati!$B:$B,0))),"-",INDEX(Date_unitati!$AK:$AK,MATCH($B9,Date_unitati!$B:$B,0))),"-") -> - | J9: =IFERROR(IF(ISBLANK(INDEX(Date_unitati!$AL:$AL,MATCH($B9,Date_unitati!$B:$B,0))),"-",INDEX(Date_unitati!$AL:$AL,MATCH($B9,Date_unitati!$B:$B,0))),"-") -> 100 | K9: =IFERROR(IF(ISBLANK(INDEX(Date_unitati!$AM:$AM,MATCH($B9,Date_unitati!$B:$B,0))),"-",INDEX(Date_unitati!$AM:$AM,MATCH($B9,Date_unitati!$B:$B,0))),"-") -> 100 | L9: =IFERROR(IF(OR(ISTEXT(E9),ISTEXT(K9)),"-",ROUND(K9-E9,2)),"-") -> 42.86
A10: 7 | B10: LICEUL NAŢIONAL DE INFORMATICĂ ARAD | C10: ARAD | D10: URBAN | E10: =IFERROR(IF(ISBLANK(INDEX(Date_unitati!$AG:$AG,MATCH($B10,Date_unitati!$B:$B,0))),"-",INDEX(Date_unitati!$AG:$AG,MATCH($B10,Date_unitati!$B:$B,0))),"-") -> 96.031746 | F10: =IFERROR(IF(ISBLANK(INDEX(Date_unitati!$AH:$AH,MATCH($B10,Date_unitati!$B:$B,0))),"-",INDEX(Date_unitati!$AH:$AH,MATCH($B10,Date_unitati!$B:$B,0))),"-") -> 98.989899 | G10: =IFERROR(IF(ISBLANK(INDEX(Date_unitati!$AI:$AI,MATCH($B10,Date_unitati!$B:$B,0))),"-",INDEX(Date_unitati!$AI:$AI,MATCH($B10,Date_unitati!$B:$B,0))),"-") -> 98.275862 | H10: =IFERROR(IF(ISBLANK(INDEX(Date_unitati!$AJ:$AJ,MATCH($B10,Date_unitati!$B:$B,0))),"-",INDEX(Date_unitati!$AJ:$AJ,MATCH($B10,Date_unitati!$B:$B,0))),"-") -> 98.449612 | I10: =IFERROR(IF(ISBLANK(INDEX(Date_unitati!$AK:$AK,MATCH($B10,Date_unitati!$B:$B,0))),"-",INDEX(Date_unitati!$AK:$AK,MATCH($B10,Date_unitati!$B:$B,0))),"-") -> 97.709924 | J10: =IFERROR(IF(ISBLANK(INDEX(Date_unitati!$AL:$AL,MATCH($B10,Date_unitati!$B:$B,0))),"-",INDEX(Date_unitati!$AL:$AL,MATCH($B10,Date_unitati!$B:$B,0))),"-") -> 99.328859 | K10: =IFERROR(IF(ISBLANK(INDEX(Date_unitati!$AM:$AM,MATCH($B10,Date_unitati!$B:$B,0))),"-",INDEX(Date_unitati!$AM:$AM,MATCH($B10,Date_unitati!$B:$B,0))),"-") -> 99.152542 | L10: =IFERROR(IF(OR(ISTEXT(E10),ISTEXT(K10)),"-",ROUND(K10-E10,2)),"-") -> 3.12
A11: 8 | B11: COLEGIUL NAŢIONAL "PREPARANDIA-DIMITRIE ŢICHINDEAL" ARAD | C11: ARAD | D11: URBAN | E11: =IFERROR(IF(ISBLANK(INDEX(Date_unitati!$AG:$AG,MATCH($B11,Date_unitati!$B:$B,0))),"-",INDEX(Date_unitati!$AG:$AG,MATCH($B11,Date_unitati!$B:$B,0))),"-") -> 98.924731 | F11: =IFERROR(IF(ISBLANK(INDEX(Date_unitati!$AH:$AH,MATCH($B11,Date_unitati!$B:$B,0))),"-",INDEX(Date_unitati!$AH:$AH,MATCH($B11,Date_unitati!$B:$B,0))),"-") -> 93.478261 | G11: =IFERROR(IF(ISBLANK(INDEX(Date_unitati!$AI:$AI,MATCH($B11,Date_unitati!$B:$B,0))),"-",INDEX(Date_unitati!$AI:$AI,MATCH($B11,Date_unitati!$B:$B,0))),"-") -> 99.122807 | H11: =IFERROR(IF(ISBLANK(INDEX(Date_unitati!$AJ:$AJ,MATCH($B11,Date_unitati!$B:$B,0))),"-",INDEX(Date_unitati!$AJ:$AJ,MATCH($B11,Date_unitati!$B:$B,0))),"-") -> 96.747967 | I11: =IFERROR(IF(ISBLANK(INDEX(Date_unitati!$AK:$AK,MATCH($B11,Date_unitati!$B:$B,0))),"-",INDEX(Date_unitati!$AK:$AK,MATCH($B11,Date_unitati!$B:$B,0))),"-") -> 99.159664 | J11: =IFERROR(IF(ISBLANK(INDEX(Date_unitati!$AL:$AL,MATCH($B11,Date_unitati!$B:$B,0))),"-",INDEX(Date_unitati!$AL:$AL,MATCH($B11,Date_unitati!$B:$B,0))),"-") -> 97.435897 | K11: =IFERROR(IF(ISBLANK(INDEX(Date_unitati!$AM:$AM,MATCH($B11,Date_unitati!$B:$B,0))),"-",INDEX(Date_unitati!$AM:$AM,MATCH($B11,Date_unitati!$B:$B,0))),"-") -> 98.958333 | L11: =IFERROR(IF(OR(ISTEXT(E11),ISTEXT(K11)),"-",ROUND(K11-E11,2)),"-") -> 0.03
A12: 9 | B12: LICEUL TEOLOGIC BAPTIST "ALEXA POPOVICI" ARAD | C12: ARAD | D12: URBAN | E12: =IFERROR(IF(ISBLANK(INDEX(Date_unitati!$AG:$AG,MATCH($B12,Date_unitati!$B:$B,0))),"-",INDEX(Date_unitati!$AG:$AG,MATCH($B12,Date_unitati!$B:$B,0))),"-") -> 100 | F12: =IFERROR(IF(ISBLANK(INDEX(Date_unitati!$AH:$AH,MATCH($B12,Date_unitati!$B:$B,0))),"-",INDEX(Date_unitati!$AH:$AH,MATCH($B12,Date_unitati!$B:$B,0))),"-") -> 98.181818 | G12: =IFERROR(IF(ISBLANK(INDEX(Date_unitati!$AI:$AI,MATCH($B12,Date_unitati!$B:$B,0))),"-",INDEX(Date_unitati!$AI:$AI,MATCH($B12,Date_unitati!$B:$B,0))),"-") -> 100 | H12: =IFERROR(IF(ISBLANK(INDEX(Date_unitati!$AJ:$AJ,MATCH($B12,Date_unitati!$B:$B,0))),"-",INDEX(Date_unitati!$AJ:$AJ,MATCH($B12,Date_unitati!$B:$B,0))),"-") -> 100 | I12: =IFERROR(IF(ISBLANK(INDEX(Date_unitati!$AK:$AK,MATCH($B12,Date_unitati!$B:$B,0))),"-",INDEX(Date_unitati!$AK:$AK,MATCH($B12,Date_unitati!$B:$B,0))),"-") -> 98.734177 | J12: =IFERROR(IF(ISBLANK(INDEX(Date_unitati!$AL:$AL,MATCH($B12,Date_unitati!$B:$B,0))),"-",INDEX(Date_unitati!$AL:$AL,MATCH($B12,Date_unitati!$B:$B,0))),"-") -> 100 | K12: =IFERROR(IF(ISBLANK(INDEX(Date_unitati!$AM:$AM,MATCH($B12,Date_unitati!$B:$B,0))),"-",INDEX(Date_unitati!$AM:$AM,MATCH($B12,Date_unitati!$B:$B,0))),"-") -> 98.113208 | L12: =IFERROR(IF(OR(ISTEXT(E12),ISTEXT(K12)),"-",ROUND(K12-E12,2)),"-") -> -1.89
A13: 10 | B13: COLEGIUL"CSIKY GERGELY" ARAD | C13: ARAD | D13: URBAN | E13: =IFERROR(IF(ISBLANK(INDEX(Date_unitati!$AG:$AG,MATCH($B13,Date_unitati!$B:$B,0))),"-",INDEX(Date_unitati!$AG:$AG,MATCH($B13,Date_unitati!$B:$B,0))),"-") -> 68.181818 | F13: =IFERROR(IF(ISBLANK(INDEX(Date_unitati!$AH:$AH,MATCH($B13,Date_unitati!$B:$B,0))),"-",INDEX(Date_unitati!$AH:$AH,MATCH($B13,Date_unitati!$B:$B,0))),"-") -> 96.296296 | G13: =IFERROR(IF(ISBLANK(INDEX(Date_unitati!$AI:$AI,MATCH($B13,Date_unitati!$B:$B,0))),"-",INDEX(Date_unitati!$AI:$AI,MATCH($B13,Date_unitati!$B:$B,0))),"-") -> 96.969697 | H13: =IFERROR(IF(ISBLANK(INDEX(Date_unitati!$AJ:$AJ,MATCH($B13,Date_unitati!$B:$B,0))),"-",INDEX(Date_unitati!$AJ:$AJ,MATCH($B13,Date_unitati!$B:$B,0))),"-") -> 100 | I13: =IFERROR(IF(ISBLANK(INDEX(Date_unitati!$AK:$AK,MATCH($B13,Date_unitati!$B:$B,0))),"-",INDEX(Date_unitati!$AK:$AK,MATCH($B13,Date_unitati!$B:$B,0))),"-") -> 100 | J13: =IFERROR(IF(ISBLANK(INDEX(Date_unitati!$AL:$AL,MATCH($B13,Date_unitati!$B:$B,0))),"-",INDEX(Date_unitati!$AL:$AL,MATCH($B13,Date_unitati!$B:$B,0))),"-") -> 92.857143 | K13: =IFERROR(IF(ISBLANK(INDEX(Date_unitati!$AM:$AM,MATCH($B13,Date_unitati!$B:$B,0))),"-",INDEX(Date_unitati!$AM:$AM,MATCH($B13,Date_unitati!$B:$B,0))),"-") -> 97.058824 | L13: =IFERROR(IF(OR(ISTEXT(E13),ISTEXT(K13)),"-",ROUND(K13-E13,2)),"-") -> 28.88
A14: 11 | B14: ŞCOALA GIMNAZIALĂ LIVADA | C14: LIVADA | D14: RURAL | E14: =IFERROR(IF(ISBLANK(INDEX(Date_unitati!$AG:$AG,MATCH($B14,Date_unitati!$B:$B,0))),"-",INDEX(Date_unitati!$AG:$AG,MATCH($B14,Date_unitati!$B:$B,0))),"-") -> 100 | F14: =IFERROR(IF(ISBLANK(INDEX(Date_unitati!$AH:$AH,MATCH($B14,Date_unitati!$B:$B,0))),"-",INDEX(Date_unitati!$AH:$AH,MATCH($B14,Date_unitati!$B:$B,0))),"-") -> 100 | G14: =IFERROR(IF(ISBLANK(INDEX(Date_unitati!$AI:$AI,MATCH($B14,Date_unitati!$B:$B,0))),"-",INDEX(Date_unitati!$AI:$AI,MATCH($B14,Date_unitati!$B:$B,0))),"-") -> 100 | H14: =IFERROR(IF(ISBLANK(INDEX(Date_unitati!$AJ:$AJ,MATCH($B14,Date_unitati!$B:$B,0))),"-",INDEX(Date_unitati!$AJ:$AJ,MATCH($B14,Date_unitati!$B:$B,0))),"-") -> 83.333333 | I14: =IFERROR(IF(ISBLANK(INDEX(Date_unitati!$AK:$AK,MATCH($B14,Date_unitati!$B:$B,0))),"-",INDEX(Date_unitati!$AK:$AK,MATCH($B14,Date_unitati!$B:$B,0))),"-") -> 100 | J14: =IFERROR(IF(ISBLANK(INDEX(Date_unitati!$AL:$AL,MATCH($B14,Date_unitati!$B:$B,0))),"-",INDEX(Date_unitati!$AL:$AL,MATCH($B14,Date_unitati!$B:$B,0))),"-") -> 100 | K14: =IFERROR(IF(ISBLANK(INDEX(Date_unitati!$AM:$AM,MATCH($B14,Date_unitati!$B:$B,0))),"-",INDEX(Date_unitati!$AM:$AM,MATCH($B14,Date_unitati!$B:$B,0))),"-") -> 95.454545 | L14: =IFERROR(IF(OR(ISTEXT(E14),ISTEXT(K14)),"-",ROUND(K14-E14,2)),"-") -> -4.55
A15: 12 | B15: ŞCOALA GIMNAZIALĂ "DR.IOAN DANICICO" SEMLAC | C15: SEMLAC | D15: RURAL | E15: =IFERROR(IF(ISBLANK(INDEX(Date_unitati!$AG:$AG,MATCH($B15,Date_unitati!$B:$B,0))),"-",INDEX(Date_unitati!$AG:$AG,MATCH($B15,Date_unitati!$B:$B,0))),"-") -> 51.515152 | F15: =IFERROR(IF(ISBLANK(INDEX(Date_unitati!$AH:$AH,MATCH($B15,Date_unitati!$B:$B,0))),"-",INDEX(Date_unitati!$AH:$AH,MATCH($B15,Date_unitati!$B:$B,0))),"-") -> 54.166667 | G15: =IFERROR(IF(ISBLANK(INDEX(Date_unitati!$AI:$AI,MATCH($B15,Date_unitati!$B:$B,0))),"-",INDEX(Date_unitati!$AI:$AI,MATCH($B15,Date_unitati!$B:$B,0))),"-") -> 77.272727 | H15: =IFERROR(IF(ISBLANK(INDEX(Date_unitati!$AJ:$AJ,MATCH($B15,Date_unitati!$B:$B,0))),"-",INDEX(Date_unitati!$AJ:$AJ,MATCH($B15,Date_unitati!$B:$B,0))),"-") -> 66.666667 | I15: =IFERROR(IF(ISBLANK(INDEX(Date_unitati!$AK:$AK,MATCH($B15,Date_unitati!$B:$B,0))),"-",INDEX(Date_unitati!$AK:$AK,MATCH($B15,Date_unitati!$B:$B,0))),"-") -> 64.516129 | J15: =IFERROR(IF(ISBLANK(INDEX(Date_unitati!$AL:$AL,MATCH($B15,Date_unitati!$B:$B,0))),"-",INDEX(Date_unitati!$AL:$AL,MATCH($B15,Date_unitati!$B:$B,0))),"-") -> 100 | K15: =IFERROR(IF(ISBLANK(INDEX(Date_unitati!$AM:$AM,MATCH($B15,Date_unitati!$B:$B,0))),"-",INDEX(Date_unitati!$AM:$AM,MATCH($B15,Date_unitati!$B:$B,0))),"-") -> 95.238095 | L15: =IFERROR(IF(OR(ISTEXT(E15),ISTEXT(K15)),"-",ROUND(K15-E15,2)),"-") -> 43.72
... A116: 113 | B116: ŞCOALA GIMNAZIALĂ FISCUT | C116: FISCUT | D116: RURAL | E116: =IFERROR(IF(ISBLANK(INDEX(Date_unitati!$AG:$AG,MATCH($B116,Date_unitati!$B:$B,0))),"-",INDEX(Date_unitati!$AG:$AG,MATCH($B116,Date_unitati!$B:$B,0))),"-") -> 50 | F116: =IFERROR(IF(ISBLANK(INDEX(Date_unitati!$AH:$AH,MATCH($B116,Date_unitati!$B:$B,0))),"-",INDEX(Date_unitati!$AH:$AH,MATCH($B116,Date_unitati!$B:$B,0))),"-") -> 0 | G116: =IFERROR(IF(ISBLANK(INDEX(Date_unitati!$AI:$AI,MATCH($B116,Date_unitati!$B:$B,0))),"-",INDEX(Date_unitati!$AI:$AI,MATCH($B116,Date_unitati!$B:$B,0))),"-") -> 20 | H116: =IFERROR(IF(ISBLANK(INDEX(Date_unitati!$AJ:$AJ,MATCH($B116,Date_unitati!$B:$B,0))),"-",INDEX(Date_unitati!$AJ:$AJ,MATCH($B116,Date_unitati!$B:$B,0))),"-") -> 26.666667 | I116: =IFERROR(IF(ISBLANK(INDEX(Date_unitati!$AK:$AK,MATCH($B116,Date_unitati!$B:$B,0))),"-",INDEX(Date_unitati!$AK:$AK,MATCH($B116,Date_unitati!$B:$B,0))),"-") -> 33.333333 | J116: =IFERROR(IF(ISBLANK(INDEX(Date_unitati!$AL:$AL,MATCH($B116,Date_unitati!$B:$B,0))),"-",INDEX(Date_unitati!$AL:$AL,MATCH($B116,Date_unitati!$B:$B,0))),"-") -> 20 | K116: =IFERROR(IF(ISBLANK(INDEX(Date_unitati!$AM:$AM,MATCH($B116,Date_unitati!$B:$B,0))),"-",INDEX(Date_unitati!$AM:$AM,MATCH($B116,Date_unitati!$B:$B,0))),"-") -> - | L116: =IFERROR(IF(OR(ISTEXT(E116),ISTEXT(K116)),"-",ROUND(K116-E116,2)),"-") -> -

Sheet Evoluție medie generală
A1: Evoluția mediei generale (media finală EN) pe fiecare unitate, 2020→2026, sortată descrescător după media din 2026.
A3: Loc | B3: Unitate | C3: Localitate | D3: Mediu | E3: 2020 | F3: 2021 | G3: 2022 | H3: 2023 | I3: 2024 | J3: 2025 | K3: 2026 | L3: Δ total
A4: 1 | B4: COLEGIUL NAŢIONAL "MOISE NICOARĂ" ARAD | C4: ARAD | D4: URBAN | E4: =IFERROR(IF(ISBLANK(INDEX(Date_unitati!$L:$L,MATCH($B4,Date_unitati!$B:$B,0))),"-",INDEX(Date_unitati!$L:$L,MATCH($B4,Date_unitati!$B:$B,0))),"-") -> 9.1715556 | F4: =IFERROR(IF(ISBLANK(INDEX(Date_unitati!$M:$M,MATCH($B4,Date_unitati!$B:$B,0))),"-",INDEX(Date_unitati!$M:$M,MATCH($B4,Date_unitati!$B:$B,0))),"-") -> 8.7840909 | G4: =IFERROR(IF(ISBLANK(INDEX(Date_unitati!$N:$N,MATCH($B4,Date_unitati!$B:$B,0))),"-",INDEX(Date_unitati!$N:$N,MATCH($B4,Date_unitati!$B:$B,0))),"-") -> 8.8245238 | H4: =IFERROR(IF(ISBLANK(INDEX(Date_unitati!$O:$O,MATCH($B4,Date_unitati!$B:$B,0))),"-",INDEX(Date_unitati!$O:$O,MATCH($B4,Date_unitati!$B:$B,0))),"-") -> 9.0148837 | I4: =IFERROR(IF(ISBLANK(INDEX(Date_unitati!$P:$P,MATCH($B4,Date_unitati!$B:$B,0))),"-",INDEX(Date_unitati!$P:$P,MATCH($B4,Date_unitati!$B:$B,0))),"-") -> 8.532809 | J4: =IFERROR(IF(ISBLANK(INDEX(Date_unitati!$Q:$Q,MATCH($B4,Date_unitati!$B:$B,0))),"-",INDEX(Date_unitati!$Q:$Q,MATCH($B4,Date_unitati!$B:$B,0))),"-") -> 8.6940964 | K4: =IFERROR(IF(ISBLANK(INDEX(Date_unitati!$R:$R,MATCH($B4,Date_unitati!$B:$B,0))),"-",INDEX(Date_unitati!$R:$R,MATCH($B4,Date_unitati!$B:$B,0))),"-") -> 8.6824719 | L4: =IFERROR(IF(OR(ISTEXT(E4),ISTEXT(K4)),"-",ROUND(K4-E4,2)),"-") -> -0.49
A5: 2 | B5: COLEGIUL NAŢIONAL "PREPARANDIA-DIMITRIE ŢICHINDEAL" ARAD | C5: ARAD | D5: URBAN | E5: =IFERROR(IF(ISBLANK(INDEX(Date_unitati!$L:$L,MATCH($B5,Date_unitati!$B:$B,0))),"-",INDEX(Date_unitati!$L:$L,MATCH($B5,Date_unitati!$B:$B,0))),"-") -> 8.3816129 | F5: =IFERROR(IF(ISBLANK(INDEX(Date_unitati!$M:$M,MATCH($B5,Date_unitati!$B:$B,0))),"-",INDEX(Date_unitati!$M:$M,MATCH($B5,Date_unitati!$B:$B,0))),"-") -> 7.5738043 | G5: =IFERROR(IF(ISBLANK(INDEX(Date_unitati!$N:$N,MATCH($B5,Date_unitati!$B:$B,0))),"-",INDEX(Date_unitati!$N:$N,MATCH($B5,Date_unitati!$B:$B,0))),"-") -> 8.0660526 | H5: =IFERROR(IF(ISBLANK(INDEX(Date_unitati!$O:$O,MATCH($B5,Date_unitati!$B:$B,0))),"-",INDEX(Date_unitati!$O:$O,MATCH($B5,Date_unitati!$B:$B,0))),"-") -> 7.6141463 | I5: =IFERROR(IF(ISBLANK(INDEX(Date_unitati!$P:$P,MATCH($B5,Date_unitati!$B:$B,0))),"-",INDEX(Date_unitati!$P:$P,MATCH($B5,Date_unitati!$B:$B,0))),"-") -> 7.4442017 | J5: =IFERROR(IF(ISBLANK(INDEX(Date_unitati!$Q:$Q,MATCH($B5,Date_unitati!$B:$B,0))),"-",INDEX(Date_unitati!$Q:$Q,MATCH($B5,Date_unitati!$B:$B,0))),"-") -> 8.1235043 | K5: =IFERROR(IF(ISBLANK(INDEX(Date_unitati!$R:$R,MATCH($B5,Date_unitati!$B:$B,0))),"-",INDEX(Date_unitati!$R:$R,MATCH($B5,Date_unitati!$B:$B,0))),"-") -> 8.1480208 | L5: =IFERROR(IF(OR(ISTEXT(E5),ISTEXT(K5)),"-",ROUND(K5-E5,2)),"-") -> -0.23
A6: 3 | B6: LICEUL TEORETIC "SFÂNTUL IERARH NICOLAE" ARAD | C6: ARAD | D6: URBAN | E6: =IFERROR(IF(ISBLANK(INDEX(Date_unitati!$L:$L,MATCH($B6,Date_unitati!$B:$B,0))),"-",INDEX(Date_unitati!$L:$L,MATCH($B6,Date_unitati!$B:$B,0))),"-") -> - | F6: =IFERROR(IF(ISBLANK(INDEX(Date_unitati!$M:$M,MATCH($B6,Date_unitati!$B:$B,0))),"-",INDEX(Date_unitati!$M:$M,MATCH($B6,Date_unitati!$B:$B,0))),"-") -> - | G6: =IFERROR(IF(ISBLANK(INDEX(Date_unitati!$N:$N,MATCH($B6,Date_unitati!$B:$B,0))),"-",INDEX(Date_unitati!$N:$N,MATCH($B6,Date_unitati!$B:$B,0))),"-") -> - | H6: =IFERROR(IF(ISBLANK(INDEX(Date_unitati!$O:$O,MATCH($B6,Date_unitati!$B:$B,0))),"-",INDEX(Date_unitati!$O:$O,MATCH($B6,Date_unitati!$B:$B,0))),"-") -> - | I6: =IFERROR(IF(ISBLANK(INDEX(Date_unitati!$P:$P,MATCH($B6,Date_unitati!$B:$B,0))),"-",INDEX(Date_unitati!$P:$P,MATCH($B6,Date_unitati!$B:$B,0))),"-") -> - | J6: =IFERROR(IF(ISBLANK(INDEX(Date_unitati!$Q:$Q,MATCH($B6,Date_unitati!$B:$B,0))),"-",INDEX(Date_unitati!$Q:$Q,MATCH($B6,Date_unitati!$B:$B,0))),"-") -> 8.1863636 | K6: =IFERROR(IF(ISBLANK(INDEX(Date_unitati!$R:$R,MATCH($B6,Date_unitati!$B:$B,0))),"-",INDEX(Date_unitati!$R:$R,MATCH($B6,Date_unitati!$B:$B,0))),"-") -> 8.0733333 | L6: =IFERROR(IF(OR(ISTEXT(E6),ISTEXT(K6)),"-",ROUND(K6-E6,2)),"-") -> -
A7: 4 | B7: ŞCOALA GIMNAZIALĂ HĂLMĂGEL | C7: HĂLMĂGEL | D7: RURAL | E7: =IFERROR(IF(ISBLANK(INDEX(Date_unitati!$L:$L,MATCH($B7,Date_unitati!$B:$B,0))),"-",INDEX(Date_unitati!$L:$L,MATCH($B7,Date_unitati!$B:$B,0))),"-") -> 6.4071429 | F7: =IFERROR(IF(ISBLANK(INDEX(Date_unitati!$M:$M,MATCH($B7,Date_unitati!$B:$B,0))),"-",INDEX(Date_unitati!$M:$M,MATCH($B7,Date_unitati!$B:$B,0))),"-") -> 7.037 | G7: =IFERROR(IF(ISBLANK(INDEX(Date_unitati!$N:$N,MATCH($B7,Date_unitati!$B:$B,0))),"-",INDEX(Date_unitati!$N:$N,MATCH($B7,Date_unitati!$B:$B,0))),"-") -> 7.0183333 | H7: =IFERROR(IF(ISBLANK(INDEX(Date_unitati!$O:$O,MATCH($B7,Date_unitati!$B:$B,0))),"-",INDEX(Date_unitati!$O:$O,MATCH($B7,Date_unitati!$B:$B,0))),"-") -> 6.658 | I7: =IFERROR(IF(ISBLANK(INDEX(Date_unitati!$P:$P,MATCH($B7,Date_unitati!$B:$B,0))),"-",INDEX(Date_unitati!$P:$P,MATCH($B7,Date_unitati!$B:$B,0))),"-") -> - | J7: =IFERROR(IF(ISBLANK(INDEX(Date_unitati!$Q:$Q,MATCH($B7,Date_unitati!$B:$B,0))),"-",INDEX(Date_unitati!$Q:$Q,MATCH($B7,Date_unitati!$B:$B,0))),"-") -> 7.69 | K7: =IFERROR(IF(ISBLANK(INDEX(Date_unitati!$R:$R,MATCH($B7,Date_unitati!$B:$B,0))),"-",INDEX(Date_unitati!$R:$R,MATCH($B7,Date_unitati!$B:$B,0))),"-") -> 7.945 | L7: =IFERROR(IF(OR(ISTEXT(E7),ISTEXT(K7)),"-",ROUND(K7-E7,2)),"-") -> 1.54
A8: 5 | B8: LICEUL TEOLOGIC BAPTIST "ALEXA POPOVICI" ARAD | C8: ARAD | D8: URBAN | E8: =IFERROR(IF(ISBLANK(INDEX(Date_unitati!$L:$L,MATCH($B8,Date_unitati!$B:$B,0))),"-",INDEX(Date_unitati!$L:$L,MATCH($B8,Date_unitati!$B:$B,0))),"-") -> 8.3841935 | F8: =IFERROR(IF(ISBLANK(INDEX(Date_unitati!$M:$M,MATCH($B8,Date_unitati!$B:$B,0))),"-",INDEX(Date_unitati!$M:$M,MATCH($B8,Date_unitati!$B:$B,0))),"-") -> 7.5609091 | G8: =IFERROR(IF(ISBLANK(INDEX(Date_unitati!$N:$N,MATCH($B8,Date_unitati!$B:$B,0))),"-",INDEX(Date_unitati!$N:$N,MATCH($B8,Date_unitati!$B:$B,0))),"-") -> 8.2140385 | H8: =IFERROR(IF(ISBLANK(INDEX(Date_unitati!$O:$O,MATCH($B8,Date_unitati!$B:$B,0))),"-",INDEX(Date_unitati!$O:$O,MATCH($B8,Date_unitati!$B:$B,0))),"-") -> 8.2996491 | I8: =IFERROR(IF(ISBLANK(INDEX(Date_unitati!$P:$P,MATCH($B8,Date_unitati!$B:$B,0))),"-",INDEX(Date_unitati!$P:$P,MATCH($B8,Date_unitati!$B:$B,0))),"-") -> 7.9641772 | J8: =IFERROR(IF(ISBLANK(INDEX(Date_unitati!$Q:$Q,MATCH($B8,Date_unitati!$B:$B,0))),"-",INDEX(Date_unitati!$Q:$Q,MATCH($B8,Date_unitati!$B:$B,0))),"-") -> 7.9903448 | K8: =IFERROR(IF(ISBLANK(INDEX(Date_unitati!$R:$R,MATCH($B8,Date_unitati!$B:$B,0))),"-",INDEX(Date_unitati!$R:$R,MATCH($B8,Date_unitati!$B:$B,0))),"-") -> 7.8932075 | L8: =IFERROR(IF(OR(ISTEXT(E8),ISTEXT(K8)),"-",ROUND(K8-E8,2)),"-") -> -0.49
A9: 6 | B9: COLEGIUL NAŢIONAL "VASILE GOLDIŞ" ARAD | C9: ARAD | D9: URBAN | E9: =IFERROR(IF(ISBLANK(INDEX(Date_unitati!$L:$L,MATCH($B9,Date_unitati!$B:$B,0))),"-",INDEX(Date_unitati!$L:$L,MATCH($B9,Date_unitati!$B:$B,0))),"-") -> 7.5917857 | F9: =IFERROR(IF(ISBLANK(INDEX(Date_unitati!$M:$M,MATCH($B9,Date_unitati!$B:$B,0))),"-",INDEX(Date_unitati!$M:$M,MATCH($B9,Date_unitati!$B:$B,0))),"-") -> 7.2846667 | G9: =IFERROR(IF(ISBLANK(INDEX(Date_unitati!$N:$N,MATCH($B9,Date_unitati!$B:$B,0))),"-",INDEX(Date_unitati!$N:$N,MATCH($B9,Date_unitati!$B:$B,0))),"-") -> 7.7046875 | H9: =IFERROR(IF(ISBLANK(INDEX(Date_unitati!$O:$O,MATCH($B9,Date_unitati!$B:$B,0))),"-",INDEX(Date_unitati!$O:$O,MATCH($B9,Date_unitati!$B:$B,0))),"-") -> 7.467193 | I9: =IFERROR(IF(ISBLANK(INDEX(Date_unitati!$P:$P,MATCH($B9,Date_unitati!$B:$B,0))),"-",INDEX(Date_unitati!$P:$P,MATCH($B9,Date_unitati!$B:$B,0))),"-") -> 7.3446602 | J9: =IFERROR(IF(ISBLANK(INDEX(Date_unitati!$Q:$Q,MATCH($B9,Date_unitati!$B:$B,0))),"-",INDEX(Date_unitati!$Q:$Q,MATCH($B9,Date_unitati!$B:$B,0))),"-") -> 7.7489011 | K9: =IFERROR(IF(ISBLANK(INDEX(Date_unitati!$R:$R,MATCH($B9,Date_unitati!$B:$B,0))),"-",INDEX(Date_unitati!$R:$R,MATCH($B9,Date_unitati!$B:$B,0))),"-") -> 7.8737374 | L9: =IFERROR(IF(OR(ISTEXT(E9),ISTEXT(K9)),"-",ROUND(K9-E9,2)),"-") -> 0.28
A10: 7 | B10: LICEUL NAŢIONAL DE INFORMATICĂ ARAD | C10: ARAD | D10: URBAN | E10: =IFERROR(IF(ISBLANK(INDEX(Date_unitati!$L:$L,MATCH($B10,Date_unitati!$B:$B,0))),"-",INDEX(Date_unitati!$L:$L,MATCH($B10,Date_unitati!$B:$B,0))),"-") -> 8.246746 | F10: =IFERROR(IF(ISBLANK(INDEX(Date_unitati!$M:$M,MATCH($B10,Date_unitati!$B:$B,0))),"-",INDEX(Date_unitati!$M:$M,MATCH($B10,Date_unitati!$B:$B,0))),"-") -> 7.9217172 | G10: =IFERROR(IF(ISBLANK(INDEX(Date_unitati!$N:$N,MATCH($B10,Date_unitati!$B:$B,0))),"-",INDEX(Date_unitati!$N:$N,MATCH($B10,Date_unitati!$B:$B,0))),"-") -> 8.1039655 | H10: =IFERROR(IF(ISBLANK(INDEX(Date_unitati!$O:$O,MATCH($B10,Date_unitati!$B:$B,0))),"-",INDEX(Date_unitati!$O:$O,MATCH($B10,Date_unitati!$B:$B,0))),"-") -> 7.8630233 | I10: =IFERROR(IF(ISBLANK(INDEX(Date_unitati!$P:$P,MATCH($B10,Date_unitati!$B:$B,0))),"-",INDEX(Date_unitati!$P:$P,MATCH($B10,Date_unitati!$B:$B,0))),"-") -> 7.6962595 | J10: =IFERROR(IF(ISBLANK(INDEX(Date_unitati!$Q:$Q,MATCH($B10,Date_unitati!$B:$B,0))),"-",INDEX(Date_unitati!$Q:$Q,MATCH($B10,Date_unitati!$B:$B,0))),"-") -> 8.4479195 | K10: =IFERROR(IF(ISBLANK(INDEX(Date_unitati!$R:$R,MATCH($B10,Date_unitati!$B:$B,0))),"-",INDEX(Date_unitati!$R:$R,MATCH($B10,Date_unitati!$B:$B,0))),"-") -> 7.805 | L10: =IFERROR(IF(OR(ISTEXT(E10),ISTEXT(K10)),"-",ROUND(K10-E10,2)),"-") -> -0.44
A11: 8 | B11: ŞCOALA GIMNAZIALĂ CĂRAND | C11: CĂRAND | D11: RURAL | E11: =IFERROR(IF(ISBLANK(INDEX(Date_unitati!$L:$L,MATCH($B11,Date_unitati!$B:$B,0))),"-",INDEX(Date_unitati!$L:$L,MATCH($B11,Date_unitati!$B:$B,0))),"-") -> 5.875 | F11: =IFERROR(IF(ISBLANK(INDEX(Date_unitati!$M:$M,MATCH($B11,Date_unitati!$B:$B,0))),"-",INDEX(Date_unitati!$M:$M,MATCH($B11,Date_unitati!$B:$B,0))),"-") -> 6.032 | G11: =IFERROR(IF(ISBLANK(INDEX(Date_unitati!$N:$N,MATCH($B11,Date_unitati!$B:$B,0))),"-",INDEX(Date_unitati!$N:$N,MATCH($B11,Date_unitati!$B:$B,0))),"-") -> 7.936 | H11: =IFERROR(IF(ISBLANK(INDEX(Date_unitati!$O:$O,MATCH($B11,Date_unitati!$B:$B,0))),"-",INDEX(Date_unitati!$O:$O,MATCH($B11,Date_unitati!$B:$B,0))),"-") -> 5.65 | I11: =IFERROR(IF(ISBLANK(INDEX(Date_unitati!$P:$P,MATCH($B11,Date_unitati!$B:$B,0))),"-",INDEX(Date_unitati!$P:$P,MATCH($B11,Date_unitati!$B:$B,0))),"-") -> 6.99 | J11: =IFERROR(IF(ISBLANK(INDEX(Date_unitati!$Q:$Q,MATCH($B11,Date_unitati!$B:$B,0))),"-",INDEX(Date_unitati!$Q:$Q,MATCH($B11,Date_unitati!$B:$B,0))),"-") -> 6.1075 | K11: =IFERROR(IF(ISBLANK(INDEX(Date_unitati!$R:$R,MATCH($B11,Date_unitati!$B:$B,0))),"-",INDEX(Date_unitati!$R:$R,MATCH($B11,Date_unitati!$B:$B,0))),"-") -> 7.708 | L11: =IFERROR(IF(OR(ISTEXT(E11),ISTEXT(K11)),"-",ROUND(K11-E11,2)),"-") -> 1.83
A12: 9 | B12: COLEGIUL"CSIKY GERGELY" ARAD | C12: ARAD | D12: URBAN | E12: =IFERROR(IF(ISBLANK(INDEX(Date_unitati!$L:$L,MATCH($B12,Date_unitati!$B:$B,0))),"-",INDEX(Date_unitati!$L:$L,MATCH($B12,Date_unitati!$B:$B,0))),"-") -> 6.0513636 | F12: =IFERROR(IF(ISBLANK(INDEX(Date_unitati!$M:$M,MATCH($B12,Date_unitati!$B:$B,0))),"-",INDEX(Date_unitati!$M:$M,MATCH($B12,Date_unitati!$B:$B,0))),"-") -> 7.2751852 | G12: =IFERROR(IF(ISBLANK(INDEX(Date_unitati!$N:$N,MATCH($B12,Date_unitati!$B:$B,0))),"-",INDEX(Date_unitati!$N:$N,MATCH($B12,Date_unitati!$B:$B,0))),"-") -> 7.2339394 | H12: =IFERROR(IF(ISBLANK(INDEX(Date_unitati!$O:$O,MATCH($B12,Date_unitati!$B:$B,0))),"-",INDEX(Date_unitati!$O:$O,MATCH($B12,Date_unitati!$B:$B,0))),"-") -> 7.5485714 | I12: =IFERROR(IF(ISBLANK(INDEX(Date_unitati!$P:$P,MATCH($B12,Date_unitati!$B:$B,0))),"-",INDEX(Date_unitati!$P:$P,MATCH($B12,Date_unitati!$B:$B,0))),"-") -> 7.6462857 | J12: =IFERROR(IF(ISBLANK(INDEX(Date_unitati!$Q:$Q,MATCH($B12,Date_unitati!$B:$B,0))),"-",INDEX(Date_unitati!$Q:$Q,MATCH($B12,Date_unitati!$B:$B,0))),"-") -> 7.2707143 | K12: =IFERROR(IF(ISBLANK(INDEX(Date_unitati!$R:$R,MATCH($B12,Date_unitati!$B:$B,0))),"-",INDEX(Date_unitati!$R:$R,MATCH($B12,Date_unitati!$B:$B,0))),"-") -> 7.1423529 | L12: =IFERROR(IF(OR(ISTEXT(E12),ISTEXT(K12)),"-",ROUND(K12-E12,2)),"-") -> 1.09
A13: 10 | B13: ŞCOALA GIMNAZIALĂ "VIRGIL IOVĂNAŞ" ŞOFRONEA | C13: ŞOFRONEA | D13: RURAL | E13: =IFERROR(IF(ISBLANK(INDEX(Date_unitati!$L:$L,MATCH($B13,Date_unitati!$B:$B,0))),"-",INDEX(Date_unitati!$L:$L,MATCH($B13,Date_unitati!$B:$B,0))),"-") -> 6.352 | F13: =IFERROR(IF(ISBLANK(INDEX(Date_unitati!$M:$M,MATCH($B13,Date_unitati!$B:$B,0))),"-",INDEX(Date_unitati!$M:$M,MATCH($B13,Date_unitati!$B:$B,0))),"-") -> 5.76 | G13: =IFERROR(IF(ISBLANK(INDEX(Date_unitati!$N:$N,MATCH($B13,Date_unitati!$B:$B,0))),"-",INDEX(Date_unitati!$N:$N,MATCH($B13,Date_unitati!$B:$B,0))),"-") -> 6.5045455 | H13: =IFERROR(IF(ISBLANK(INDEX(Date_unitati!$O:$O,MATCH($B13,Date_unitati!$B:$B,0))),"-",INDEX(Date_unitati!$O:$O,MATCH($B13,Date_unitati!$B:$B,0))),"-") -> 5.5054545 | I13: =IFERROR(IF(ISBLANK(INDEX(Date_unitati!$P:$P,MATCH($B13,Date_unitati!$B:$B,0))),"-",INDEX(Date_unitati!$P:$P,MATCH($B13,Date_unitati!$B:$B,0))),"-") -> 5.691 | J13: =IFERROR(IF(ISBLANK(INDEX(Date_unitati!$Q:$Q,MATCH($B13,Date_unitati!$B:$B,0))),"-",INDEX(Date_unitati!$Q:$Q,MATCH($B13,Date_unitati!$B:$B,0))),"-") -> 6.7715385 | K13: =IFERROR(IF(ISBLANK(INDEX(Date_unitati!$R:$R,MATCH($B13,Date_unitati!$B:$B,0))),"-",INDEX(Date_unitati!$R:$R,MATCH($B13,Date_unitati!$B:$B,0))),"-") -> 7.1328571 | L13: =IFERROR(IF(OR(ISTEXT(E13),ISTEXT(K13)),"-",ROUND(K13-E13,2)),"-") -> 0.78
A14: 11 | B14: ŞCOALA GIMNAZIALĂ HĂŞMAŞ | C14: HĂŞMAŞ | D14: RURAL | E14: =IFERROR(IF(ISBLANK(INDEX(Date_unitati!$L:$L,MATCH($B14,Date_unitati!$B:$B,0))),"-",INDEX(Date_unitati!$L:$L,MATCH($B14,Date_unitati!$B:$B,0))),"-") -> 5.7663636 | F14: =IFERROR(IF(ISBLANK(INDEX(Date_unitati!$M:$M,MATCH($B14,Date_unitati!$B:$B,0))),"-",INDEX(Date_unitati!$M:$M,MATCH($B14,Date_unitati!$B:$B,0))),"-") -> 5.3688889 | G14: =IFERROR(IF(ISBLANK(INDEX(Date_unitati!$N:$N,MATCH($B14,Date_unitati!$B:$B,0))),"-",INDEX(Date_unitati!$N:$N,MATCH($B14,Date_unitati!$B:$B,0))),"-") -> 5.7918182 | H14: =IFERROR(IF(ISBLANK(INDEX(Date_unitati!$O:$O,MATCH($B14,Date_unitati!$B:$B,0))),"-",INDEX(Date_unitati!$O:$O,MATCH($B14,Date_unitati!$B:$B,0))),"-") -> 4.5835294 | I14: =IFERROR(IF(ISBLANK(INDEX(Date_unitati!$P:$P,MATCH($B14,Date_unitati!$B:$B,0))),"-",INDEX(Date_unitati!$P:$P,MATCH($B14,Date_unitati!$B:$B,0))),"-") -> 4.822 | J14: =IFERROR(IF(ISBLANK(INDEX(Date_unitati!$Q:$Q,MATCH($B14,Date_unitati!$B:$B,0))),"-",INDEX(Date_unitati!$Q:$Q,MATCH($B14,Date_unitati!$B:$B,0))),"-") -> 5.68625 | K14: =IFERROR(IF(ISBLANK(INDEX(Date_unitati!$R:$R,MATCH($B14,Date_unitati!$B:$B,0))),"-",INDEX(Date_unitati!$R:$R,MATCH($B14,Date_unitati!$B:$B,0))),"-") -> 7.13 | L14: =IFERROR(IF(OR(ISTEXT(E14),ISTEXT(K14)),"-",ROUND(K14-E14,2)),"-") -> 1.36
A15: 12 | B15: COLEGIUL NAŢIONAL "ELENA GHIBA BIRTA" ARAD | C15: ARAD | D15: URBAN | E15: =IFERROR(IF(ISBLANK(INDEX(Date_unitati!$L:$L,MATCH($B15,Date_unitati!$B:$B,0))),"-",INDEX(Date_unitati!$L:$L,MATCH($B15,Date_unitati!$B:$B,0))),"-") -> 7.878254 | F15: =IFERROR(IF(ISBLANK(INDEX(Date_unitati!$M:$M,MATCH($B15,Date_unitati!$B:$B,0))),"-",INDEX(Date_unitati!$M:$M,MATCH($B15,Date_unitati!$B:$B,0))),"-") -> 7.0527027 | G15: =IFERROR(IF(ISBLANK(INDEX(Date_unitati!$N:$N,MATCH($B15,Date_unitati!$B:$B,0))),"-",INDEX(Date_unitati!$N:$N,MATCH($B15,Date_unitati!$B:$B,0))),"-") -> 7.61 | H15: =IFERROR(IF(ISBLANK(INDEX(Date_unitati!$O:$O,MATCH($B15,Date_unitati!$B:$B,0))),"-",INDEX(Date_unitati!$O:$O,MATCH($B15,Date_unitati!$B:$B,0))),"-") -> 6.828 | I15: =IFERROR(IF(ISBLANK(INDEX(Date_unitati!$P:$P,MATCH($B15,Date_unitati!$B:$B,0))),"-",INDEX(Date_unitati!$P:$P,MATCH($B15,Date_unitati!$B:$B,0))),"-") -> 7.1656667 | J15: =IFERROR(IF(ISBLANK(INDEX(Date_unitati!$Q:$Q,MATCH($B15,Date_unitati!$B:$B,0))),"-",INDEX(Date_unitati!$Q:$Q,MATCH($B15,Date_unitati!$B:$B,0))),"-") -> 7.6531915 | K15: =IFERROR(IF(ISBLANK(INDEX(Date_unitati!$R:$R,MATCH($B15,Date_unitati!$B:$B,0))),"-",INDEX(Date_unitati!$R:$R,MATCH($B15,Date_unitati!$B:$B,0))),"-") -> 7.0179545 | L15: =IFERROR(IF(OR(ISTEXT(E15),ISTEXT(K15)),"-",ROUND(K15-E15,2)),"-") -> -0.86
